{"text_format":"1","workbook":"xlsx","n_sheets":16,"sheets":["General","DF","CF","BF PARA","BF","AF","JF","DM","CM","BM","AM","JM","Team","Points team et quota finales","Overview","Teams flat"],"not_rendered":{"charts":0,"images":0,"macros":1,"external_links":0,"defined_names":1,"comments":0,"pivot_tables":0},"unopened":[],"bounds":{"document_bytes":16777216,"sheet_cells":100000,"rows_first":2000,"rows_last":500,"rows_between":2000,"halvings":0,"cell_chars":16384,"cell_head_chars":4096},"cells_cut":0,"cells_raw":0,"read":"whole","date_system":"1900"}

{"sheet":"General","index":0,"n_rows":6,"n_cols":2,"rows_kept":6,"cut":false,"hidden":false,"merged":[]}
[]
["TODO: enter the correct values in column 'B'."]
[]
["Key","Value"]
["Contest name","Youth Lead Championship 09-03-2013"]
["President name","Lieven Vlassenroot"]

{"sheet":"DF","index":1,"n_rows":111,"n_cols":24,"rows_kept":111,"cut":false,"hidden":false,"merged":[[1,0,1,22],[4,4,4,7],[4,9,4,12],[4,15,4,17],[4,18,4,20]]}
[]
[{"$f":"CONCATENATE(General!$B$5,\"  -  RESULTS D Female\")","v":"Youth Lead Championship 09-03-2013  -  RESULTS D Female"}]
[]
[]
["RANK","Nr","Name","Team","Route 1",null,null,null,"Ranking Points Route 1","Route 2",null,null,null,"Ranking Points Route 2","Root R1 x R2 ","Final ",null,null,"Super Final",null,null,"base pour calcul rang","RANK","Team points"]
[{"$f":"RANK(V6,$V$6:$V$105)","v":1},"DF04","DELCOIGNE Lucie","CC","TOP",null,{"$f":"IF(E6=\"TOP\",$F$108,IF(F6=\"-\",E6-0.01,IF(F6=\"+\",E6+0.01,E6)))","v":28},{"$f":"RANK(G6,$G$6:$G$105)","v":1},{"$f":"IF(COUNTIF($H$6:$H$105,H6)=1,H6,(H6*2+COUNTIF($H$6:$H$105,H6)-1)/2)","v":6.5},"TOP",null,{"$f":"IF(J6=\"TOP\",$K$108,IF(K6=\"-\",J6-0.01,IF(K6=\"+\",J6+0.01,J6)))","v":30},{"$f":"RANK(L6,$L$6:$L$105)","v":1},{"$f":"IF(COUNTIF($M$6:$M$105,M6)=1,M6,(M6*2+COUNTIF($M$6:$M$105,M6)-1)/2)","v":1.5},{"$f":"SQRT(I6*N6)","v":3.1224989991991992},"TOP",null,{"$f":"IF(P6=\"TOP\",$Q$108,IF(Q6=\"-\",P6-0.01,IF(Q6=\"+\",P6+0.01,P6)))","v":31},null,null,{"$f":"IF($S6=\"TOP\",$T$108,IF($T6=\"-\",$S6-0.01,IF($T6=\"+\",$S6+0.01,$S6)))","v":0},{"$f":"IF(U6<>0,U6*1000+R6*100+1/O6,IF(R6<>0,R6*100+1/O6,1/O6))","v":3100.3202563076102},{"$f":"A6","v":1},{"$f":"IF(W6<31,AVERAGE(OFFSET(INDEX('Points team et quota finales'!$C$5:$C$34,W6),0,0,COUNTIF($W$6:$W$105,W6))),0)","v":100}]
[{"$f":"RANK(V7,$V$6:$V$105)","v":2},"DF09","TILBORGHS Charlène","KLI","TOP",null,28,1,6.5,27,"+",27.01,3,3,4.4158804331639239,"TOP",null,31,null,null,0,3100.2264554068288,2,{"$f":"IF(W7<31,AVERAGE(OFFSET(INDEX('Points team et quota finales'!$C$5:$C$34,W7),0,0,COUNTIF($W$6:$W$105,W7))),0)","v":80}]
[3,"DF05","VANDERSTRAETEN Justine","CC","TOP",null,28,1,6.5,26,"+",26.01,4,4.5,5.4083269131959844,"TOP",null,31,null,null,0,3100.1849000654083,3,{"$f":"IF(W8<31,AVERAGE(OFFSET(INDEX('Points team et quota finales'!$C$5:$C$34,W8),0,0,COUNTIF($W$6:$W$105,W8))),0)","v":65}]
[4,"DF08","WATILLON Lucie","REJ","TOP",null,28,1,6.5,"TOP",null,30,1,1.5,3.1224989991991992,30,"+",30.01,null,null,0,3001.3202563076102,4,{"$f":"IF(W9<31,AVERAGE(OFFSET(INDEX('Points team et quota finales'!$C$5:$C$34,W9),0,0,COUNTIF($W$6:$W$105,W9))),0)","v":55}]
[5,"DF06","DE WIT Camille","HUN","TOP",null,28,1,6.5,26,null,26,6,7,6.7453687816160208,22,"+",22.01,null,null,0,2201.1482498633322,5,{"$f":"IF(W10<31,AVERAGE(OFFSET(INDEX('Points team et quota finales'!$C$5:$C$34,W10),0,0,COUNTIF($W$6:$W$105,W10))),0)","v":51}]
[6,"DF03","SCHLIT Chloe","REJ","TOP",null,28,1,6.5,26,null,26,6,7,6.7453687816160208,20,"+",20.010000000000002,null,null,0,2001.1482498633325,6,{"$f":"IF(W11<31,AVERAGE(OFFSET(INDEX('Points team et quota finales'!$C$5:$C$34,W11),0,0,COUNTIF($W$6:$W$105,W11))),0)","v":47}]
[7,"DF01","BOURGOIN Laetitia","ECT","TOP",null,28,1,6.5,26,null,26,6,7,6.7453687816160208,18,"+",18.010000000000002,null,null,0,1801.1482498633325,7,{"$f":"IF(W12<31,AVERAGE(OFFSET(INDEX('Points team et quota finales'!$C$5:$C$34,W12),0,0,COUNTIF($W$6:$W$105,W12))),0)","v":43}]
[8,"DF07","CAPELLE Marie","BMC","TOP",null,28,1,6.5,26,"+",26.01,4,4.5,5.4083269131959844,17,"+",17.010000000000002,null,null,0,1701.1849000654086,8,{"$f":"IF(W13<31,AVERAGE(OFFSET(INDEX('Points team et quota finales'!$C$5:$C$34,W13),0,0,COUNTIF($W$6:$W$105,W13))),0)","v":40}]
[9,"DF10","DE LEUS Siri","ECT","TOP",null,28,1,6.5,24.5,null,24.5,9,9,7.6485292703891776,null,null,0,null,null,0,0.13074409009212268,9,{"$f":"IF(W14<31,AVERAGE(OFFSET(INDEX('Points team et quota finales'!$C$5:$C$34,W14),0,0,COUNTIF($W$6:$W$105,W14))),0)","v":37}]
[10,"DF11","REYNIERS Rafflesia","KLI","TOP",null,28,1,6.5,24,"+",24.01,10,10,8.0622577482985491,null,null,0,null,null,0,0.12403473458920847,10,{"$f":"IF(W15<31,AVERAGE(OFFSET(INDEX('Points team et quota finales'!$C$5:$C$34,W15),0,0,COUNTIF($W$6:$W$105,W15))),0)","v":34}]
[11,"DF02","CRAENEN Elise","HUN","TOP",null,28,1,6.5,24,null,24,11,11,8.4557672626438816,null,null,0,null,null,0,0.11826247919781652,11,{"$f":"IF(W16<31,AVERAGE(OFFSET(INDEX('Points team et quota finales'!$C$5:$C$34,W16),0,0,COUNTIF($W$6:$W$105,W16))),0)","v":31}]
[12,"DF12","OURY Pauline","ESC","TOP",null,28,1,6.5,21,null,21,12,12,8.8317608663278477,null,null,0,null,null,0,0.11322770341445956,12,{"$f":"IF(W17<31,AVERAGE(OFFSET(INDEX('Points team et quota finales'!$C$5:$C$34,W17),0,0,COUNTIF($W$6:$W$105,W17))),0)","v":28}]
[13,null,null,null,null,null,{"$f":"IF(E18=\"TOP\",$F$108,IF(F18=\"-\",E18-0.01,IF(F18=\"+\",E18+0.01,E18)))","v":0},{"$f":"RANK(G18,$G$6:$G$105)","v":13},{"$f":"IF(COUNTIF($H$6:$H$105,H18)=1,H18,(H18*2+COUNTIF($H$6:$H$105,H18)-1)/2)","v":56.5},null,null,{"$f":"IF(J18=\"TOP\",$K$108,IF(K18=\"-\",J18-0.01,IF(K18=\"+\",J18+0.01,J18)))","v":0},{"$f":"RANK(L18,$L$6:$L$105)","v":13},{"$f":"IF(COUNTIF($M$6:$M$105,M18)=1,M18,(M18*2+COUNTIF($M$6:$M$105,M18)-1)/2)","v":56.5},{"$f":"SQRT(I18*N18)","v":56.5},null,null,{"$f":"IF(P18=\"TOP\",$Q$108,IF(Q18=\"-\",P18-0.01,IF(Q18=\"+\",P18+0.01,P18)))","v":0},null,null,{"$f":"IF($S18=\"TOP\",$T$108,IF($T18=\"-\",$S18-0.01,IF($T18=\"+\",$S18+0.01,$S18)))","v":0},{"$f":"IF(U18<>0,U18*1000+R18*100+1/O18,IF(R18<>0,R18*100+1/O18,1/O18))","v":1.7699115044247787E-2},13,{"$f":"IF(W18<31,AVERAGE(OFFSET(INDEX('Points team et quota finales'!$C$5:$C$34,W18),0,0,COUNTIF($W$6:$W$105,W18))),0)","v":11.5}]
[13,null,null,null,null,null,0,13,56.5,null,null,0,13,56.5,56.5,null,null,0,null,null,0,1.7699115044247787E-2,13,{"$f":"IF(W19<31,AVERAGE(OFFSET(INDEX('Points team et quota finales'!$C$5:$C$34,W19),0,0,COUNTIF($W$6:$W$105,W19))),0)","v":11.5}]
[13,null,null,null,null,null,0,13,56.5,null,null,0,13,56.5,56.5,null,null,0,null,null,0,1.7699115044247787E-2,13,{"$f":"IF(W20<31,AVERAGE(OFFSET(INDEX('Points team et quota finales'!$C$5:$C$34,W20),0,0,COUNTIF($W$6:$W$105,W20))),0)","v":11.5}]
[13,null,null,null,null,null,0,13,56.5,null,null,0,13,56.5,56.5,null,null,0,null,null,0,1.7699115044247787E-2,13,{"$f":"IF(W21<31,AVERAGE(OFFSET(INDEX('Points team et quota finales'!$C$5:$C$34,W21),0,0,COUNTIF($W$6:$W$105,W21))),0)","v":11.5}]
[13,null,null,null,null,null,0,13,56.5,null,null,0,13,56.5,56.5,null,null,0,null,null,0,1.7699115044247787E-2,13,{"$f":"IF(W22<31,AVERAGE(OFFSET(INDEX('Points team et quota finales'!$C$5:$C$34,W22),0,0,COUNTIF($W$6:$W$105,W22))),0)","v":11.5}]
[13,null,null,null,null,null,0,13,56.5,null,null,0,13,56.5,56.5,null,null,0,null,null,0,1.7699115044247787E-2,13,{"$f":"IF(W23<31,AVERAGE(OFFSET(INDEX('Points team et quota finales'!$C$5:$C$34,W23),0,0,COUNTIF($W$6:$W$105,W23))),0)","v":11.5}]
[13,null,null,null,null,null,0,13,56.5,null,null,0,13,56.5,56.5,null,null,0,null,null,0,1.7699115044247787E-2,13,{"$f":"IF(W24<31,AVERAGE(OFFSET(INDEX('Points team et quota finales'!$C$5:$C$34,W24),0,0,COUNTIF($W$6:$W$105,W24))),0)","v":11.5}]
[13,null,null,null,null,null,0,13,56.5,null,null,0,13,56.5,56.5,null,null,0,null,null,0,1.7699115044247787E-2,13,{"$f":"IF(W25<31,AVERAGE(OFFSET(INDEX('Points team et quota finales'!$C$5:$C$34,W25),0,0,COUNTIF($W$6:$W$105,W25))),0)","v":11.5}]
[13,null,null,null,null,null,0,13,56.5,null,null,0,13,56.5,56.5,null,null,0,null,null,0,1.7699115044247787E-2,13,{"$f":"IF(W26<31,AVERAGE(OFFSET(INDEX('Points team et quota finales'!$C$5:$C$34,W26),0,0,COUNTIF($W$6:$W$105,W26))),0)","v":11.5}]
[13,null,null,null,null,null,0,13,56.5,null,null,0,13,56.5,56.5,null,null,0,null,null,0,1.7699115044247787E-2,13,{"$f":"IF(W27<31,AVERAGE(OFFSET(INDEX('Points team et quota finales'!$C$5:$C$34,W27),0,0,COUNTIF($W$6:$W$105,W27))),0)","v":11.5}]
[13,null,null,null,null,null,0,13,56.5,null,null,0,13,56.5,56.5,null,null,0,null,null,0,1.7699115044247787E-2,13,{"$f":"IF(W28<31,AVERAGE(OFFSET(INDEX('Points team et quota finales'!$C$5:$C$34,W28),0,0,COUNTIF($W$6:$W$105,W28))),0)","v":11.5}]
[13,null,null,null,null,null,0,13,56.5,null,null,0,13,56.5,56.5,null,null,0,null,null,0,1.7699115044247787E-2,13,{"$f":"IF(W29<31,AVERAGE(OFFSET(INDEX('Points team et quota finales'!$C$5:$C$34,W29),0,0,COUNTIF($W$6:$W$105,W29))),0)","v":11.5}]
[13,null,null,null,null,null,0,13,56.5,null,null,0,13,56.5,56.5,null,null,0,null,null,0,1.7699115044247787E-2,13,{"$f":"IF(W30<31,AVERAGE(OFFSET(INDEX('Points team et quota finales'!$C$5:$C$34,W30),0,0,COUNTIF($W$6:$W$105,W30))),0)","v":11.5}]
[13,null,null,null,null,null,0,13,56.5,null,null,0,13,56.5,56.5,null,null,0,null,null,0,1.7699115044247787E-2,13,{"$f":"IF(W31<31,AVERAGE(OFFSET(INDEX('Points team et quota finales'!$C$5:$C$34,W31),0,0,COUNTIF($W$6:$W$105,W31))),0)","v":11.5}]
[13,null,null,null,null,null,0,13,56.5,null,null,0,13,56.5,56.5,null,null,0,null,null,0,1.7699115044247787E-2,13,{"$f":"IF(W32<31,AVERAGE(OFFSET(INDEX('Points team et quota finales'!$C$5:$C$34,W32),0,0,COUNTIF($W$6:$W$105,W32))),0)","v":11.5}]
[13,null,null,null,null,null,0,13,56.5,null,null,0,13,56.5,56.5,null,null,0,null,null,0,1.7699115044247787E-2,13,{"$f":"IF(W33<31,AVERAGE(OFFSET(INDEX('Points team et quota finales'!$C$5:$C$34,W33),0,0,COUNTIF($W$6:$W$105,W33))),0)","v":11.5}]
[13,null,null,null,null,null,0,13,56.5,null,null,0,13,56.5,56.5,null,null,0,null,null,0,1.7699115044247787E-2,13,{"$f":"IF(W34<31,AVERAGE(OFFSET(INDEX('Points team et quota finales'!$C$5:$C$34,W34),0,0,COUNTIF($W$6:$W$105,W34))),0)","v":11.5}]
[13,null,null,null,null,null,0,13,56.5,null,null,0,13,56.5,56.5,null,null,0,null,null,0,1.7699115044247787E-2,13,{"$f":"IF(W35<31,AVERAGE(OFFSET(INDEX('Points team et quota finales'!$C$5:$C$34,W35),0,0,COUNTIF($W$6:$W$105,W35))),0)","v":11.5}]
[13,null,null,null,null,null,0,13,56.5,null,null,0,13,56.5,56.5,null,null,0,null,null,0,1.7699115044247787E-2,13,{"$f":"IF(W36<31,AVERAGE(OFFSET(INDEX('Points team et quota finales'!$C$5:$C$34,W36),0,0,COUNTIF($W$6:$W$105,W36))),0)","v":11.5}]
[13,null,null,null,null,null,0,13,56.5,null,null,0,13,56.5,56.5,null,null,0,null,null,0,1.7699115044247787E-2,13,{"$f":"IF(W37<31,AVERAGE(OFFSET(INDEX('Points team et quota finales'!$C$5:$C$34,W37),0,0,COUNTIF($W$6:$W$105,W37))),0)","v":11.5}]
[13,null,null,null,null,null,{"$f":"IF(E38=\"TOP\",$F$108,IF(F38=\"-\",E38-0.01,IF(F38=\"+\",E38+0.01,E38)))","v":0},{"$f":"RANK(G38,$G$6:$G$105)","v":13},{"$f":"IF(COUNTIF($H$6:$H$105,H38)=1,H38,(H38*2+COUNTIF($H$6:$H$105,H38)-1)/2)","v":56.5},null,null,{"$f":"IF(J38=\"TOP\",$K$108,IF(K38=\"-\",J38-0.01,IF(K38=\"+\",J38+0.01,J38)))","v":0},{"$f":"RANK(L38,$L$6:$L$105)","v":13},{"$f":"IF(COUNTIF($M$6:$M$105,M38)=1,M38,(M38*2+COUNTIF($M$6:$M$105,M38)-1)/2)","v":56.5},{"$f":"SQRT(I38*N38)","v":56.5},null,null,{"$f":"IF(P38=\"TOP\",$Q$108,IF(Q38=\"-\",P38-0.01,IF(Q38=\"+\",P38+0.01,P38)))","v":0},null,null,{"$f":"IF($S38=\"TOP\",$T$108,IF($T38=\"-\",$S38-0.01,IF($T38=\"+\",$S38+0.01,$S38)))","v":0},{"$f":"IF(U38<>0,U38*1000+R38*100+1/O38,IF(R38<>0,R38*100+1/O38,1/O38))","v":1.7699115044247787E-2},13,{"$f":"IF(W38<31,AVERAGE(OFFSET(INDEX('Points team et quota finales'!$C$5:$C$34,W38),0,0,COUNTIF($W$6:$W$105,W38))),0)","v":11.5}]
[13,null,null,null,null,null,0,13,56.5,null,null,0,13,56.5,56.5,null,null,0,null,null,0,1.7699115044247787E-2,13,{"$f":"IF(W39<31,AVERAGE(OFFSET(INDEX('Points team et quota finales'!$C$5:$C$34,W39),0,0,COUNTIF($W$6:$W$105,W39))),0)","v":11.5}]
[13,null,null,null,null,null,0,13,56.5,null,null,0,13,56.5,56.5,null,null,0,null,null,0,1.7699115044247787E-2,13,{"$f":"IF(W40<31,AVERAGE(OFFSET(INDEX('Points team et quota finales'!$C$5:$C$34,W40),0,0,COUNTIF($W$6:$W$105,W40))),0)","v":11.5}]
[13,null,null,null,null,null,0,13,56.5,null,null,0,13,56.5,56.5,null,null,0,null,null,0,1.7699115044247787E-2,13,{"$f":"IF(W41<31,AVERAGE(OFFSET(INDEX('Points team et quota finales'!$C$5:$C$34,W41),0,0,COUNTIF($W$6:$W$105,W41))),0)","v":11.5}]
[13,null,null,null,null,null,0,13,56.5,null,null,0,13,56.5,56.5,null,null,0,null,null,0,1.7699115044247787E-2,13,{"$f":"IF(W42<31,AVERAGE(OFFSET(INDEX('Points team et quota finales'!$C$5:$C$34,W42),0,0,COUNTIF($W$6:$W$105,W42))),0)","v":11.5}]
[13,null,null,null,null,null,0,13,56.5,null,null,0,13,56.5,56.5,null,null,0,null,null,0,1.7699115044247787E-2,13,{"$f":"IF(W43<31,AVERAGE(OFFSET(INDEX('Points team et quota finales'!$C$5:$C$34,W43),0,0,COUNTIF($W$6:$W$105,W43))),0)","v":11.5}]
[13,null,null,null,null,null,0,13,56.5,null,null,0,13,56.5,56.5,null,null,0,null,null,0,1.7699115044247787E-2,13,{"$f":"IF(W44<31,AVERAGE(OFFSET(INDEX('Points team et quota finales'!$C$5:$C$34,W44),0,0,COUNTIF($W$6:$W$105,W44))),0)","v":11.5}]
[13,null,null,null,null,null,0,13,56.5,null,null,0,13,56.5,56.5,null,null,0,null,null,0,1.7699115044247787E-2,13,{"$f":"IF(W45<31,AVERAGE(OFFSET(INDEX('Points team et quota finales'!$C$5:$C$34,W45),0,0,COUNTIF($W$6:$W$105,W45))),0)","v":11.5}]
[13,null,null,null,null,null,0,13,56.5,null,null,0,13,56.5,56.5,null,null,0,null,null,0,1.7699115044247787E-2,13,{"$f":"IF(W46<31,AVERAGE(OFFSET(INDEX('Points team et quota finales'!$C$5:$C$34,W46),0,0,COUNTIF($W$6:$W$105,W46))),0)","v":11.5}]
[13,null,null,null,null,null,0,13,56.5,null,null,0,13,56.5,56.5,null,null,0,null,null,0,1.7699115044247787E-2,13,{"$f":"IF(W47<31,AVERAGE(OFFSET(INDEX('Points team et quota finales'!$C$5:$C$34,W47),0,0,COUNTIF($W$6:$W$105,W47))),0)","v":11.5}]
[13,null,null,null,null,null,0,13,56.5,null,null,0,13,56.5,56.5,null,null,0,null,null,0,1.7699115044247787E-2,{"$f":"A48","v":13},{"$f":"IF(W48<31,AVERAGE(OFFSET(INDEX('Points team et quota finales'!$C$5:$C$34,W48),0,0,COUNTIF($W$6:$W$105,W48))),0)","v":11.5}]
[13,null,null,null,null,null,0,13,56.5,null,null,0,13,56.5,56.5,null,null,0,null,null,0,1.7699115044247787E-2,13,{"$f":"IF(W49<31,AVERAGE(OFFSET(INDEX('Points team et quota finales'!$C$5:$C$34,W49),0,0,COUNTIF($W$6:$W$105,W49))),0)","v":11.5}]
[13,null,null,null,null,null,0,13,56.5,null,null,0,13,56.5,56.5,null,null,0,null,null,0,1.7699115044247787E-2,13,{"$f":"IF(W50<31,AVERAGE(OFFSET(INDEX('Points team et quota finales'!$C$5:$C$34,W50),0,0,COUNTIF($W$6:$W$105,W50))),0)","v":11.5}]
[13,null,null,null,null,null,0,13,56.5,null,null,0,13,56.5,56.5,null,null,0,null,null,0,1.7699115044247787E-2,13,{"$f":"IF(W51<31,AVERAGE(OFFSET(INDEX('Points team et quota finales'!$C$5:$C$34,W51),0,0,COUNTIF($W$6:$W$105,W51))),0)","v":11.5}]
[13,null,null,null,null,null,0,13,56.5,null,null,0,13,56.5,56.5,null,null,0,null,null,0,1.7699115044247787E-2,13,{"$f":"IF(W52<31,AVERAGE(OFFSET(INDEX('Points team et quota finales'!$C$5:$C$34,W52),0,0,COUNTIF($W$6:$W$105,W52))),0)","v":11.5}]
[13,null,null,null,null,null,0,13,56.5,null,null,0,13,56.5,56.5,null,null,0,null,null,0,1.7699115044247787E-2,13,{"$f":"IF(W53<31,AVERAGE(OFFSET(INDEX('Points team et quota finales'!$C$5:$C$34,W53),0,0,COUNTIF($W$6:$W$105,W53))),0)","v":11.5}]
[13,null,null,null,null,null,0,13,56.5,null,null,0,13,56.5,56.5,null,null,0,null,null,0,1.7699115044247787E-2,13,{"$f":"IF(W54<31,AVERAGE(OFFSET(INDEX('Points team et quota finales'!$C$5:$C$34,W54),0,0,COUNTIF($W$6:$W$105,W54))),0)","v":11.5}]
[13,null,null,null,null,null,0,13,56.5,null,null,0,13,56.5,56.5,null,null,0,null,null,0,1.7699115044247787E-2,13,{"$f":"IF(W55<31,AVERAGE(OFFSET(INDEX('Points team et quota finales'!$C$5:$C$34,W55),0,0,COUNTIF($W$6:$W$105,W55))),0)","v":11.5}]
[13,null,null,null,null,null,0,13,56.5,null,null,0,13,56.5,56.5,null,null,0,null,null,0,1.7699115044247787E-2,13,{"$f":"IF(W56<31,AVERAGE(OFFSET(INDEX('Points team et quota finales'!$C$5:$C$34,W56),0,0,COUNTIF($W$6:$W$105,W56))),0)","v":11.5}]
[13,null,null,null,null,null,0,13,56.5,null,null,0,13,56.5,56.5,null,null,0,null,null,0,1.7699115044247787E-2,13,{"$f":"IF(W57<31,AVERAGE(OFFSET(INDEX('Points team et quota finales'!$C$5:$C$34,W57),0,0,COUNTIF($W$6:$W$105,W57))),0)","v":11.5}]
[13,null,null,null,null,null,0,13,56.5,null,null,0,13,56.5,56.5,null,null,0,null,null,0,1.7699115044247787E-2,13,{"$f":"IF(W58<31,AVERAGE(OFFSET(INDEX('Points team et quota finales'!$C$5:$C$34,W58),0,0,COUNTIF($W$6:$W$105,W58))),0)","v":11.5}]
[13,null,null,null,null,null,0,13,56.5,null,null,0,13,56.5,56.5,null,null,0,null,null,0,1.7699115044247787E-2,13,{"$f":"IF(W59<31,AVERAGE(OFFSET(INDEX('Points team et quota finales'!$C$5:$C$34,W59),0,0,COUNTIF($W$6:$W$105,W59))),0)","v":11.5}]
[13,null,null,null,null,null,0,13,56.5,null,null,0,13,56.5,56.5,null,null,0,null,null,0,1.7699115044247787E-2,13,{"$f":"IF(W60<31,AVERAGE(OFFSET(INDEX('Points team et quota finales'!$C$5:$C$34,W60),0,0,COUNTIF($W$6:$W$105,W60))),0)","v":11.5}]
[13,null,null,null,null,null,0,13,56.5,null,null,0,13,56.5,56.5,null,null,0,null,null,0,1.7699115044247787E-2,13,{"$f":"IF(W61<31,AVERAGE(OFFSET(INDEX('Points team et quota finales'!$C$5:$C$34,W61),0,0,COUNTIF($W$6:$W$105,W61))),0)","v":11.5}]
[13,null,null,null,null,null,0,13,56.5,null,null,0,13,56.5,56.5,null,null,0,null,null,0,1.7699115044247787E-2,13,{"$f":"IF(W62<31,AVERAGE(OFFSET(INDEX('Points team et quota finales'!$C$5:$C$34,W62),0,0,COUNTIF($W$6:$W$105,W62))),0)","v":11.5}]
[13,null,null,null,null,null,0,13,56.5,null,null,0,13,56.5,56.5,null,null,0,null,null,0,1.7699115044247787E-2,13,{"$f":"IF(W63<31,AVERAGE(OFFSET(INDEX('Points team et quota finales'!$C$5:$C$34,W63),0,0,COUNTIF($W$6:$W$105,W63))),0)","v":11.5}]
[13,null,null,null,null,null,0,13,56.5,null,null,0,13,56.5,56.5,null,null,0,null,null,0,1.7699115044247787E-2,13,{"$f":"IF(W64<31,AVERAGE(OFFSET(INDEX('Points team et quota finales'!$C$5:$C$34,W64),0,0,COUNTIF($W$6:$W$105,W64))),0)","v":11.5}]
[13,null,null,null,null,null,0,13,56.5,null,null,0,13,56.5,56.5,null,null,0,null,null,0,1.7699115044247787E-2,13,{"$f":"IF(W65<31,AVERAGE(OFFSET(INDEX('Points team et quota finales'!$C$5:$C$34,W65),0,0,COUNTIF($W$6:$W$105,W65))),0)","v":11.5}]
[13,null,null,null,null,null,0,13,56.5,null,null,0,13,56.5,56.5,null,null,0,null,null,0,1.7699115044247787E-2,13,{"$f":"IF(W66<31,AVERAGE(OFFSET(INDEX('Points team et quota finales'!$C$5:$C$34,W66),0,0,COUNTIF($W$6:$W$105,W66))),0)","v":11.5}]
[13,null,null,null,null,null,0,13,56.5,null,null,0,13,56.5,56.5,null,null,0,null,null,0,1.7699115044247787E-2,13,{"$f":"IF(W67<31,AVERAGE(OFFSET(INDEX('Points team et quota finales'!$C$5:$C$34,W67),0,0,COUNTIF($W$6:$W$105,W67))),0)","v":11.5}]
[13,null,null,null,null,null,0,13,56.5,null,null,0,13,56.5,56.5,null,null,0,null,null,0,1.7699115044247787E-2,13,{"$f":"IF(W68<31,AVERAGE(OFFSET(INDEX('Points team et quota finales'!$C$5:$C$34,W68),0,0,COUNTIF($W$6:$W$105,W68))),0)","v":11.5}]
[13,null,null,null,null,null,0,13,56.5,null,null,0,13,56.5,56.5,null,null,0,null,null,0,1.7699115044247787E-2,13,{"$f":"IF(W69<31,AVERAGE(OFFSET(INDEX('Points team et quota finales'!$C$5:$C$34,W69),0,0,COUNTIF($W$6:$W$105,W69))),0)","v":11.5}]
[13,null,null,null,null,null,{"$f":"IF(E70=\"TOP\",$F$108,IF(F70=\"-\",E70-0.01,IF(F70=\"+\",E70+0.01,E70)))","v":0},{"$f":"RANK(G70,$G$6:$G$105)","v":13},{"$f":"IF(COUNTIF($H$6:$H$105,H70)=1,H70,(H70*2+COUNTIF($H$6:$H$105,H70)-1)/2)","v":56.5},null,null,{"$f":"IF(J70=\"TOP\",$K$108,IF(K70=\"-\",J70-0.01,IF(K70=\"+\",J70+0.01,J70)))","v":0},{"$f":"RANK(L70,$L$6:$L$105)","v":13},{"$f":"IF(COUNTIF($M$6:$M$105,M70)=1,M70,(M70*2+COUNTIF($M$6:$M$105,M70)-1)/2)","v":56.5},{"$f":"SQRT(I70*N70)","v":56.5},null,null,{"$f":"IF(P70=\"TOP\",$Q$108,IF(Q70=\"-\",P70-0.01,IF(Q70=\"+\",P70+0.01,P70)))","v":0},null,null,{"$f":"IF($S70=\"TOP\",$T$108,IF($T70=\"-\",$S70-0.01,IF($T70=\"+\",$S70+0.01,$S70)))","v":0},{"$f":"IF(U70<>0,U70*1000+R70*100+1/O70,IF(R70<>0,R70*100+1/O70,1/O70))","v":1.7699115044247787E-2},{"$f":"A70","v":13},{"$f":"IF(W70<31,AVERAGE(OFFSET(INDEX('Points team et quota finales'!$C$5:$C$34,W70),0,0,COUNTIF($W$6:$W$105,W70))),0)","v":11.5}]
[{"$f":"RANK(V71,$V$6:$V$105)","v":13},null,null,null,null,null,0,13,56.5,null,null,0,13,56.5,56.5,null,null,0,null,null,0,1.7699115044247787E-2,13,{"$f":"IF(W71<31,AVERAGE(OFFSET(INDEX('Points team et quota finales'!$C$5:$C$34,W71),0,0,COUNTIF($W$6:$W$105,W71))),0)","v":11.5}]
[13,null,null,null,null,null,0,13,56.5,null,null,0,13,56.5,56.5,null,null,0,null,null,0,1.7699115044247787E-2,13,{"$f":"IF(W72<31,AVERAGE(OFFSET(INDEX('Points team et quota finales'!$C$5:$C$34,W72),0,0,COUNTIF($W$6:$W$105,W72))),0)","v":11.5}]
[13,null,null,null,null,null,0,13,56.5,null,null,0,13,56.5,56.5,null,null,0,null,null,0,1.7699115044247787E-2,13,{"$f":"IF(W73<31,AVERAGE(OFFSET(INDEX('Points team et quota finales'!$C$5:$C$34,W73),0,0,COUNTIF($W$6:$W$105,W73))),0)","v":11.5}]
[13,null,null,null,null,null,0,13,56.5,null,null,0,13,56.5,56.5,null,null,0,null,null,0,1.7699115044247787E-2,13,{"$f":"IF(W74<31,AVERAGE(OFFSET(INDEX('Points team et quota finales'!$C$5:$C$34,W74),0,0,COUNTIF($W$6:$W$105,W74))),0)","v":11.5}]
[13,null,null,null,null,null,0,13,56.5,null,null,0,13,56.5,56.5,null,null,0,null,null,0,1.7699115044247787E-2,13,{"$f":"IF(W75<31,AVERAGE(OFFSET(INDEX('Points team et quota finales'!$C$5:$C$34,W75),0,0,COUNTIF($W$6:$W$105,W75))),0)","v":11.5}]
[13,null,null,null,null,null,0,13,56.5,null,null,0,13,56.5,56.5,null,null,0,null,null,0,1.7699115044247787E-2,13,{"$f":"IF(W76<31,AVERAGE(OFFSET(INDEX('Points team et quota finales'!$C$5:$C$34,W76),0,0,COUNTIF($W$6:$W$105,W76))),0)","v":11.5}]
[13,null,null,null,null,null,0,13,56.5,null,null,0,13,56.5,56.5,null,null,0,null,null,0,1.7699115044247787E-2,13,{"$f":"IF(W77<31,AVERAGE(OFFSET(INDEX('Points team et quota finales'!$C$5:$C$34,W77),0,0,COUNTIF($W$6:$W$105,W77))),0)","v":11.5}]
[13,null,null,null,null,null,0,13,56.5,null,null,0,13,56.5,56.5,null,null,0,null,null,0,1.7699115044247787E-2,13,{"$f":"IF(W78<31,AVERAGE(OFFSET(INDEX('Points team et quota finales'!$C$5:$C$34,W78),0,0,COUNTIF($W$6:$W$105,W78))),0)","v":11.5}]
[13,null,null,null,null,null,0,13,56.5,null,null,0,13,56.5,56.5,null,null,0,null,null,0,1.7699115044247787E-2,13,{"$f":"IF(W79<31,AVERAGE(OFFSET(INDEX('Points team et quota finales'!$C$5:$C$34,W79),0,0,COUNTIF($W$6:$W$105,W79))),0)","v":11.5}]
[13,null,null,null,null,null,0,13,56.5,null,null,0,13,56.5,56.5,null,null,0,null,null,0,1.7699115044247787E-2,13,{"$f":"IF(W80<31,AVERAGE(OFFSET(INDEX('Points team et quota finales'!$C$5:$C$34,W80),0,0,COUNTIF($W$6:$W$105,W80))),0)","v":11.5}]
[13,null,null,null,null,null,0,13,56.5,null,null,0,13,56.5,56.5,null,null,0,null,null,0,1.7699115044247787E-2,13,{"$f":"IF(W81<31,AVERAGE(OFFSET(INDEX('Points team et quota finales'!$C$5:$C$34,W81),0,0,COUNTIF($W$6:$W$105,W81))),0)","v":11.5}]
[13,null,null,null,null,null,0,13,56.5,null,null,0,13,56.5,56.5,null,null,0,null,null,0,1.7699115044247787E-2,13,{"$f":"IF(W82<31,AVERAGE(OFFSET(INDEX('Points team et quota finales'!$C$5:$C$34,W82),0,0,COUNTIF($W$6:$W$105,W82))),0)","v":11.5}]
[13,null,null,null,null,null,0,13,56.5,null,null,0,13,56.5,56.5,null,null,0,null,null,0,1.7699115044247787E-2,13,{"$f":"IF(W83<31,AVERAGE(OFFSET(INDEX('Points team et quota finales'!$C$5:$C$34,W83),0,0,COUNTIF($W$6:$W$105,W83))),0)","v":11.5}]
[13,null,null,null,null,null,0,13,56.5,null,null,0,13,56.5,56.5,null,null,0,null,null,0,1.7699115044247787E-2,13,{"$f":"IF(W84<31,AVERAGE(OFFSET(INDEX('Points team et quota finales'!$C$5:$C$34,W84),0,0,COUNTIF($W$6:$W$105,W84))),0)","v":11.5}]
[13,null,null,null,null,null,0,13,56.5,null,null,0,13,56.5,56.5,null,null,0,null,null,0,1.7699115044247787E-2,13,{"$f":"IF(W85<31,AVERAGE(OFFSET(INDEX('Points team et quota finales'!$C$5:$C$34,W85),0,0,COUNTIF($W$6:$W$105,W85))),0)","v":11.5}]
[13,null,null,null,null,null,0,13,56.5,null,null,0,13,56.5,56.5,null,null,0,null,null,0,1.7699115044247787E-2,13,{"$f":"IF(W86<31,AVERAGE(OFFSET(INDEX('Points team et quota finales'!$C$5:$C$34,W86),0,0,COUNTIF($W$6:$W$105,W86))),0)","v":11.5}]
[13,null,null,null,null,null,0,13,56.5,null,null,0,13,56.5,56.5,null,null,0,null,null,0,1.7699115044247787E-2,13,{"$f":"IF(W87<31,AVERAGE(OFFSET(INDEX('Points team et quota finales'!$C$5:$C$34,W87),0,0,COUNTIF($W$6:$W$105,W87))),0)","v":11.5}]
[13,null,null,null,null,null,0,13,56.5,null,null,0,13,56.5,56.5,null,null,0,null,null,0,1.7699115044247787E-2,13,{"$f":"IF(W88<31,AVERAGE(OFFSET(INDEX('Points team et quota finales'!$C$5:$C$34,W88),0,0,COUNTIF($W$6:$W$105,W88))),0)","v":11.5}]
[13,null,null,null,null,null,0,13,56.5,null,null,0,13,56.5,56.5,null,null,0,null,null,0,1.7699115044247787E-2,13,{"$f":"IF(W89<31,AVERAGE(OFFSET(INDEX('Points team et quota finales'!$C$5:$C$34,W89),0,0,COUNTIF($W$6:$W$105,W89))),0)","v":11.5}]
[13,null,null,null,null,null,0,13,56.5,null,null,0,13,56.5,56.5,null,null,0,null,null,0,1.7699115044247787E-2,13,{"$f":"IF(W90<31,AVERAGE(OFFSET(INDEX('Points team et quota finales'!$C$5:$C$34,W90),0,0,COUNTIF($W$6:$W$105,W90))),0)","v":11.5}]
[13,null,null,null,null,null,0,13,56.5,null,null,0,13,56.5,56.5,null,null,0,null,null,0,1.7699115044247787E-2,13,{"$f":"IF(W91<31,AVERAGE(OFFSET(INDEX('Points team et quota finales'!$C$5:$C$34,W91),0,0,COUNTIF($W$6:$W$105,W91))),0)","v":11.5}]
[13,null,null,null,null,null,0,13,56.5,null,null,0,13,56.5,56.5,null,null,0,null,null,0,1.7699115044247787E-2,13,{"$f":"IF(W92<31,AVERAGE(OFFSET(INDEX('Points team et quota finales'!$C$5:$C$34,W92),0,0,COUNTIF($W$6:$W$105,W92))),0)","v":11.5}]
[13,null,null,null,null,null,0,13,56.5,null,null,0,13,56.5,56.5,null,null,0,null,null,0,1.7699115044247787E-2,13,{"$f":"IF(W93<31,AVERAGE(OFFSET(INDEX('Points team et quota finales'!$C$5:$C$34,W93),0,0,COUNTIF($W$6:$W$105,W93))),0)","v":11.5}]
[13,null,null,null,null,null,0,13,56.5,null,null,0,13,56.5,56.5,null,null,0,null,null,0,1.7699115044247787E-2,13,{"$f":"IF(W94<31,AVERAGE(OFFSET(INDEX('Points team et quota finales'!$C$5:$C$34,W94),0,0,COUNTIF($W$6:$W$105,W94))),0)","v":11.5}]
[13,null,null,null,null,null,0,13,56.5,null,null,0,13,56.5,56.5,null,null,0,null,null,0,1.7699115044247787E-2,13,{"$f":"IF(W95<31,AVERAGE(OFFSET(INDEX('Points team et quota finales'!$C$5:$C$34,W95),0,0,COUNTIF($W$6:$W$105,W95))),0)","v":11.5}]
[13,null,null,null,null,null,0,13,56.5,null,null,0,13,56.5,56.5,null,null,0,null,null,0,1.7699115044247787E-2,13,{"$f":"IF(W96<31,AVERAGE(OFFSET(INDEX('Points team et quota finales'!$C$5:$C$34,W96),0,0,COUNTIF($W$6:$W$105,W96))),0)","v":11.5}]
[13,null,null,null,null,null,0,13,56.5,null,null,0,13,56.5,56.5,null,null,0,null,null,0,1.7699115044247787E-2,13,{"$f":"IF(W97<31,AVERAGE(OFFSET(INDEX('Points team et quota finales'!$C$5:$C$34,W97),0,0,COUNTIF($W$6:$W$105,W97))),0)","v":11.5}]
[13,null,null,null,null,null,0,13,56.5,null,null,0,13,56.5,56.5,null,null,0,null,null,0,1.7699115044247787E-2,13,{"$f":"IF(W98<31,AVERAGE(OFFSET(INDEX('Points team et quota finales'!$C$5:$C$34,W98),0,0,COUNTIF($W$6:$W$105,W98))),0)","v":11.5}]
[13,null,null,null,null,null,0,13,56.5,null,null,0,13,56.5,56.5,null,null,0,null,null,0,1.7699115044247787E-2,13,{"$f":"IF(W99<31,AVERAGE(OFFSET(INDEX('Points team et quota finales'!$C$5:$C$34,W99),0,0,COUNTIF($W$6:$W$105,W99))),0)","v":11.5}]
[13,null,null,null,null,null,0,13,56.5,null,null,0,13,56.5,56.5,null,null,0,null,null,0,1.7699115044247787E-2,13,{"$f":"IF(W100<31,AVERAGE(OFFSET(INDEX('Points team et quota finales'!$C$5:$C$34,W100),0,0,COUNTIF($W$6:$W$105,W100))),0)","v":11.5}]
[13,null,null,null,null,null,0,13,56.5,null,null,0,13,56.5,56.5,null,null,0,null,null,0,1.7699115044247787E-2,13,{"$f":"IF(W101<31,AVERAGE(OFFSET(INDEX('Points team et quota finales'!$C$5:$C$34,W101),0,0,COUNTIF($W$6:$W$105,W101))),0)","v":11.5}]
[13,null,null,null,null,null,{"$f":"IF(E102=\"TOP\",$F$108,IF(F102=\"-\",E102-0.01,IF(F102=\"+\",E102+0.01,E102)))","v":0},{"$f":"RANK(G102,$G$6:$G$105)","v":13},{"$f":"IF(COUNTIF($H$6:$H$105,H102)=1,H102,(H102*2+COUNTIF($H$6:$H$105,H102)-1)/2)","v":56.5},null,null,{"$f":"IF(J102=\"TOP\",$K$108,IF(K102=\"-\",J102-0.01,IF(K102=\"+\",J102+0.01,J102)))","v":0},{"$f":"RANK(L102,$L$6:$L$105)","v":13},{"$f":"IF(COUNTIF($M$6:$M$105,M102)=1,M102,(M102*2+COUNTIF($M$6:$M$105,M102)-1)/2)","v":56.5},{"$f":"SQRT(I102*N102)","v":56.5},null,null,{"$f":"IF(P102=\"TOP\",$Q$108,IF(Q102=\"-\",P102-0.01,IF(Q102=\"+\",P102+0.01,P102)))","v":0},null,null,0,{"$f":"IF(U102<>0,U102*1000+R102*100+1/O102,IF(R102<>0,R102*100+1/O102,1/O102))","v":1.7699115044247787E-2},13,{"$f":"IF(W102<31,AVERAGE(OFFSET(INDEX('Points team et quota finales'!$C$5:$C$34,W102),0,0,COUNTIF($W$6:$W$105,W102))),0)","v":11.5}]
[13,null,null,null,null,null,0,13,56.5,null,null,0,13,56.5,56.5,null,null,0,null,null,0,1.7699115044247787E-2,13,{"$f":"IF(W103<31,AVERAGE(OFFSET(INDEX('Points team et quota finales'!$C$5:$C$34,W103),0,0,COUNTIF($W$6:$W$105,W103))),0)","v":11.5}]
[13,null,null,null,null,null,0,13,56.5,null,null,0,13,56.5,56.5,null,null,0,null,null,0,1.7699115044247787E-2,13,{"$f":"IF(W104<31,AVERAGE(OFFSET(INDEX('Points team et quota finales'!$C$5:$C$34,W104),0,0,COUNTIF($W$6:$W$105,W104))),0)","v":11.5}]
[13,null,null,null,null,null,0,13,56.5,null,null,0,13,56.5,56.5,null,null,0,null,null,0,1.7699115044247787E-2,13,{"$f":"IF(W105<31,AVERAGE(OFFSET(INDEX('Points team et quota finales'!$C$5:$C$34,W105),0,0,COUNTIF($W$6:$W$105,W105))),0)","v":11.5}]
[]
[]
[null,null,null,null,"Top =",28,null,null,null,"Top = ",30,null,null,null,null,"Top =",31,null,"Top ="]
[null,{"$f":"CONCATENATE(\"Jury President: \",General!$B$6)","v":"Jury President: Lieven Vlassenroot"}]
[]
[null,"Appeal until :"]

{"sheet":"CF","index":2,"n_rows":111,"n_cols":24,"rows_kept":111,"cut":false,"hidden":false,"merged":[[1,0,1,22],[4,4,4,7],[4,9,4,12],[4,15,4,17],[4,18,4,20]]}
[]
[{"$f":"CONCATENATE(General!$B$5,\"  -  RESULTS C Female\")","v":"Youth Lead Championship 09-03-2013  -  RESULTS C Female"}]
[]
[]
["RANK","Nr","Name","Team","Route 1",null,null,null,"Ranking Points Route 1","Route 2",null,null,null,"Ranking Points Route 2","Root R1 x R2 ","Final ",null,null,"Super Final",null,null,"base pour calcul rang","RANK","Team points"]
[{"$f":"RANK(V6,$V$6:$V$105)","v":1},"CF01","TILBORGHS Cathinka","KLI","TOP",null,{"$f":"IF(E6=\"TOP\",$F$108,IF(F6=\"-\",E6-0.01,IF(F6=\"+\",E6+0.01,E6)))","v":30},{"$f":"RANK(G6,$G$6:$G$105)","v":1},{"$f":"IF(COUNTIF($H$6:$H$105,H6)=1,H6,(H6*2+COUNTIF($H$6:$H$105,H6)-1)/2)","v":3},"TOP",null,{"$f":"IF(J6=\"TOP\",$K$108,IF(K6=\"-\",J6-0.01,IF(K6=\"+\",J6+0.01,J6)))","v":28},{"$f":"RANK(L6,$L$6:$L$105)","v":1},{"$f":"IF(COUNTIF($M$6:$M$105,M6)=1,M6,(M6*2+COUNTIF($M$6:$M$105,M6)-1)/2)","v":2},{"$f":"SQRT(I6*N6)","v":2.4494897427831779},28,"+",{"$f":"IF(P6=\"TOP\",$Q$108,IF(Q6=\"-\",P6-0.01,IF(Q6=\"+\",P6+0.01,P6)))","v":28.01},35,null,{"$f":"IF($S6=\"TOP\",$T$108,IF($T6=\"-\",$S6-0.01,IF($T6=\"+\",$S6+0.01,$S6)))","v":35},{"$f":"IF(U6<>0,U6*1000+R6*100+1/O6,IF(R6<>0,R6*100+1/O6,1/O6))","v":37801.408248290463},{"$f":"A6","v":1},{"$f":"IF(W6<31,AVERAGE(OFFSET(INDEX('Points team et quota finales'!$C$5:$C$34,W6),0,0,COUNTIF($W$6:$W$105,W6))),0)","v":100}]
[{"$f":"RANK(V7,$V$6:$V$105)","v":2},"CF11","DEGUEE Manon","ESC","TOP",null,30,1,3,"TOP",null,28,1,2,2.4494897427831779,28,"+",28.01,34,"+",34.01,36811.408248290463,2,{"$f":"IF(W7<31,AVERAGE(OFFSET(INDEX('Points team et quota finales'!$C$5:$C$34,W7),0,0,COUNTIF($W$6:$W$105,W7))),0)","v":80}]
[3,"CF03","STEVENS Laure-Anne","KLI","TOP",null,30,1,3,26,null,26,4,4,3.4641016151377544,28,"+",28.01,null,null,0,2801.288675134595,3,{"$f":"IF(W8<31,AVERAGE(OFFSET(INDEX('Points team et quota finales'!$C$5:$C$34,W8),0,0,COUNTIF($W$6:$W$105,W8))),0)","v":65}]
[4,"CF06","LIPPERT Mahault","ESC","TOP",null,30,1,3,25,"+",25.01,5,5,3.872983346207417,28,"+",28.01,null,null,0,2801.2581988897473,4,{"$f":"IF(W9<31,AVERAGE(OFFSET(INDEX('Points team et quota finales'!$C$5:$C$34,W9),0,0,COUNTIF($W$6:$W$105,W9))),0)","v":55}]
[5,"CF09","COOREMAN Zara","BMC",26,"+",26.01,6,6.5,22,null,22,6,6,6.2449979983983983,28,"+",28.01,null,null,0,2801.1601281538051,5,{"$f":"IF(W10<31,AVERAGE(OFFSET(INDEX('Points team et quota finales'!$C$5:$C$34,W10),0,0,COUNTIF($W$6:$W$105,W10))),0)","v":51}]
[6,"CF05","COLOT Marie","ESC","TOP",null,30,1,3,"TOP",null,28,1,2,2.4494897427831779,14,"+",14.01,null,null,0,1401.4082482904639,6,{"$f":"IF(W11<31,AVERAGE(OFFSET(INDEX('Points team et quota finales'!$C$5:$C$34,W11),0,0,COUNTIF($W$6:$W$105,W11))),0)","v":47}]
[7,"CF04","VAN ZEGBROECK Ine","KLI",26,"+",26.01,6,6.5,21,null,21,7,7,6.7453687816160208,14,"+",14.01,null,null,0,1401.1482498633322,7,{"$f":"IF(W12<31,AVERAGE(OFFSET(INDEX('Points team et quota finales'!$C$5:$C$34,W12),0,0,COUNTIF($W$6:$W$105,W12))),0)","v":43}]
[8,"CF10","RAMIS Léonie","FN",26,null,26,8,9,20,"+",20.010000000000002,8,8,8.4852813742385695,null,null,0,null,null,0,0.11785113019775793,8,{"$f":"IF(W13<31,AVERAGE(OFFSET(INDEX('Points team et quota finales'!$C$5:$C$34,W13),0,0,COUNTIF($W$6:$W$105,W13))),0)","v":40}]
[9,"CF07","ISTACE Tess-liwei","GT",26,null,26,8,9,18,"+",18.010000000000002,9,9,9,null,null,0,null,null,0,0.1111111111111111,9,{"$f":"IF(W14<31,AVERAGE(OFFSET(INDEX('Points team et quota finales'!$C$5:$C$34,W14),0,0,COUNTIF($W$6:$W$105,W14))),0)","v":37}]
[10,"CF02","DE SMEDT Lotte","KLI",26,null,26,8,9,18,null,18,10,10,9.4868329805051381,null,null,0,null,null,0,0.10540925533894598,10,{"$f":"IF(W15<31,AVERAGE(OFFSET(INDEX('Points team et quota finales'!$C$5:$C$34,W15),0,0,COUNTIF($W$6:$W$105,W15))),0)","v":34}]
[11,"CF08","DORZEE Clara","GT",24,"+",24.01,11,11,13,"+",13.01,11,11,11,null,null,0,null,null,0,9.0909090909090912E-2,11,{"$f":"IF(W16<31,AVERAGE(OFFSET(INDEX('Points team et quota finales'!$C$5:$C$34,W16),0,0,COUNTIF($W$6:$W$105,W16))),0)","v":31}]
[12,"CF12","VANHAEREN Femke","HUN",24,null,24,12,12,8,"+",8.01,12,12,12,null,null,0,null,null,0,8.3333333333333329E-2,12,{"$f":"IF(W17<31,AVERAGE(OFFSET(INDEX('Points team et quota finales'!$C$5:$C$34,W17),0,0,COUNTIF($W$6:$W$105,W17))),0)","v":28}]
[13,null,null,null,null,null,{"$f":"IF(E18=\"TOP\",$F$108,IF(F18=\"-\",E18-0.01,IF(F18=\"+\",E18+0.01,E18)))","v":0},{"$f":"RANK(G18,$G$6:$G$105)","v":13},{"$f":"IF(COUNTIF($H$6:$H$105,H18)=1,H18,(H18*2+COUNTIF($H$6:$H$105,H18)-1)/2)","v":56.5},null,null,{"$f":"IF(J18=\"TOP\",$K$108,IF(K18=\"-\",J18-0.01,IF(K18=\"+\",J18+0.01,J18)))","v":0},{"$f":"RANK(L18,$L$6:$L$105)","v":13},{"$f":"IF(COUNTIF($M$6:$M$105,M18)=1,M18,(M18*2+COUNTIF($M$6:$M$105,M18)-1)/2)","v":56.5},{"$f":"SQRT(I18*N18)","v":56.5},null,null,{"$f":"IF(P18=\"TOP\",$Q$108,IF(Q18=\"-\",P18-0.01,IF(Q18=\"+\",P18+0.01,P18)))","v":0},null,null,{"$f":"IF($S18=\"TOP\",$T$108,IF($T18=\"-\",$S18-0.01,IF($T18=\"+\",$S18+0.01,$S18)))","v":0},{"$f":"IF(U18<>0,U18*1000+R18*100+1/O18,IF(R18<>0,R18*100+1/O18,1/O18))","v":1.7699115044247787E-2},13,{"$f":"IF(W18<31,AVERAGE(OFFSET(INDEX('Points team et quota finales'!$C$5:$C$34,W18),0,0,COUNTIF($W$6:$W$105,W18))),0)","v":11.5}]
[13,null,null,null,null,null,0,13,56.5,null,null,0,13,56.5,56.5,null,null,0,null,null,0,1.7699115044247787E-2,13,{"$f":"IF(W19<31,AVERAGE(OFFSET(INDEX('Points team et quota finales'!$C$5:$C$34,W19),0,0,COUNTIF($W$6:$W$105,W19))),0)","v":11.5}]
[13,null,null,null,null,null,0,13,56.5,null,null,0,13,56.5,56.5,null,null,0,null,null,0,1.7699115044247787E-2,13,{"$f":"IF(W20<31,AVERAGE(OFFSET(INDEX('Points team et quota finales'!$C$5:$C$34,W20),0,0,COUNTIF($W$6:$W$105,W20))),0)","v":11.5}]
[13,null,null,null,null,null,0,13,56.5,null,null,0,13,56.5,56.5,null,null,0,null,null,0,1.7699115044247787E-2,13,{"$f":"IF(W21<31,AVERAGE(OFFSET(INDEX('Points team et quota finales'!$C$5:$C$34,W21),0,0,COUNTIF($W$6:$W$105,W21))),0)","v":11.5}]
[13,null,null,null,null,null,0,13,56.5,null,null,0,13,56.5,56.5,null,null,0,null,null,0,1.7699115044247787E-2,13,{"$f":"IF(W22<31,AVERAGE(OFFSET(INDEX('Points team et quota finales'!$C$5:$C$34,W22),0,0,COUNTIF($W$6:$W$105,W22))),0)","v":11.5}]
[13,null,null,null,null,null,0,13,56.5,null,null,0,13,56.5,56.5,null,null,0,null,null,0,1.7699115044247787E-2,13,{"$f":"IF(W23<31,AVERAGE(OFFSET(INDEX('Points team et quota finales'!$C$5:$C$34,W23),0,0,COUNTIF($W$6:$W$105,W23))),0)","v":11.5}]
[13,null,null,null,null,null,0,13,56.5,null,null,0,13,56.5,56.5,null,null,0,null,null,0,1.7699115044247787E-2,13,{"$f":"IF(W24<31,AVERAGE(OFFSET(INDEX('Points team et quota finales'!$C$5:$C$34,W24),0,0,COUNTIF($W$6:$W$105,W24))),0)","v":11.5}]
[13,null,null,null,null,null,0,13,56.5,null,null,0,13,56.5,56.5,null,null,0,null,null,0,1.7699115044247787E-2,13,{"$f":"IF(W25<31,AVERAGE(OFFSET(INDEX('Points team et quota finales'!$C$5:$C$34,W25),0,0,COUNTIF($W$6:$W$105,W25))),0)","v":11.5}]
[13,null,null,null,null,null,0,13,56.5,null,null,0,13,56.5,56.5,null,null,0,null,null,0,1.7699115044247787E-2,13,{"$f":"IF(W26<31,AVERAGE(OFFSET(INDEX('Points team et quota finales'!$C$5:$C$34,W26),0,0,COUNTIF($W$6:$W$105,W26))),0)","v":11.5}]
[13,null,null,null,null,null,0,13,56.5,null,null,0,13,56.5,56.5,null,null,0,null,null,0,1.7699115044247787E-2,13,{"$f":"IF(W27<31,AVERAGE(OFFSET(INDEX('Points team et quota finales'!$C$5:$C$34,W27),0,0,COUNTIF($W$6:$W$105,W27))),0)","v":11.5}]
[13,null,null,null,null,null,0,13,56.5,null,null,0,13,56.5,56.5,null,null,0,null,null,0,1.7699115044247787E-2,13,{"$f":"IF(W28<31,AVERAGE(OFFSET(INDEX('Points team et quota finales'!$C$5:$C$34,W28),0,0,COUNTIF($W$6:$W$105,W28))),0)","v":11.5}]
[13,null,null,null,null,null,0,13,56.5,null,null,0,13,56.5,56.5,null,null,0,null,null,0,1.7699115044247787E-2,13,{"$f":"IF(W29<31,AVERAGE(OFFSET(INDEX('Points team et quota finales'!$C$5:$C$34,W29),0,0,COUNTIF($W$6:$W$105,W29))),0)","v":11.5}]
[13,null,null,null,null,null,0,13,56.5,null,null,0,13,56.5,56.5,null,null,0,null,null,0,1.7699115044247787E-2,13,{"$f":"IF(W30<31,AVERAGE(OFFSET(INDEX('Points team et quota finales'!$C$5:$C$34,W30),0,0,COUNTIF($W$6:$W$105,W30))),0)","v":11.5}]
[13,null,null,null,null,null,0,13,56.5,null,null,0,13,56.5,56.5,null,null,0,null,null,0,1.7699115044247787E-2,13,{"$f":"IF(W31<31,AVERAGE(OFFSET(INDEX('Points team et quota finales'!$C$5:$C$34,W31),0,0,COUNTIF($W$6:$W$105,W31))),0)","v":11.5}]
[13,null,null,null,null,null,0,13,56.5,null,null,0,13,56.5,56.5,null,null,0,null,null,0,1.7699115044247787E-2,13,{"$f":"IF(W32<31,AVERAGE(OFFSET(INDEX('Points team et quota finales'!$C$5:$C$34,W32),0,0,COUNTIF($W$6:$W$105,W32))),0)","v":11.5}]
[13,null,null,null,null,null,0,13,56.5,null,null,0,13,56.5,56.5,null,null,0,null,null,0,1.7699115044247787E-2,13,{"$f":"IF(W33<31,AVERAGE(OFFSET(INDEX('Points team et quota finales'!$C$5:$C$34,W33),0,0,COUNTIF($W$6:$W$105,W33))),0)","v":11.5}]
[13,null,null,null,null,null,0,13,56.5,null,null,0,13,56.5,56.5,null,null,0,null,null,0,1.7699115044247787E-2,13,{"$f":"IF(W34<31,AVERAGE(OFFSET(INDEX('Points team et quota finales'!$C$5:$C$34,W34),0,0,COUNTIF($W$6:$W$105,W34))),0)","v":11.5}]
[13,null,null,null,null,null,0,13,56.5,null,null,0,13,56.5,56.5,null,null,0,null,null,0,1.7699115044247787E-2,13,{"$f":"IF(W35<31,AVERAGE(OFFSET(INDEX('Points team et quota finales'!$C$5:$C$34,W35),0,0,COUNTIF($W$6:$W$105,W35))),0)","v":11.5}]
[13,null,null,null,null,null,0,13,56.5,null,null,0,13,56.5,56.5,null,null,0,null,null,0,1.7699115044247787E-2,13,{"$f":"IF(W36<31,AVERAGE(OFFSET(INDEX('Points team et quota finales'!$C$5:$C$34,W36),0,0,COUNTIF($W$6:$W$105,W36))),0)","v":11.5}]
[13,null,null,null,null,null,0,13,56.5,null,null,0,13,56.5,56.5,null,null,0,null,null,0,1.7699115044247787E-2,13,{"$f":"IF(W37<31,AVERAGE(OFFSET(INDEX('Points team et quota finales'!$C$5:$C$34,W37),0,0,COUNTIF($W$6:$W$105,W37))),0)","v":11.5}]
[13,null,null,null,null,null,0,13,56.5,null,null,0,13,56.5,56.5,null,null,0,null,null,0,1.7699115044247787E-2,13,{"$f":"IF(W38<31,AVERAGE(OFFSET(INDEX('Points team et quota finales'!$C$5:$C$34,W38),0,0,COUNTIF($W$6:$W$105,W38))),0)","v":11.5}]
[13,null,null,null,null,null,0,13,56.5,null,null,0,13,56.5,56.5,null,null,0,null,null,0,1.7699115044247787E-2,13,{"$f":"IF(W39<31,AVERAGE(OFFSET(INDEX('Points team et quota finales'!$C$5:$C$34,W39),0,0,COUNTIF($W$6:$W$105,W39))),0)","v":11.5}]
[13,null,null,null,null,null,0,13,56.5,null,null,0,13,56.5,56.5,null,null,0,null,null,0,1.7699115044247787E-2,13,{"$f":"IF(W40<31,AVERAGE(OFFSET(INDEX('Points team et quota finales'!$C$5:$C$34,W40),0,0,COUNTIF($W$6:$W$105,W40))),0)","v":11.5}]
[13,null,null,null,null,null,0,13,56.5,null,null,0,13,56.5,56.5,null,null,0,null,null,0,1.7699115044247787E-2,13,{"$f":"IF(W41<31,AVERAGE(OFFSET(INDEX('Points team et quota finales'!$C$5:$C$34,W41),0,0,COUNTIF($W$6:$W$105,W41))),0)","v":11.5}]
[13,null,null,null,null,null,0,13,56.5,null,null,0,13,56.5,56.5,null,null,0,null,null,0,1.7699115044247787E-2,13,{"$f":"IF(W42<31,AVERAGE(OFFSET(INDEX('Points team et quota finales'!$C$5:$C$34,W42),0,0,COUNTIF($W$6:$W$105,W42))),0)","v":11.5}]
[13,null,null,null,null,null,0,13,56.5,null,null,0,13,56.5,56.5,null,null,0,null,null,0,1.7699115044247787E-2,13,{"$f":"IF(W43<31,AVERAGE(OFFSET(INDEX('Points team et quota finales'!$C$5:$C$34,W43),0,0,COUNTIF($W$6:$W$105,W43))),0)","v":11.5}]
[13,null,null,null,null,null,0,13,56.5,null,null,0,13,56.5,56.5,null,null,0,null,null,0,1.7699115044247787E-2,13,{"$f":"IF(W44<31,AVERAGE(OFFSET(INDEX('Points team et quota finales'!$C$5:$C$34,W44),0,0,COUNTIF($W$6:$W$105,W44))),0)","v":11.5}]
[13,null,null,null,null,null,0,13,56.5,null,null,0,13,56.5,56.5,null,null,0,null,null,0,1.7699115044247787E-2,13,{"$f":"IF(W45<31,AVERAGE(OFFSET(INDEX('Points team et quota finales'!$C$5:$C$34,W45),0,0,COUNTIF($W$6:$W$105,W45))),0)","v":11.5}]
[13,null,null,null,null,null,0,13,56.5,null,null,0,13,56.5,56.5,null,null,0,null,null,0,1.7699115044247787E-2,13,{"$f":"IF(W46<31,AVERAGE(OFFSET(INDEX('Points team et quota finales'!$C$5:$C$34,W46),0,0,COUNTIF($W$6:$W$105,W46))),0)","v":11.5}]
[13,null,null,null,null,null,0,13,56.5,null,null,0,13,56.5,56.5,null,null,0,null,null,0,1.7699115044247787E-2,13,{"$f":"IF(W47<31,AVERAGE(OFFSET(INDEX('Points team et quota finales'!$C$5:$C$34,W47),0,0,COUNTIF($W$6:$W$105,W47))),0)","v":11.5}]
[13,null,null,null,null,null,0,13,56.5,null,null,0,13,56.5,56.5,null,null,0,null,null,0,1.7699115044247787E-2,13,{"$f":"IF(W48<31,AVERAGE(OFFSET(INDEX('Points team et quota finales'!$C$5:$C$34,W48),0,0,COUNTIF($W$6:$W$105,W48))),0)","v":11.5}]
[13,null,null,null,null,null,0,13,56.5,null,null,0,13,56.5,56.5,null,null,0,null,null,0,1.7699115044247787E-2,13,{"$f":"IF(W49<31,AVERAGE(OFFSET(INDEX('Points team et quota finales'!$C$5:$C$34,W49),0,0,COUNTIF($W$6:$W$105,W49))),0)","v":11.5}]
[13,null,null,null,null,null,0,13,56.5,null,null,0,13,56.5,56.5,null,null,0,null,null,0,1.7699115044247787E-2,13,{"$f":"IF(W50<31,AVERAGE(OFFSET(INDEX('Points team et quota finales'!$C$5:$C$34,W50),0,0,COUNTIF($W$6:$W$105,W50))),0)","v":11.5}]
[13,null,null,null,null,null,0,13,56.5,null,null,0,13,56.5,56.5,null,null,0,null,null,0,1.7699115044247787E-2,13,{"$f":"IF(W51<31,AVERAGE(OFFSET(INDEX('Points team et quota finales'!$C$5:$C$34,W51),0,0,COUNTIF($W$6:$W$105,W51))),0)","v":11.5}]
[13,null,null,null,null,null,0,13,56.5,null,null,0,13,56.5,56.5,null,null,0,null,null,0,1.7699115044247787E-2,13,{"$f":"IF(W52<31,AVERAGE(OFFSET(INDEX('Points team et quota finales'!$C$5:$C$34,W52),0,0,COUNTIF($W$6:$W$105,W52))),0)","v":11.5}]
[13,null,null,null,null,null,0,13,56.5,null,null,0,13,56.5,56.5,null,null,0,null,null,0,1.7699115044247787E-2,13,{"$f":"IF(W53<31,AVERAGE(OFFSET(INDEX('Points team et quota finales'!$C$5:$C$34,W53),0,0,COUNTIF($W$6:$W$105,W53))),0)","v":11.5}]
[13,null,null,null,null,null,0,13,56.5,null,null,0,13,56.5,56.5,null,null,0,null,null,0,1.7699115044247787E-2,13,{"$f":"IF(W54<31,AVERAGE(OFFSET(INDEX('Points team et quota finales'!$C$5:$C$34,W54),0,0,COUNTIF($W$6:$W$105,W54))),0)","v":11.5}]
[13,null,null,null,null,null,0,13,56.5,null,null,0,13,56.5,56.5,null,null,0,null,null,0,1.7699115044247787E-2,13,{"$f":"IF(W55<31,AVERAGE(OFFSET(INDEX('Points team et quota finales'!$C$5:$C$34,W55),0,0,COUNTIF($W$6:$W$105,W55))),0)","v":11.5}]
[13,null,null,null,null,null,0,13,56.5,null,null,0,13,56.5,56.5,null,null,0,null,null,0,1.7699115044247787E-2,13,{"$f":"IF(W56<31,AVERAGE(OFFSET(INDEX('Points team et quota finales'!$C$5:$C$34,W56),0,0,COUNTIF($W$6:$W$105,W56))),0)","v":11.5}]
[13,null,null,null,null,null,0,13,56.5,null,null,0,13,56.5,56.5,null,null,0,null,null,0,1.7699115044247787E-2,13,{"$f":"IF(W57<31,AVERAGE(OFFSET(INDEX('Points team et quota finales'!$C$5:$C$34,W57),0,0,COUNTIF($W$6:$W$105,W57))),0)","v":11.5}]
[13,null,null,null,null,null,0,13,56.5,null,null,0,13,56.5,56.5,null,null,0,null,null,0,1.7699115044247787E-2,13,{"$f":"IF(W58<31,AVERAGE(OFFSET(INDEX('Points team et quota finales'!$C$5:$C$34,W58),0,0,COUNTIF($W$6:$W$105,W58))),0)","v":11.5}]
[13,null,null,null,null,null,0,13,56.5,null,null,0,13,56.5,56.5,null,null,0,null,null,0,1.7699115044247787E-2,13,{"$f":"IF(W59<31,AVERAGE(OFFSET(INDEX('Points team et quota finales'!$C$5:$C$34,W59),0,0,COUNTIF($W$6:$W$105,W59))),0)","v":11.5}]
[13,null,null,null,null,null,0,13,56.5,null,null,0,13,56.5,56.5,null,null,0,null,null,0,1.7699115044247787E-2,13,{"$f":"IF(W60<31,AVERAGE(OFFSET(INDEX('Points team et quota finales'!$C$5:$C$34,W60),0,0,COUNTIF($W$6:$W$105,W60))),0)","v":11.5}]
[13,null,null,null,null,null,0,13,56.5,null,null,0,13,56.5,56.5,null,null,0,null,null,0,1.7699115044247787E-2,13,{"$f":"IF(W61<31,AVERAGE(OFFSET(INDEX('Points team et quota finales'!$C$5:$C$34,W61),0,0,COUNTIF($W$6:$W$105,W61))),0)","v":11.5}]
[13,null,null,null,null,null,0,13,56.5,null,null,0,13,56.5,56.5,null,null,0,null,null,0,1.7699115044247787E-2,13,{"$f":"IF(W62<31,AVERAGE(OFFSET(INDEX('Points team et quota finales'!$C$5:$C$34,W62),0,0,COUNTIF($W$6:$W$105,W62))),0)","v":11.5}]
[13,null,null,null,null,null,0,13,56.5,null,null,0,13,56.5,56.5,null,null,0,null,null,0,1.7699115044247787E-2,13,{"$f":"IF(W63<31,AVERAGE(OFFSET(INDEX('Points team et quota finales'!$C$5:$C$34,W63),0,0,COUNTIF($W$6:$W$105,W63))),0)","v":11.5}]
[13,null,null,null,null,null,0,13,56.5,null,null,0,13,56.5,56.5,null,null,0,null,null,0,1.7699115044247787E-2,13,{"$f":"IF(W64<31,AVERAGE(OFFSET(INDEX('Points team et quota finales'!$C$5:$C$34,W64),0,0,COUNTIF($W$6:$W$105,W64))),0)","v":11.5}]
[13,null,null,null,null,null,0,13,56.5,null,null,0,13,56.5,56.5,null,null,0,null,null,0,1.7699115044247787E-2,13,{"$f":"IF(W65<31,AVERAGE(OFFSET(INDEX('Points team et quota finales'!$C$5:$C$34,W65),0,0,COUNTIF($W$6:$W$105,W65))),0)","v":11.5}]
[13,null,null,null,null,null,0,13,56.5,null,null,0,13,56.5,56.5,null,null,0,null,null,0,1.7699115044247787E-2,13,{"$f":"IF(W66<31,AVERAGE(OFFSET(INDEX('Points team et quota finales'!$C$5:$C$34,W66),0,0,COUNTIF($W$6:$W$105,W66))),0)","v":11.5}]
[13,null,null,null,null,null,0,13,56.5,null,null,0,13,56.5,56.5,null,null,0,null,null,0,1.7699115044247787E-2,13,{"$f":"IF(W67<31,AVERAGE(OFFSET(INDEX('Points team et quota finales'!$C$5:$C$34,W67),0,0,COUNTIF($W$6:$W$105,W67))),0)","v":11.5}]
[13,null,null,null,null,null,0,13,56.5,null,null,0,13,56.5,56.5,null,null,0,null,null,0,1.7699115044247787E-2,13,{"$f":"IF(W68<31,AVERAGE(OFFSET(INDEX('Points team et quota finales'!$C$5:$C$34,W68),0,0,COUNTIF($W$6:$W$105,W68))),0)","v":11.5}]
[13,null,null,null,null,null,0,13,56.5,null,null,0,13,56.5,56.5,null,null,0,null,null,0,1.7699115044247787E-2,13,{"$f":"IF(W69<31,AVERAGE(OFFSET(INDEX('Points team et quota finales'!$C$5:$C$34,W69),0,0,COUNTIF($W$6:$W$105,W69))),0)","v":11.5}]
[13,null,null,null,null,null,{"$f":"IF(E70=\"TOP\",$F$108,IF(F70=\"-\",E70-0.01,IF(F70=\"+\",E70+0.01,E70)))","v":0},{"$f":"RANK(G70,$G$6:$G$105)","v":13},{"$f":"IF(COUNTIF($H$6:$H$105,H70)=1,H70,(H70*2+COUNTIF($H$6:$H$105,H70)-1)/2)","v":56.5},null,null,{"$f":"IF(J70=\"TOP\",$K$108,IF(K70=\"-\",J70-0.01,IF(K70=\"+\",J70+0.01,J70)))","v":0},{"$f":"RANK(L70,$L$6:$L$105)","v":13},{"$f":"IF(COUNTIF($M$6:$M$105,M70)=1,M70,(M70*2+COUNTIF($M$6:$M$105,M70)-1)/2)","v":56.5},{"$f":"SQRT(I70*N70)","v":56.5},null,null,{"$f":"IF(P70=\"TOP\",$Q$108,IF(Q70=\"-\",P70-0.01,IF(Q70=\"+\",P70+0.01,P70)))","v":0},null,null,{"$f":"IF($S70=\"TOP\",$T$108,IF($T70=\"-\",$S70-0.01,IF($T70=\"+\",$S70+0.01,$S70)))","v":0},{"$f":"IF(U70<>0,U70*1000+R70*100+1/O70,IF(R70<>0,R70*100+1/O70,1/O70))","v":1.7699115044247787E-2},{"$f":"A70","v":13},{"$f":"IF(W70<31,AVERAGE(OFFSET(INDEX('Points team et quota finales'!$C$5:$C$34,W70),0,0,COUNTIF($W$6:$W$105,W70))),0)","v":11.5}]
[{"$f":"RANK(V71,$V$6:$V$105)","v":13},null,null,null,null,null,0,13,56.5,null,null,0,13,56.5,56.5,null,null,0,null,null,0,1.7699115044247787E-2,13,{"$f":"IF(W71<31,AVERAGE(OFFSET(INDEX('Points team et quota finales'!$C$5:$C$34,W71),0,0,COUNTIF($W$6:$W$105,W71))),0)","v":11.5}]
[13,null,null,null,null,null,0,13,56.5,null,null,0,13,56.5,56.5,null,null,0,null,null,0,1.7699115044247787E-2,13,{"$f":"IF(W72<31,AVERAGE(OFFSET(INDEX('Points team et quota finales'!$C$5:$C$34,W72),0,0,COUNTIF($W$6:$W$105,W72))),0)","v":11.5}]
[13,null,null,null,null,null,0,13,56.5,null,null,0,13,56.5,56.5,null,null,0,null,null,0,1.7699115044247787E-2,13,{"$f":"IF(W73<31,AVERAGE(OFFSET(INDEX('Points team et quota finales'!$C$5:$C$34,W73),0,0,COUNTIF($W$6:$W$105,W73))),0)","v":11.5}]
[13,null,null,null,null,null,0,13,56.5,null,null,0,13,56.5,56.5,null,null,0,null,null,0,1.7699115044247787E-2,13,{"$f":"IF(W74<31,AVERAGE(OFFSET(INDEX('Points team et quota finales'!$C$5:$C$34,W74),0,0,COUNTIF($W$6:$W$105,W74))),0)","v":11.5}]
[13,null,null,null,null,null,0,13,56.5,null,null,0,13,56.5,56.5,null,null,0,null,null,0,1.7699115044247787E-2,13,{"$f":"IF(W75<31,AVERAGE(OFFSET(INDEX('Points team et quota finales'!$C$5:$C$34,W75),0,0,COUNTIF($W$6:$W$105,W75))),0)","v":11.5}]
[13,null,null,null,null,null,0,13,56.5,null,null,0,13,56.5,56.5,null,null,0,null,null,0,1.7699115044247787E-2,13,{"$f":"IF(W76<31,AVERAGE(OFFSET(INDEX('Points team et quota finales'!$C$5:$C$34,W76),0,0,COUNTIF($W$6:$W$105,W76))),0)","v":11.5}]
[13,null,null,null,null,null,0,13,56.5,null,null,0,13,56.5,56.5,null,null,0,null,null,0,1.7699115044247787E-2,13,{"$f":"IF(W77<31,AVERAGE(OFFSET(INDEX('Points team et quota finales'!$C$5:$C$34,W77),0,0,COUNTIF($W$6:$W$105,W77))),0)","v":11.5}]
[13,null,null,null,null,null,0,13,56.5,null,null,0,13,56.5,56.5,null,null,0,null,null,0,1.7699115044247787E-2,13,{"$f":"IF(W78<31,AVERAGE(OFFSET(INDEX('Points team et quota finales'!$C$5:$C$34,W78),0,0,COUNTIF($W$6:$W$105,W78))),0)","v":11.5}]
[13,null,null,null,null,null,0,13,56.5,null,null,0,13,56.5,56.5,null,null,0,null,null,0,1.7699115044247787E-2,13,{"$f":"IF(W79<31,AVERAGE(OFFSET(INDEX('Points team et quota finales'!$C$5:$C$34,W79),0,0,COUNTIF($W$6:$W$105,W79))),0)","v":11.5}]
[13,null,null,null,null,null,0,13,56.5,null,null,0,13,56.5,56.5,null,null,0,null,null,0,1.7699115044247787E-2,13,{"$f":"IF(W80<31,AVERAGE(OFFSET(INDEX('Points team et quota finales'!$C$5:$C$34,W80),0,0,COUNTIF($W$6:$W$105,W80))),0)","v":11.5}]
[13,null,null,null,null,null,0,13,56.5,null,null,0,13,56.5,56.5,null,null,0,null,null,0,1.7699115044247787E-2,13,{"$f":"IF(W81<31,AVERAGE(OFFSET(INDEX('Points team et quota finales'!$C$5:$C$34,W81),0,0,COUNTIF($W$6:$W$105,W81))),0)","v":11.5}]
[13,null,null,null,null,null,0,13,56.5,null,null,0,13,56.5,56.5,null,null,0,null,null,0,1.7699115044247787E-2,13,{"$f":"IF(W82<31,AVERAGE(OFFSET(INDEX('Points team et quota finales'!$C$5:$C$34,W82),0,0,COUNTIF($W$6:$W$105,W82))),0)","v":11.5}]
[13,null,null,null,null,null,0,13,56.5,null,null,0,13,56.5,56.5,null,null,0,null,null,0,1.7699115044247787E-2,13,{"$f":"IF(W83<31,AVERAGE(OFFSET(INDEX('Points team et quota finales'!$C$5:$C$34,W83),0,0,COUNTIF($W$6:$W$105,W83))),0)","v":11.5}]
[13,null,null,null,null,null,0,13,56.5,null,null,0,13,56.5,56.5,null,null,0,null,null,0,1.7699115044247787E-2,13,{"$f":"IF(W84<31,AVERAGE(OFFSET(INDEX('Points team et quota finales'!$C$5:$C$34,W84),0,0,COUNTIF($W$6:$W$105,W84))),0)","v":11.5}]
[13,null,null,null,null,null,0,13,56.5,null,null,0,13,56.5,56.5,null,null,0,null,null,0,1.7699115044247787E-2,13,{"$f":"IF(W85<31,AVERAGE(OFFSET(INDEX('Points team et quota finales'!$C$5:$C$34,W85),0,0,COUNTIF($W$6:$W$105,W85))),0)","v":11.5}]
[13,null,null,null,null,null,0,13,56.5,null,null,0,13,56.5,56.5,null,null,0,null,null,0,1.7699115044247787E-2,13,{"$f":"IF(W86<31,AVERAGE(OFFSET(INDEX('Points team et quota finales'!$C$5:$C$34,W86),0,0,COUNTIF($W$6:$W$105,W86))),0)","v":11.5}]
[13,null,null,null,null,null,0,13,56.5,null,null,0,13,56.5,56.5,null,null,0,null,null,0,1.7699115044247787E-2,13,{"$f":"IF(W87<31,AVERAGE(OFFSET(INDEX('Points team et quota finales'!$C$5:$C$34,W87),0,0,COUNTIF($W$6:$W$105,W87))),0)","v":11.5}]
[13,null,null,null,null,null,0,13,56.5,null,null,0,13,56.5,56.5,null,null,0,null,null,0,1.7699115044247787E-2,13,{"$f":"IF(W88<31,AVERAGE(OFFSET(INDEX('Points team et quota finales'!$C$5:$C$34,W88),0,0,COUNTIF($W$6:$W$105,W88))),0)","v":11.5}]
[13,null,null,null,null,null,0,13,56.5,null,null,0,13,56.5,56.5,null,null,0,null,null,0,1.7699115044247787E-2,13,{"$f":"IF(W89<31,AVERAGE(OFFSET(INDEX('Points team et quota finales'!$C$5:$C$34,W89),0,0,COUNTIF($W$6:$W$105,W89))),0)","v":11.5}]
[13,null,null,null,null,null,0,13,56.5,null,null,0,13,56.5,56.5,null,null,0,null,null,0,1.7699115044247787E-2,13,{"$f":"IF(W90<31,AVERAGE(OFFSET(INDEX('Points team et quota finales'!$C$5:$C$34,W90),0,0,COUNTIF($W$6:$W$105,W90))),0)","v":11.5}]
[13,null,null,null,null,null,0,13,56.5,null,null,0,13,56.5,56.5,null,null,0,null,null,0,1.7699115044247787E-2,13,{"$f":"IF(W91<31,AVERAGE(OFFSET(INDEX('Points team et quota finales'!$C$5:$C$34,W91),0,0,COUNTIF($W$6:$W$105,W91))),0)","v":11.5}]
[13,null,null,null,null,null,0,13,56.5,null,null,0,13,56.5,56.5,null,null,0,null,null,0,1.7699115044247787E-2,13,{"$f":"IF(W92<31,AVERAGE(OFFSET(INDEX('Points team et quota finales'!$C$5:$C$34,W92),0,0,COUNTIF($W$6:$W$105,W92))),0)","v":11.5}]
[13,null,null,null,null,null,0,13,56.5,null,null,0,13,56.5,56.5,null,null,0,null,null,0,1.7699115044247787E-2,13,{"$f":"IF(W93<31,AVERAGE(OFFSET(INDEX('Points team et quota finales'!$C$5:$C$34,W93),0,0,COUNTIF($W$6:$W$105,W93))),0)","v":11.5}]
[13,null,null,null,null,null,0,13,56.5,null,null,0,13,56.5,56.5,null,null,0,null,null,0,1.7699115044247787E-2,13,{"$f":"IF(W94<31,AVERAGE(OFFSET(INDEX('Points team et quota finales'!$C$5:$C$34,W94),0,0,COUNTIF($W$6:$W$105,W94))),0)","v":11.5}]
[13,null,null,null,null,null,0,13,56.5,null,null,0,13,56.5,56.5,null,null,0,null,null,0,1.7699115044247787E-2,13,{"$f":"IF(W95<31,AVERAGE(OFFSET(INDEX('Points team et quota finales'!$C$5:$C$34,W95),0,0,COUNTIF($W$6:$W$105,W95))),0)","v":11.5}]
[13,null,null,null,null,null,0,13,56.5,null,null,0,13,56.5,56.5,null,null,0,null,null,0,1.7699115044247787E-2,13,{"$f":"IF(W96<31,AVERAGE(OFFSET(INDEX('Points team et quota finales'!$C$5:$C$34,W96),0,0,COUNTIF($W$6:$W$105,W96))),0)","v":11.5}]
[13,null,null,null,null,null,0,13,56.5,null,null,0,13,56.5,56.5,null,null,0,null,null,0,1.7699115044247787E-2,13,{"$f":"IF(W97<31,AVERAGE(OFFSET(INDEX('Points team et quota finales'!$C$5:$C$34,W97),0,0,COUNTIF($W$6:$W$105,W97))),0)","v":11.5}]
[13,null,null,null,null,null,0,13,56.5,null,null,0,13,56.5,56.5,null,null,0,null,null,0,1.7699115044247787E-2,13,{"$f":"IF(W98<31,AVERAGE(OFFSET(INDEX('Points team et quota finales'!$C$5:$C$34,W98),0,0,COUNTIF($W$6:$W$105,W98))),0)","v":11.5}]
[13,null,null,null,null,null,0,13,56.5,null,null,0,13,56.5,56.5,null,null,0,null,null,0,1.7699115044247787E-2,13,{"$f":"IF(W99<31,AVERAGE(OFFSET(INDEX('Points team et quota finales'!$C$5:$C$34,W99),0,0,COUNTIF($W$6:$W$105,W99))),0)","v":11.5}]
[13,null,null,null,null,null,0,13,56.5,null,null,0,13,56.5,56.5,null,null,0,null,null,0,1.7699115044247787E-2,13,{"$f":"IF(W100<31,AVERAGE(OFFSET(INDEX('Points team et quota finales'!$C$5:$C$34,W100),0,0,COUNTIF($W$6:$W$105,W100))),0)","v":11.5}]
[13,null,null,null,null,null,0,13,56.5,null,null,0,13,56.5,56.5,null,null,0,null,null,0,1.7699115044247787E-2,13,{"$f":"IF(W101<31,AVERAGE(OFFSET(INDEX('Points team et quota finales'!$C$5:$C$34,W101),0,0,COUNTIF($W$6:$W$105,W101))),0)","v":11.5}]
[13,null,null,null,null,null,0,13,56.5,null,null,0,13,56.5,56.5,null,null,0,null,null,0,1.7699115044247787E-2,13,{"$f":"IF(W102<31,AVERAGE(OFFSET(INDEX('Points team et quota finales'!$C$5:$C$34,W102),0,0,COUNTIF($W$6:$W$105,W102))),0)","v":11.5}]
[13,null,null,null,null,null,0,13,56.5,null,null,0,13,56.5,56.5,null,null,0,null,null,0,1.7699115044247787E-2,13,{"$f":"IF(W103<31,AVERAGE(OFFSET(INDEX('Points team et quota finales'!$C$5:$C$34,W103),0,0,COUNTIF($W$6:$W$105,W103))),0)","v":11.5}]
[13,null,null,null,null,null,0,13,56.5,null,null,0,13,56.5,56.5,null,null,0,null,null,0,1.7699115044247787E-2,13,{"$f":"IF(W104<31,AVERAGE(OFFSET(INDEX('Points team et quota finales'!$C$5:$C$34,W104),0,0,COUNTIF($W$6:$W$105,W104))),0)","v":11.5}]
[13,null,null,null,null,null,0,13,56.5,null,null,0,13,56.5,56.5,null,null,0,null,null,0,1.7699115044247787E-2,13,{"$f":"IF(W105<31,AVERAGE(OFFSET(INDEX('Points team et quota finales'!$C$5:$C$34,W105),0,0,COUNTIF($W$6:$W$105,W105))),0)","v":11.5}]
[]
[]
[null,null,null,null,"Top =",30,null,null,null,"Top = ",28,null,null,null,null,"Top =",30,null,"Top =",40]
[null,{"$f":"CONCATENATE(\"Jury President: \",General!$B$6)","v":"Jury President: Lieven Vlassenroot"}]
[]
[null,"Appeal until :"]

{"sheet":"BF PARA","index":3,"n_rows":111,"n_cols":24,"rows_kept":111,"cut":false,"hidden":false,"merged":[[1,0,1,22],[4,4,4,7],[4,9,4,12],[4,15,4,17],[4,18,4,20]]}
[]
[{"$f":"CONCATENATE(General!$B$5,\"  -  RESULTS B Female Para\")","v":"Youth Lead Championship 09-03-2013  -  RESULTS B Female Para"}]
[]
[]
["RANK","Nr","Name","Team","Route 1",null,null,null,"Ranking Points Route 1","Route 2",null,null,null,"Ranking Points Route 2","Root R1 x R2 ","Final ",null,null,"Super Final",null,null,"base pour calcul rang","RANK","Team points"]
[{"$f":"RANK(V6,$V$6:$V$105)","v":1},"BFP01","VANDENHOVEN Pavitra","KLI","TOP",null,{"$f":"IF(E6=\"TOP\",$F$108,IF(F6=\"-\",E6-0.01,IF(F6=\"+\",E6+0.01,E6)))","v":26},{"$f":"RANK(G6,$G$6:$G$105)","v":1},{"$f":"IF(COUNTIF($H$6:$H$105,H6)=1,H6,(H6*2+COUNTIF($H$6:$H$105,H6)-1)/2)","v":1},"TOP",null,{"$f":"IF(J6=\"TOP\",$K$108,IF(K6=\"-\",J6-0.01,IF(K6=\"+\",J6+0.01,J6)))","v":33},{"$f":"RANK(L6,$L$6:$L$105)","v":1},{"$f":"IF(COUNTIF($M$6:$M$105,M6)=1,M6,(M6*2+COUNTIF($M$6:$M$105,M6)-1)/2)","v":1},{"$f":"SQRT(I6*N6)","v":1},"TOP",null,{"$f":"IF(P6=\"TOP\",$Q$108,IF(Q6=\"-\",P6-0.01,IF(Q6=\"+\",P6+0.01,P6)))","v":35},null,null,{"$f":"IF($S6=\"TOP\",$T$108,IF($T6=\"-\",$S6-0.01,IF($T6=\"+\",$S6+0.01,$S6)))","v":0},{"$f":"IF(U6<>0,U6*1000+R6*100+1/O6,IF(R6<>0,R6*100+1/O6,1/O6))","v":3501},{"$f":"A6","v":1},{"$f":"IF(W6<31,AVERAGE(OFFSET(INDEX('Points team et quota finales'!$C$5:$C$34,W6),0,0,COUNTIF($W$6:$W$105,W6))),0)","v":100}]
[{"$f":"RANK(V7,$V$6:$V$105)","v":2},null,null,null,null,null,0,2,51,null,null,0,2,51,51,null,null,0,null,null,0,1.9607843137254902E-2,2,{"$f":"IF(W7<31,AVERAGE(OFFSET(INDEX('Points team et quota finales'!$C$5:$C$34,W7),0,0,COUNTIF($W$6:$W$105,W7))),0)","v":24.758620689655171}]
[2,null,null,null,null,null,0,2,51,null,null,0,2,51,51,null,null,0,null,null,0,1.9607843137254902E-2,2,{"$f":"IF(W8<31,AVERAGE(OFFSET(INDEX('Points team et quota finales'!$C$5:$C$34,W8),0,0,COUNTIF($W$6:$W$105,W8))),0)","v":24.758620689655171}]
[2,null,null,null,null,null,0,2,51,null,null,0,2,51,51,null,null,0,null,null,0,1.9607843137254902E-2,2,{"$f":"IF(W9<31,AVERAGE(OFFSET(INDEX('Points team et quota finales'!$C$5:$C$34,W9),0,0,COUNTIF($W$6:$W$105,W9))),0)","v":24.758620689655171}]
[2,null,null,null,null,null,0,2,51,null,null,0,2,51,51,null,null,0,null,null,0,1.9607843137254902E-2,2,{"$f":"IF(W10<31,AVERAGE(OFFSET(INDEX('Points team et quota finales'!$C$5:$C$34,W10),0,0,COUNTIF($W$6:$W$105,W10))),0)","v":24.758620689655171}]
[2,null,null,null,null,null,0,2,51,null,null,0,2,51,51,null,null,0,null,null,0,1.9607843137254902E-2,2,{"$f":"IF(W11<31,AVERAGE(OFFSET(INDEX('Points team et quota finales'!$C$5:$C$34,W11),0,0,COUNTIF($W$6:$W$105,W11))),0)","v":24.758620689655171}]
[2,null,null,null,null,null,0,2,51,null,null,0,2,51,51,null,null,0,null,null,0,1.9607843137254902E-2,2,{"$f":"IF(W12<31,AVERAGE(OFFSET(INDEX('Points team et quota finales'!$C$5:$C$34,W12),0,0,COUNTIF($W$6:$W$105,W12))),0)","v":24.758620689655171}]
[2,null,null,null,null,null,0,2,51,null,null,0,2,51,51,null,null,0,null,null,0,1.9607843137254902E-2,2,{"$f":"IF(W13<31,AVERAGE(OFFSET(INDEX('Points team et quota finales'!$C$5:$C$34,W13),0,0,COUNTIF($W$6:$W$105,W13))),0)","v":24.758620689655171}]
[2,null,null,null,null,null,0,2,51,null,null,0,2,51,51,null,null,0,null,null,0,1.9607843137254902E-2,2,{"$f":"IF(W14<31,AVERAGE(OFFSET(INDEX('Points team et quota finales'!$C$5:$C$34,W14),0,0,COUNTIF($W$6:$W$105,W14))),0)","v":24.758620689655171}]
[2,null,null,null,null,null,0,2,51,null,null,0,2,51,51,null,null,0,null,null,0,1.9607843137254902E-2,2,{"$f":"IF(W15<31,AVERAGE(OFFSET(INDEX('Points team et quota finales'!$C$5:$C$34,W15),0,0,COUNTIF($W$6:$W$105,W15))),0)","v":24.758620689655171}]
[2,null,null,null,null,null,0,2,51,null,null,0,2,51,51,null,null,0,null,null,0,1.9607843137254902E-2,2,{"$f":"IF(W16<31,AVERAGE(OFFSET(INDEX('Points team et quota finales'!$C$5:$C$34,W16),0,0,COUNTIF($W$6:$W$105,W16))),0)","v":24.758620689655171}]
[2,null,null,null,null,null,0,2,51,null,null,0,2,51,51,null,null,0,null,null,0,1.9607843137254902E-2,2,{"$f":"IF(W17<31,AVERAGE(OFFSET(INDEX('Points team et quota finales'!$C$5:$C$34,W17),0,0,COUNTIF($W$6:$W$105,W17))),0)","v":24.758620689655171}]
[2,null,null,null,null,null,0,2,51,null,null,0,2,51,51,null,null,0,null,null,0,1.9607843137254902E-2,2,{"$f":"IF(W18<31,AVERAGE(OFFSET(INDEX('Points team et quota finales'!$C$5:$C$34,W18),0,0,COUNTIF($W$6:$W$105,W18))),0)","v":24.758620689655171}]
[2,null,null,null,null,null,0,2,51,null,null,0,2,51,51,null,null,0,null,null,0,1.9607843137254902E-2,2,{"$f":"IF(W19<31,AVERAGE(OFFSET(INDEX('Points team et quota finales'!$C$5:$C$34,W19),0,0,COUNTIF($W$6:$W$105,W19))),0)","v":24.758620689655171}]
[2,null,null,null,null,null,0,2,51,null,null,0,2,51,51,null,null,0,null,null,0,1.9607843137254902E-2,2,{"$f":"IF(W20<31,AVERAGE(OFFSET(INDEX('Points team et quota finales'!$C$5:$C$34,W20),0,0,COUNTIF($W$6:$W$105,W20))),0)","v":24.758620689655171}]
[2,null,null,null,null,null,0,2,51,null,null,0,2,51,51,null,null,0,null,null,0,1.9607843137254902E-2,2,{"$f":"IF(W21<31,AVERAGE(OFFSET(INDEX('Points team et quota finales'!$C$5:$C$34,W21),0,0,COUNTIF($W$6:$W$105,W21))),0)","v":24.758620689655171}]
[2,null,null,null,null,null,0,2,51,null,null,0,2,51,51,null,null,0,null,null,0,1.9607843137254902E-2,2,{"$f":"IF(W22<31,AVERAGE(OFFSET(INDEX('Points team et quota finales'!$C$5:$C$34,W22),0,0,COUNTIF($W$6:$W$105,W22))),0)","v":24.758620689655171}]
[2,null,null,null,null,null,0,2,51,null,null,0,2,51,51,null,null,0,null,null,0,1.9607843137254902E-2,2,{"$f":"IF(W23<31,AVERAGE(OFFSET(INDEX('Points team et quota finales'!$C$5:$C$34,W23),0,0,COUNTIF($W$6:$W$105,W23))),0)","v":24.758620689655171}]
[2,null,null,null,null,null,0,2,51,null,null,0,2,51,51,null,null,0,null,null,0,1.9607843137254902E-2,2,{"$f":"IF(W24<31,AVERAGE(OFFSET(INDEX('Points team et quota finales'!$C$5:$C$34,W24),0,0,COUNTIF($W$6:$W$105,W24))),0)","v":24.758620689655171}]
[2,null,null,null,null,null,0,2,51,null,null,0,2,51,51,null,null,0,null,null,0,1.9607843137254902E-2,2,{"$f":"IF(W25<31,AVERAGE(OFFSET(INDEX('Points team et quota finales'!$C$5:$C$34,W25),0,0,COUNTIF($W$6:$W$105,W25))),0)","v":24.758620689655171}]
[2,null,null,null,null,null,0,2,51,null,null,0,2,51,51,null,null,0,null,null,0,1.9607843137254902E-2,2,{"$f":"IF(W26<31,AVERAGE(OFFSET(INDEX('Points team et quota finales'!$C$5:$C$34,W26),0,0,COUNTIF($W$6:$W$105,W26))),0)","v":24.758620689655171}]
[2,null,null,null,null,null,0,2,51,null,null,0,2,51,51,null,null,0,null,null,0,1.9607843137254902E-2,2,{"$f":"IF(W27<31,AVERAGE(OFFSET(INDEX('Points team et quota finales'!$C$5:$C$34,W27),0,0,COUNTIF($W$6:$W$105,W27))),0)","v":24.758620689655171}]
[2,null,null,null,null,null,0,2,51,null,null,0,2,51,51,null,null,0,null,null,0,1.9607843137254902E-2,2,{"$f":"IF(W28<31,AVERAGE(OFFSET(INDEX('Points team et quota finales'!$C$5:$C$34,W28),0,0,COUNTIF($W$6:$W$105,W28))),0)","v":24.758620689655171}]
[2,null,null,null,null,null,0,2,51,null,null,0,2,51,51,null,null,0,null,null,0,1.9607843137254902E-2,2,{"$f":"IF(W29<31,AVERAGE(OFFSET(INDEX('Points team et quota finales'!$C$5:$C$34,W29),0,0,COUNTIF($W$6:$W$105,W29))),0)","v":24.758620689655171}]
[2,null,null,null,null,null,0,2,51,null,null,0,2,51,51,null,null,0,null,null,0,1.9607843137254902E-2,2,{"$f":"IF(W30<31,AVERAGE(OFFSET(INDEX('Points team et quota finales'!$C$5:$C$34,W30),0,0,COUNTIF($W$6:$W$105,W30))),0)","v":24.758620689655171}]
[2,null,null,null,null,null,0,2,51,null,null,0,2,51,51,null,null,0,null,null,0,1.9607843137254902E-2,2,{"$f":"IF(W31<31,AVERAGE(OFFSET(INDEX('Points team et quota finales'!$C$5:$C$34,W31),0,0,COUNTIF($W$6:$W$105,W31))),0)","v":24.758620689655171}]
[2,null,null,null,null,null,0,2,51,null,null,0,2,51,51,null,null,0,null,null,0,1.9607843137254902E-2,2,{"$f":"IF(W32<31,AVERAGE(OFFSET(INDEX('Points team et quota finales'!$C$5:$C$34,W32),0,0,COUNTIF($W$6:$W$105,W32))),0)","v":24.758620689655171}]
[2,null,null,null,null,null,0,2,51,null,null,0,2,51,51,null,null,0,null,null,0,1.9607843137254902E-2,2,{"$f":"IF(W33<31,AVERAGE(OFFSET(INDEX('Points team et quota finales'!$C$5:$C$34,W33),0,0,COUNTIF($W$6:$W$105,W33))),0)","v":24.758620689655171}]
[2,null,null,null,null,null,0,2,51,null,null,0,2,51,51,null,null,0,null,null,0,1.9607843137254902E-2,2,{"$f":"IF(W34<31,AVERAGE(OFFSET(INDEX('Points team et quota finales'!$C$5:$C$34,W34),0,0,COUNTIF($W$6:$W$105,W34))),0)","v":24.758620689655171}]
[2,null,null,null,null,null,0,2,51,null,null,0,2,51,51,null,null,0,null,null,0,1.9607843137254902E-2,2,{"$f":"IF(W35<31,AVERAGE(OFFSET(INDEX('Points team et quota finales'!$C$5:$C$34,W35),0,0,COUNTIF($W$6:$W$105,W35))),0)","v":24.758620689655171}]
[2,null,null,null,null,null,0,2,51,null,null,0,2,51,51,null,null,0,null,null,0,1.9607843137254902E-2,2,{"$f":"IF(W36<31,AVERAGE(OFFSET(INDEX('Points team et quota finales'!$C$5:$C$34,W36),0,0,COUNTIF($W$6:$W$105,W36))),0)","v":24.758620689655171}]
[2,null,null,null,null,null,0,2,51,null,null,0,2,51,51,null,null,0,null,null,0,1.9607843137254902E-2,2,{"$f":"IF(W37<31,AVERAGE(OFFSET(INDEX('Points team et quota finales'!$C$5:$C$34,W37),0,0,COUNTIF($W$6:$W$105,W37))),0)","v":24.758620689655171}]
[2,null,null,null,null,null,0,2,51,null,null,0,2,51,51,null,null,0,null,null,0,1.9607843137254902E-2,2,{"$f":"IF(W38<31,AVERAGE(OFFSET(INDEX('Points team et quota finales'!$C$5:$C$34,W38),0,0,COUNTIF($W$6:$W$105,W38))),0)","v":24.758620689655171}]
[2,null,null,null,null,null,0,2,51,null,null,0,2,51,51,null,null,0,null,null,0,1.9607843137254902E-2,2,{"$f":"IF(W39<31,AVERAGE(OFFSET(INDEX('Points team et quota finales'!$C$5:$C$34,W39),0,0,COUNTIF($W$6:$W$105,W39))),0)","v":24.758620689655171}]
[2,null,null,null,null,null,0,2,51,null,null,0,2,51,51,null,null,0,null,null,0,1.9607843137254902E-2,2,{"$f":"IF(W40<31,AVERAGE(OFFSET(INDEX('Points team et quota finales'!$C$5:$C$34,W40),0,0,COUNTIF($W$6:$W$105,W40))),0)","v":24.758620689655171}]
[2,null,null,null,null,null,0,2,51,null,null,0,2,51,51,null,null,0,null,null,0,1.9607843137254902E-2,2,{"$f":"IF(W41<31,AVERAGE(OFFSET(INDEX('Points team et quota finales'!$C$5:$C$34,W41),0,0,COUNTIF($W$6:$W$105,W41))),0)","v":24.758620689655171}]
[2,null,null,null,null,null,0,2,51,null,null,0,2,51,51,null,null,0,null,null,0,1.9607843137254902E-2,2,{"$f":"IF(W42<31,AVERAGE(OFFSET(INDEX('Points team et quota finales'!$C$5:$C$34,W42),0,0,COUNTIF($W$6:$W$105,W42))),0)","v":24.758620689655171}]
[2,null,null,null,null,null,0,2,51,null,null,0,2,51,51,null,null,0,null,null,0,1.9607843137254902E-2,2,{"$f":"IF(W43<31,AVERAGE(OFFSET(INDEX('Points team et quota finales'!$C$5:$C$34,W43),0,0,COUNTIF($W$6:$W$105,W43))),0)","v":24.758620689655171}]
[2,null,null,null,null,null,0,2,51,null,null,0,2,51,51,null,null,0,null,null,0,1.9607843137254902E-2,2,{"$f":"IF(W44<31,AVERAGE(OFFSET(INDEX('Points team et quota finales'!$C$5:$C$34,W44),0,0,COUNTIF($W$6:$W$105,W44))),0)","v":24.758620689655171}]
[2,null,null,null,null,null,0,2,51,null,null,0,2,51,51,null,null,0,null,null,0,1.9607843137254902E-2,2,{"$f":"IF(W45<31,AVERAGE(OFFSET(INDEX('Points team et quota finales'!$C$5:$C$34,W45),0,0,COUNTIF($W$6:$W$105,W45))),0)","v":24.758620689655171}]
[2,null,null,null,null,null,0,2,51,null,null,0,2,51,51,null,null,0,null,null,0,1.9607843137254902E-2,2,{"$f":"IF(W46<31,AVERAGE(OFFSET(INDEX('Points team et quota finales'!$C$5:$C$34,W46),0,0,COUNTIF($W$6:$W$105,W46))),0)","v":24.758620689655171}]
[2,null,null,null,null,null,0,2,51,null,null,0,2,51,51,null,null,0,null,null,0,1.9607843137254902E-2,2,{"$f":"IF(W47<31,AVERAGE(OFFSET(INDEX('Points team et quota finales'!$C$5:$C$34,W47),0,0,COUNTIF($W$6:$W$105,W47))),0)","v":24.758620689655171}]
[2,null,null,null,null,null,0,2,51,null,null,0,2,51,51,null,null,0,null,null,0,1.9607843137254902E-2,2,{"$f":"IF(W48<31,AVERAGE(OFFSET(INDEX('Points team et quota finales'!$C$5:$C$34,W48),0,0,COUNTIF($W$6:$W$105,W48))),0)","v":24.758620689655171}]
[2,null,null,null,null,null,0,2,51,null,null,0,2,51,51,null,null,0,null,null,0,1.9607843137254902E-2,2,{"$f":"IF(W49<31,AVERAGE(OFFSET(INDEX('Points team et quota finales'!$C$5:$C$34,W49),0,0,COUNTIF($W$6:$W$105,W49))),0)","v":24.758620689655171}]
[2,null,null,null,null,null,0,2,51,null,null,0,2,51,51,null,null,0,null,null,0,1.9607843137254902E-2,2,{"$f":"IF(W50<31,AVERAGE(OFFSET(INDEX('Points team et quota finales'!$C$5:$C$34,W50),0,0,COUNTIF($W$6:$W$105,W50))),0)","v":24.758620689655171}]
[2,null,null,null,null,null,0,2,51,null,null,0,2,51,51,null,null,0,null,null,0,1.9607843137254902E-2,2,{"$f":"IF(W51<31,AVERAGE(OFFSET(INDEX('Points team et quota finales'!$C$5:$C$34,W51),0,0,COUNTIF($W$6:$W$105,W51))),0)","v":24.758620689655171}]
[2,null,null,null,null,null,0,2,51,null,null,0,2,51,51,null,null,0,null,null,0,1.9607843137254902E-2,2,{"$f":"IF(W52<31,AVERAGE(OFFSET(INDEX('Points team et quota finales'!$C$5:$C$34,W52),0,0,COUNTIF($W$6:$W$105,W52))),0)","v":24.758620689655171}]
[2,null,null,null,null,null,0,2,51,null,null,0,2,51,51,null,null,0,null,null,0,1.9607843137254902E-2,2,{"$f":"IF(W53<31,AVERAGE(OFFSET(INDEX('Points team et quota finales'!$C$5:$C$34,W53),0,0,COUNTIF($W$6:$W$105,W53))),0)","v":24.758620689655171}]
[2,null,null,null,null,null,0,2,51,null,null,0,2,51,51,null,null,0,null,null,0,1.9607843137254902E-2,2,{"$f":"IF(W54<31,AVERAGE(OFFSET(INDEX('Points team et quota finales'!$C$5:$C$34,W54),0,0,COUNTIF($W$6:$W$105,W54))),0)","v":24.758620689655171}]
[2,null,null,null,null,null,0,2,51,null,null,0,2,51,51,null,null,0,null,null,0,1.9607843137254902E-2,2,{"$f":"IF(W55<31,AVERAGE(OFFSET(INDEX('Points team et quota finales'!$C$5:$C$34,W55),0,0,COUNTIF($W$6:$W$105,W55))),0)","v":24.758620689655171}]
[2,null,null,null,null,null,0,2,51,null,null,0,2,51,51,null,null,0,null,null,0,1.9607843137254902E-2,2,{"$f":"IF(W56<31,AVERAGE(OFFSET(INDEX('Points team et quota finales'!$C$5:$C$34,W56),0,0,COUNTIF($W$6:$W$105,W56))),0)","v":24.758620689655171}]
[2,null,null,null,null,null,0,2,51,null,null,0,2,51,51,null,null,0,null,null,0,1.9607843137254902E-2,2,{"$f":"IF(W57<31,AVERAGE(OFFSET(INDEX('Points team et quota finales'!$C$5:$C$34,W57),0,0,COUNTIF($W$6:$W$105,W57))),0)","v":24.758620689655171}]
[2,null,null,null,null,null,0,2,51,null,null,0,2,51,51,null,null,0,null,null,0,1.9607843137254902E-2,2,{"$f":"IF(W58<31,AVERAGE(OFFSET(INDEX('Points team et quota finales'!$C$5:$C$34,W58),0,0,COUNTIF($W$6:$W$105,W58))),0)","v":24.758620689655171}]
[2,null,null,null,null,null,0,2,51,null,null,0,2,51,51,null,null,0,null,null,0,1.9607843137254902E-2,2,{"$f":"IF(W59<31,AVERAGE(OFFSET(INDEX('Points team et quota finales'!$C$5:$C$34,W59),0,0,COUNTIF($W$6:$W$105,W59))),0)","v":24.758620689655171}]
[2,null,null,null,null,null,0,2,51,null,null,0,2,51,51,null,null,0,null,null,0,1.9607843137254902E-2,2,{"$f":"IF(W60<31,AVERAGE(OFFSET(INDEX('Points team et quota finales'!$C$5:$C$34,W60),0,0,COUNTIF($W$6:$W$105,W60))),0)","v":24.758620689655171}]
[2,null,null,null,null,null,0,2,51,null,null,0,2,51,51,null,null,0,null,null,0,1.9607843137254902E-2,2,{"$f":"IF(W61<31,AVERAGE(OFFSET(INDEX('Points team et quota finales'!$C$5:$C$34,W61),0,0,COUNTIF($W$6:$W$105,W61))),0)","v":24.758620689655171}]
[2,null,null,null,null,null,0,2,51,null,null,0,2,51,51,null,null,0,null,null,0,1.9607843137254902E-2,2,{"$f":"IF(W62<31,AVERAGE(OFFSET(INDEX('Points team et quota finales'!$C$5:$C$34,W62),0,0,COUNTIF($W$6:$W$105,W62))),0)","v":24.758620689655171}]
[2,null,null,null,null,null,0,2,51,null,null,0,2,51,51,null,null,0,null,null,0,1.9607843137254902E-2,2,{"$f":"IF(W63<31,AVERAGE(OFFSET(INDEX('Points team et quota finales'!$C$5:$C$34,W63),0,0,COUNTIF($W$6:$W$105,W63))),0)","v":24.758620689655171}]
[2,null,null,null,null,null,0,2,51,null,null,0,2,51,51,null,null,0,null,null,0,1.9607843137254902E-2,2,{"$f":"IF(W64<31,AVERAGE(OFFSET(INDEX('Points team et quota finales'!$C$5:$C$34,W64),0,0,COUNTIF($W$6:$W$105,W64))),0)","v":24.758620689655171}]
[2,null,null,null,null,null,0,2,51,null,null,0,2,51,51,null,null,0,null,null,0,1.9607843137254902E-2,2,{"$f":"IF(W65<31,AVERAGE(OFFSET(INDEX('Points team et quota finales'!$C$5:$C$34,W65),0,0,COUNTIF($W$6:$W$105,W65))),0)","v":24.758620689655171}]
[2,null,null,null,null,null,0,2,51,null,null,0,2,51,51,null,null,0,null,null,0,1.9607843137254902E-2,2,{"$f":"IF(W66<31,AVERAGE(OFFSET(INDEX('Points team et quota finales'!$C$5:$C$34,W66),0,0,COUNTIF($W$6:$W$105,W66))),0)","v":24.758620689655171}]
[2,null,null,null,null,null,0,2,51,null,null,0,2,51,51,null,null,0,null,null,0,1.9607843137254902E-2,2,{"$f":"IF(W67<31,AVERAGE(OFFSET(INDEX('Points team et quota finales'!$C$5:$C$34,W67),0,0,COUNTIF($W$6:$W$105,W67))),0)","v":24.758620689655171}]
[2,null,null,null,null,null,0,2,51,null,null,0,2,51,51,null,null,0,null,null,0,1.9607843137254902E-2,2,{"$f":"IF(W68<31,AVERAGE(OFFSET(INDEX('Points team et quota finales'!$C$5:$C$34,W68),0,0,COUNTIF($W$6:$W$105,W68))),0)","v":24.758620689655171}]
[2,null,null,null,null,null,0,2,51,null,null,0,2,51,51,null,null,0,null,null,0,1.9607843137254902E-2,2,{"$f":"IF(W69<31,AVERAGE(OFFSET(INDEX('Points team et quota finales'!$C$5:$C$34,W69),0,0,COUNTIF($W$6:$W$105,W69))),0)","v":24.758620689655171}]
[2,null,null,null,null,null,{"$f":"IF(E70=\"TOP\",$F$108,IF(F70=\"-\",E70-0.01,IF(F70=\"+\",E70+0.01,E70)))","v":0},{"$f":"RANK(G70,$G$6:$G$105)","v":2},{"$f":"IF(COUNTIF($H$6:$H$105,H70)=1,H70,(H70*2+COUNTIF($H$6:$H$105,H70)-1)/2)","v":51},null,null,{"$f":"IF(J70=\"TOP\",$K$108,IF(K70=\"-\",J70-0.01,IF(K70=\"+\",J70+0.01,J70)))","v":0},{"$f":"RANK(L70,$L$6:$L$105)","v":2},{"$f":"IF(COUNTIF($M$6:$M$105,M70)=1,M70,(M70*2+COUNTIF($M$6:$M$105,M70)-1)/2)","v":51},{"$f":"SQRT(I70*N70)","v":51},null,null,{"$f":"IF(P70=\"TOP\",$Q$108,IF(Q70=\"-\",P70-0.01,IF(Q70=\"+\",P70+0.01,P70)))","v":0},null,null,{"$f":"IF($S70=\"TOP\",$T$108,IF($T70=\"-\",$S70-0.01,IF($T70=\"+\",$S70+0.01,$S70)))","v":0},{"$f":"IF(U70<>0,U70*1000+R70*100+1/O70,IF(R70<>0,R70*100+1/O70,1/O70))","v":1.9607843137254902E-2},{"$f":"A70","v":2},{"$f":"IF(W70<31,AVERAGE(OFFSET(INDEX('Points team et quota finales'!$C$5:$C$34,W70),0,0,COUNTIF($W$6:$W$105,W70))),0)","v":24.758620689655171}]
[{"$f":"RANK(V71,$V$6:$V$105)","v":2},null,null,null,null,null,0,2,51,null,null,0,2,51,51,null,null,0,null,null,0,1.9607843137254902E-2,2,{"$f":"IF(W71<31,AVERAGE(OFFSET(INDEX('Points team et quota finales'!$C$5:$C$34,W71),0,0,COUNTIF($W$6:$W$105,W71))),0)","v":24.758620689655171}]
[2,null,null,null,null,null,0,2,51,null,null,0,2,51,51,null,null,0,null,null,0,1.9607843137254902E-2,2,{"$f":"IF(W72<31,AVERAGE(OFFSET(INDEX('Points team et quota finales'!$C$5:$C$34,W72),0,0,COUNTIF($W$6:$W$105,W72))),0)","v":24.758620689655171}]
[2,null,null,null,null,null,0,2,51,null,null,0,2,51,51,null,null,0,null,null,0,1.9607843137254902E-2,2,{"$f":"IF(W73<31,AVERAGE(OFFSET(INDEX('Points team et quota finales'!$C$5:$C$34,W73),0,0,COUNTIF($W$6:$W$105,W73))),0)","v":24.758620689655171}]
[2,null,null,null,null,null,0,2,51,null,null,0,2,51,51,null,null,0,null,null,0,1.9607843137254902E-2,2,{"$f":"IF(W74<31,AVERAGE(OFFSET(INDEX('Points team et quota finales'!$C$5:$C$34,W74),0,0,COUNTIF($W$6:$W$105,W74))),0)","v":24.758620689655171}]
[2,null,null,null,null,null,0,2,51,null,null,0,2,51,51,null,null,0,null,null,0,1.9607843137254902E-2,2,{"$f":"IF(W75<31,AVERAGE(OFFSET(INDEX('Points team et quota finales'!$C$5:$C$34,W75),0,0,COUNTIF($W$6:$W$105,W75))),0)","v":24.758620689655171}]
[2,null,null,null,null,null,0,2,51,null,null,0,2,51,51,null,null,0,null,null,0,1.9607843137254902E-2,2,{"$f":"IF(W76<31,AVERAGE(OFFSET(INDEX('Points team et quota finales'!$C$5:$C$34,W76),0,0,COUNTIF($W$6:$W$105,W76))),0)","v":24.758620689655171}]
[2,null,null,null,null,null,0,2,51,null,null,0,2,51,51,null,null,0,null,null,0,1.9607843137254902E-2,2,{"$f":"IF(W77<31,AVERAGE(OFFSET(INDEX('Points team et quota finales'!$C$5:$C$34,W77),0,0,COUNTIF($W$6:$W$105,W77))),0)","v":24.758620689655171}]
[2,null,null,null,null,null,0,2,51,null,null,0,2,51,51,null,null,0,null,null,0,1.9607843137254902E-2,2,{"$f":"IF(W78<31,AVERAGE(OFFSET(INDEX('Points team et quota finales'!$C$5:$C$34,W78),0,0,COUNTIF($W$6:$W$105,W78))),0)","v":24.758620689655171}]
[2,null,null,null,null,null,0,2,51,null,null,0,2,51,51,null,null,0,null,null,0,1.9607843137254902E-2,2,{"$f":"IF(W79<31,AVERAGE(OFFSET(INDEX('Points team et quota finales'!$C$5:$C$34,W79),0,0,COUNTIF($W$6:$W$105,W79))),0)","v":24.758620689655171}]
[2,null,null,null,null,null,0,2,51,null,null,0,2,51,51,null,null,0,null,null,0,1.9607843137254902E-2,2,{"$f":"IF(W80<31,AVERAGE(OFFSET(INDEX('Points team et quota finales'!$C$5:$C$34,W80),0,0,COUNTIF($W$6:$W$105,W80))),0)","v":24.758620689655171}]
[2,null,null,null,null,null,0,2,51,null,null,0,2,51,51,null,null,0,null,null,0,1.9607843137254902E-2,2,{"$f":"IF(W81<31,AVERAGE(OFFSET(INDEX('Points team et quota finales'!$C$5:$C$34,W81),0,0,COUNTIF($W$6:$W$105,W81))),0)","v":24.758620689655171}]
[2,null,null,null,null,null,0,2,51,null,null,0,2,51,51,null,null,0,null,null,0,1.9607843137254902E-2,2,{"$f":"IF(W82<31,AVERAGE(OFFSET(INDEX('Points team et quota finales'!$C$5:$C$34,W82),0,0,COUNTIF($W$6:$W$105,W82))),0)","v":24.758620689655171}]
[2,null,null,null,null,null,0,2,51,null,null,0,2,51,51,null,null,0,null,null,0,1.9607843137254902E-2,2,{"$f":"IF(W83<31,AVERAGE(OFFSET(INDEX('Points team et quota finales'!$C$5:$C$34,W83),0,0,COUNTIF($W$6:$W$105,W83))),0)","v":24.758620689655171}]
[2,null,null,null,null,null,0,2,51,null,null,0,2,51,51,null,null,0,null,null,0,1.9607843137254902E-2,2,{"$f":"IF(W84<31,AVERAGE(OFFSET(INDEX('Points team et quota finales'!$C$5:$C$34,W84),0,0,COUNTIF($W$6:$W$105,W84))),0)","v":24.758620689655171}]
[2,null,null,null,null,null,0,2,51,null,null,0,2,51,51,null,null,0,null,null,0,1.9607843137254902E-2,2,{"$f":"IF(W85<31,AVERAGE(OFFSET(INDEX('Points team et quota finales'!$C$5:$C$34,W85),0,0,COUNTIF($W$6:$W$105,W85))),0)","v":24.758620689655171}]
[2,null,null,null,null,null,0,2,51,null,null,0,2,51,51,null,null,0,null,null,0,1.9607843137254902E-2,2,{"$f":"IF(W86<31,AVERAGE(OFFSET(INDEX('Points team et quota finales'!$C$5:$C$34,W86),0,0,COUNTIF($W$6:$W$105,W86))),0)","v":24.758620689655171}]
[2,null,null,null,null,null,0,2,51,null,null,0,2,51,51,null,null,0,null,null,0,1.9607843137254902E-2,2,{"$f":"IF(W87<31,AVERAGE(OFFSET(INDEX('Points team et quota finales'!$C$5:$C$34,W87),0,0,COUNTIF($W$6:$W$105,W87))),0)","v":24.758620689655171}]
[2,null,null,null,null,null,0,2,51,null,null,0,2,51,51,null,null,0,null,null,0,1.9607843137254902E-2,2,{"$f":"IF(W88<31,AVERAGE(OFFSET(INDEX('Points team et quota finales'!$C$5:$C$34,W88),0,0,COUNTIF($W$6:$W$105,W88))),0)","v":24.758620689655171}]
[2,null,null,null,null,null,0,2,51,null,null,0,2,51,51,null,null,0,null,null,0,1.9607843137254902E-2,2,{"$f":"IF(W89<31,AVERAGE(OFFSET(INDEX('Points team et quota finales'!$C$5:$C$34,W89),0,0,COUNTIF($W$6:$W$105,W89))),0)","v":24.758620689655171}]
[2,null,null,null,null,null,0,2,51,null,null,0,2,51,51,null,null,0,null,null,0,1.9607843137254902E-2,2,{"$f":"IF(W90<31,AVERAGE(OFFSET(INDEX('Points team et quota finales'!$C$5:$C$34,W90),0,0,COUNTIF($W$6:$W$105,W90))),0)","v":24.758620689655171}]
[2,null,null,null,null,null,0,2,51,null,null,0,2,51,51,null,null,0,null,null,0,1.9607843137254902E-2,2,{"$f":"IF(W91<31,AVERAGE(OFFSET(INDEX('Points team et quota finales'!$C$5:$C$34,W91),0,0,COUNTIF($W$6:$W$105,W91))),0)","v":24.758620689655171}]
[2,null,null,null,null,null,0,2,51,null,null,0,2,51,51,null,null,0,null,null,0,1.9607843137254902E-2,2,{"$f":"IF(W92<31,AVERAGE(OFFSET(INDEX('Points team et quota finales'!$C$5:$C$34,W92),0,0,COUNTIF($W$6:$W$105,W92))),0)","v":24.758620689655171}]
[2,null,null,null,null,null,0,2,51,null,null,0,2,51,51,null,null,0,null,null,0,1.9607843137254902E-2,2,{"$f":"IF(W93<31,AVERAGE(OFFSET(INDEX('Points team et quota finales'!$C$5:$C$34,W93),0,0,COUNTIF($W$6:$W$105,W93))),0)","v":24.758620689655171}]
[2,null,null,null,null,null,0,2,51,null,null,0,2,51,51,null,null,0,null,null,0,1.9607843137254902E-2,2,{"$f":"IF(W94<31,AVERAGE(OFFSET(INDEX('Points team et quota finales'!$C$5:$C$34,W94),0,0,COUNTIF($W$6:$W$105,W94))),0)","v":24.758620689655171}]
[2,null,null,null,null,null,0,2,51,null,null,0,2,51,51,null,null,0,null,null,0,1.9607843137254902E-2,2,{"$f":"IF(W95<31,AVERAGE(OFFSET(INDEX('Points team et quota finales'!$C$5:$C$34,W95),0,0,COUNTIF($W$6:$W$105,W95))),0)","v":24.758620689655171}]
[2,null,null,null,null,null,0,2,51,null,null,0,2,51,51,null,null,0,null,null,0,1.9607843137254902E-2,2,{"$f":"IF(W96<31,AVERAGE(OFFSET(INDEX('Points team et quota finales'!$C$5:$C$34,W96),0,0,COUNTIF($W$6:$W$105,W96))),0)","v":24.758620689655171}]
[2,null,null,null,null,null,0,2,51,null,null,0,2,51,51,null,null,0,null,null,0,1.9607843137254902E-2,2,{"$f":"IF(W97<31,AVERAGE(OFFSET(INDEX('Points team et quota finales'!$C$5:$C$34,W97),0,0,COUNTIF($W$6:$W$105,W97))),0)","v":24.758620689655171}]
[2,null,null,null,null,null,0,2,51,null,null,0,2,51,51,null,null,0,null,null,0,1.9607843137254902E-2,2,{"$f":"IF(W98<31,AVERAGE(OFFSET(INDEX('Points team et quota finales'!$C$5:$C$34,W98),0,0,COUNTIF($W$6:$W$105,W98))),0)","v":24.758620689655171}]
[2,null,null,null,null,null,0,2,51,null,null,0,2,51,51,null,null,0,null,null,0,1.9607843137254902E-2,2,{"$f":"IF(W99<31,AVERAGE(OFFSET(INDEX('Points team et quota finales'!$C$5:$C$34,W99),0,0,COUNTIF($W$6:$W$105,W99))),0)","v":24.758620689655171}]
[2,null,null,null,null,null,0,2,51,null,null,0,2,51,51,null,null,0,null,null,0,1.9607843137254902E-2,2,{"$f":"IF(W100<31,AVERAGE(OFFSET(INDEX('Points team et quota finales'!$C$5:$C$34,W100),0,0,COUNTIF($W$6:$W$105,W100))),0)","v":24.758620689655171}]
[2,null,null,null,null,null,0,2,51,null,null,0,2,51,51,null,null,0,null,null,0,1.9607843137254902E-2,2,{"$f":"IF(W101<31,AVERAGE(OFFSET(INDEX('Points team et quota finales'!$C$5:$C$34,W101),0,0,COUNTIF($W$6:$W$105,W101))),0)","v":24.758620689655171}]
[2,null,null,null,null,null,0,2,51,null,null,0,2,51,51,null,null,0,null,null,0,1.9607843137254902E-2,2,{"$f":"IF(W102<31,AVERAGE(OFFSET(INDEX('Points team et quota finales'!$C$5:$C$34,W102),0,0,COUNTIF($W$6:$W$105,W102))),0)","v":24.758620689655171}]
[2,null,null,null,null,null,0,2,51,null,null,0,2,51,51,null,null,0,null,null,0,1.9607843137254902E-2,2,{"$f":"IF(W103<31,AVERAGE(OFFSET(INDEX('Points team et quota finales'!$C$5:$C$34,W103),0,0,COUNTIF($W$6:$W$105,W103))),0)","v":24.758620689655171}]
[2,null,null,null,null,null,0,2,51,null,null,0,2,51,51,null,null,0,null,null,0,1.9607843137254902E-2,2,{"$f":"IF(W104<31,AVERAGE(OFFSET(INDEX('Points team et quota finales'!$C$5:$C$34,W104),0,0,COUNTIF($W$6:$W$105,W104))),0)","v":24.758620689655171}]
[2,null,null,null,null,null,0,2,51,null,null,0,2,51,51,null,null,0,null,null,0,1.9607843137254902E-2,2,{"$f":"IF(W105<31,AVERAGE(OFFSET(INDEX('Points team et quota finales'!$C$5:$C$34,W105),0,0,COUNTIF($W$6:$W$105,W105))),0)","v":24.758620689655171}]
[]
[]
[null,null,null,null,"Top =",26,null,null,null,"Top = ",33,null,null,null,null,"Top =",35,null,"Top ="]
[null,{"$f":"CONCATENATE(\"Jury President: \",General!$B$6)","v":"Jury President: Lieven Vlassenroot"}]
[]
[null,"Appeal until :"]

{"sheet":"BF","index":4,"n_rows":111,"n_cols":24,"rows_kept":111,"cut":false,"hidden":false,"merged":[[1,0,1,22],[4,4,4,7],[4,9,4,12],[4,15,4,17],[4,18,4,20]]}
[]
[{"$f":"CONCATENATE(General!$B$5,\"  -  RESULTS B Female\")","v":"Youth Lead Championship 09-03-2013  -  RESULTS B Female"}]
[]
[]
["RANK","Nr","Name","Team","Route 1",null,null,null,"Ranking Points Route 1","Route 2",null,null,null,"Ranking Points Route 2","Root R1 x R2 ","Final ",null,null,"Super Final",null,null,"base pour calcul rang","RANK","Team points"]
[{"$f":"RANK(V6,$V$6:$V$105)","v":1},"BF03","CUYPERS Celine","KLI","TOP",null,{"$f":"IF(E6=\"TOP\",$F$108,IF(F6=\"-\",E6-0.01,IF(F6=\"+\",E6+0.01,E6)))","v":29},{"$f":"RANK(G6,$G$6:$G$105)","v":1},{"$f":"IF(COUNTIF($H$6:$H$105,H6)=1,H6,(H6*2+COUNTIF($H$6:$H$105,H6)-1)/2)","v":1.5},"TOP",null,{"$f":"IF(J6=\"TOP\",$K$108,IF(K6=\"-\",J6-0.01,IF(K6=\"+\",J6+0.01,J6)))","v":25},{"$f":"RANK(L6,$L$6:$L$105)","v":1},{"$f":"IF(COUNTIF($M$6:$M$105,M6)=1,M6,(M6*2+COUNTIF($M$6:$M$105,M6)-1)/2)","v":2},{"$f":"SQRT(I6*N6)","v":1.7320508075688772},34,"+",{"$f":"IF(P6=\"TOP\",$Q$108,IF(Q6=\"-\",P6-0.01,IF(Q6=\"+\",P6+0.01,P6)))","v":34.01},null,null,{"$f":"IF($S6=\"TOP\",$T$108,IF($T6=\"-\",$S6-0.01,IF($T6=\"+\",$S6+0.01,$S6)))","v":0},{"$f":"IF(U6<>0,U6*1000+R6*100+1/O6,IF(R6<>0,R6*100+1/O6,1/O6))","v":3401.5773502691895},{"$f":"A6","v":1},{"$f":"IF(W6<31,AVERAGE(OFFSET(INDEX('Points team et quota finales'!$C$5:$C$34,W6),0,0,COUNTIF($W$6:$W$105,W6))),0)","v":100}]
[{"$f":"RANK(V7,$V$6:$V$105)","v":2},"BF02","GILLART Maëlys","STC","TOP",null,29,1,1.5,"TOP",null,25,1,2,1.7320508075688772,29,null,29,null,null,0,2900.5773502691895,2,{"$f":"IF(W7<31,AVERAGE(OFFSET(INDEX('Points team et quota finales'!$C$5:$C$34,W7),0,0,COUNTIF($W$6:$W$105,W7))),0)","v":80}]
[3,"BF01","DOUMONT Héloïse","ARE",27,"+",27.01,3,3,"TOP",null,25,1,2,2.4494897427831779,23,"+",23.01,null,null,0,2301.4082482904637,3,{"$f":"IF(W8<31,AVERAGE(OFFSET(INDEX('Points team et quota finales'!$C$5:$C$34,W8),0,0,COUNTIF($W$6:$W$105,W8))),0)","v":65}]
[4,"BF05","CLAES Elfe","KLI",21,null,21,5,5,18,null,18,4,4,4.4721359549995796,16,"+",16.010000000000002,null,null,0,1601.2236067977501,4,{"$f":"IF(W9<31,AVERAGE(OFFSET(INDEX('Points team et quota finales'!$C$5:$C$34,W9),0,0,COUNTIF($W$6:$W$105,W9))),0)","v":55}]
[5,"BF06","LIPPERT Adèle","ESC",22,"+",22.01,4,4,16,null,16,5,5.5,4.6904157598234297,null,null,0,null,null,0,0.21320071635561041,5,{"$f":"IF(W10<31,AVERAGE(OFFSET(INDEX('Points team et quota finales'!$C$5:$C$34,W10),0,0,COUNTIF($W$6:$W$105,W10))),0)","v":51}]
[6,"BF04","DOSSOGNE Agathe","CC",20,null,20,6,6,16,null,16,5,5.5,5.7445626465380286,null,null,0,null,null,0,0.17407765595569785,6,{"$f":"IF(W11<31,AVERAGE(OFFSET(INDEX('Points team et quota finales'!$C$5:$C$34,W11),0,0,COUNTIF($W$6:$W$105,W11))),0)","v":47}]
[7,null,null,null,null,null,{"$f":"IF(E12=\"TOP\",$F$108,IF(F12=\"-\",E12-0.01,IF(F12=\"+\",E12+0.01,E12)))","v":0},{"$f":"RANK(G12,$G$6:$G$105)","v":7},{"$f":"IF(COUNTIF($H$6:$H$105,H12)=1,H12,(H12*2+COUNTIF($H$6:$H$105,H12)-1)/2)","v":53.5},null,null,{"$f":"IF(J12=\"TOP\",$K$108,IF(K12=\"-\",J12-0.01,IF(K12=\"+\",J12+0.01,J12)))","v":0},{"$f":"RANK(L12,$L$6:$L$105)","v":7},{"$f":"IF(COUNTIF($M$6:$M$105,M12)=1,M12,(M12*2+COUNTIF($M$6:$M$105,M12)-1)/2)","v":53.5},{"$f":"SQRT(I12*N12)","v":53.5},null,null,{"$f":"IF(P12=\"TOP\",$Q$108,IF(Q12=\"-\",P12-0.01,IF(Q12=\"+\",P12+0.01,P12)))","v":0},null,null,{"$f":"IF($S12=\"TOP\",$T$108,IF($T12=\"-\",$S12-0.01,IF($T12=\"+\",$S12+0.01,$S12)))","v":0},{"$f":"IF(U12<>0,U12*1000+R12*100+1/O12,IF(R12<>0,R12*100+1/O12,1/O12))","v":1.8691588785046728E-2},7,{"$f":"IF(W12<31,AVERAGE(OFFSET(INDEX('Points team et quota finales'!$C$5:$C$34,W12),0,0,COUNTIF($W$6:$W$105,W12))),0)","v":17.5}]
[7,null,null,null,null,null,0,7,53.5,null,null,0,7,53.5,53.5,null,null,0,null,null,0,1.8691588785046728E-2,7,{"$f":"IF(W13<31,AVERAGE(OFFSET(INDEX('Points team et quota finales'!$C$5:$C$34,W13),0,0,COUNTIF($W$6:$W$105,W13))),0)","v":17.5}]
[7,null,null,null,null,null,0,7,53.5,null,null,0,7,53.5,53.5,null,null,0,null,null,0,1.8691588785046728E-2,7,{"$f":"IF(W14<31,AVERAGE(OFFSET(INDEX('Points team et quota finales'!$C$5:$C$34,W14),0,0,COUNTIF($W$6:$W$105,W14))),0)","v":17.5}]
[7,null,null,null,null,null,0,7,53.5,null,null,0,7,53.5,53.5,null,null,0,null,null,0,1.8691588785046728E-2,7,{"$f":"IF(W15<31,AVERAGE(OFFSET(INDEX('Points team et quota finales'!$C$5:$C$34,W15),0,0,COUNTIF($W$6:$W$105,W15))),0)","v":17.5}]
[7,null,null,null,null,null,0,7,53.5,null,null,0,7,53.5,53.5,null,null,0,null,null,0,1.8691588785046728E-2,7,{"$f":"IF(W16<31,AVERAGE(OFFSET(INDEX('Points team et quota finales'!$C$5:$C$34,W16),0,0,COUNTIF($W$6:$W$105,W16))),0)","v":17.5}]
[7,null,null,null,null,null,0,7,53.5,null,null,0,7,53.5,53.5,null,null,0,null,null,0,1.8691588785046728E-2,7,{"$f":"IF(W17<31,AVERAGE(OFFSET(INDEX('Points team et quota finales'!$C$5:$C$34,W17),0,0,COUNTIF($W$6:$W$105,W17))),0)","v":17.5}]
[7,null,null,null,null,null,0,7,53.5,null,null,0,7,53.5,53.5,null,null,0,null,null,0,1.8691588785046728E-2,7,{"$f":"IF(W18<31,AVERAGE(OFFSET(INDEX('Points team et quota finales'!$C$5:$C$34,W18),0,0,COUNTIF($W$6:$W$105,W18))),0)","v":17.5}]
[7,null,null,null,null,null,0,7,53.5,null,null,0,7,53.5,53.5,null,null,0,null,null,0,1.8691588785046728E-2,7,{"$f":"IF(W19<31,AVERAGE(OFFSET(INDEX('Points team et quota finales'!$C$5:$C$34,W19),0,0,COUNTIF($W$6:$W$105,W19))),0)","v":17.5}]
[7,null,null,null,null,null,0,7,53.5,null,null,0,7,53.5,53.5,null,null,0,null,null,0,1.8691588785046728E-2,7,{"$f":"IF(W20<31,AVERAGE(OFFSET(INDEX('Points team et quota finales'!$C$5:$C$34,W20),0,0,COUNTIF($W$6:$W$105,W20))),0)","v":17.5}]
[7,null,null,null,null,null,0,7,53.5,null,null,0,7,53.5,53.5,null,null,0,null,null,0,1.8691588785046728E-2,7,{"$f":"IF(W21<31,AVERAGE(OFFSET(INDEX('Points team et quota finales'!$C$5:$C$34,W21),0,0,COUNTIF($W$6:$W$105,W21))),0)","v":17.5}]
[7,null,null,null,null,null,0,7,53.5,null,null,0,7,53.5,53.5,null,null,0,null,null,0,1.8691588785046728E-2,7,{"$f":"IF(W22<31,AVERAGE(OFFSET(INDEX('Points team et quota finales'!$C$5:$C$34,W22),0,0,COUNTIF($W$6:$W$105,W22))),0)","v":17.5}]
[7,null,null,null,null,null,0,7,53.5,null,null,0,7,53.5,53.5,null,null,0,null,null,0,1.8691588785046728E-2,7,{"$f":"IF(W23<31,AVERAGE(OFFSET(INDEX('Points team et quota finales'!$C$5:$C$34,W23),0,0,COUNTIF($W$6:$W$105,W23))),0)","v":17.5}]
[7,null,null,null,null,null,0,7,53.5,null,null,0,7,53.5,53.5,null,null,0,null,null,0,1.8691588785046728E-2,7,{"$f":"IF(W24<31,AVERAGE(OFFSET(INDEX('Points team et quota finales'!$C$5:$C$34,W24),0,0,COUNTIF($W$6:$W$105,W24))),0)","v":17.5}]
[7,null,null,null,null,null,0,7,53.5,null,null,0,7,53.5,53.5,null,null,0,null,null,0,1.8691588785046728E-2,7,{"$f":"IF(W25<31,AVERAGE(OFFSET(INDEX('Points team et quota finales'!$C$5:$C$34,W25),0,0,COUNTIF($W$6:$W$105,W25))),0)","v":17.5}]
[7,null,null,null,null,null,0,7,53.5,null,null,0,7,53.5,53.5,null,null,0,null,null,0,1.8691588785046728E-2,7,{"$f":"IF(W26<31,AVERAGE(OFFSET(INDEX('Points team et quota finales'!$C$5:$C$34,W26),0,0,COUNTIF($W$6:$W$105,W26))),0)","v":17.5}]
[7,null,null,null,null,null,0,7,53.5,null,null,0,7,53.5,53.5,null,null,0,null,null,0,1.8691588785046728E-2,7,{"$f":"IF(W27<31,AVERAGE(OFFSET(INDEX('Points team et quota finales'!$C$5:$C$34,W27),0,0,COUNTIF($W$6:$W$105,W27))),0)","v":17.5}]
[7,null,null,null,null,null,0,7,53.5,null,null,0,7,53.5,53.5,null,null,0,null,null,0,1.8691588785046728E-2,7,{"$f":"IF(W28<31,AVERAGE(OFFSET(INDEX('Points team et quota finales'!$C$5:$C$34,W28),0,0,COUNTIF($W$6:$W$105,W28))),0)","v":17.5}]
[7,null,null,null,null,null,0,7,53.5,null,null,0,7,53.5,53.5,null,null,0,null,null,0,1.8691588785046728E-2,7,{"$f":"IF(W29<31,AVERAGE(OFFSET(INDEX('Points team et quota finales'!$C$5:$C$34,W29),0,0,COUNTIF($W$6:$W$105,W29))),0)","v":17.5}]
[7,null,null,null,null,null,0,7,53.5,null,null,0,7,53.5,53.5,null,null,0,null,null,0,1.8691588785046728E-2,7,{"$f":"IF(W30<31,AVERAGE(OFFSET(INDEX('Points team et quota finales'!$C$5:$C$34,W30),0,0,COUNTIF($W$6:$W$105,W30))),0)","v":17.5}]
[7,null,null,null,null,null,0,7,53.5,null,null,0,7,53.5,53.5,null,null,0,null,null,0,1.8691588785046728E-2,7,{"$f":"IF(W31<31,AVERAGE(OFFSET(INDEX('Points team et quota finales'!$C$5:$C$34,W31),0,0,COUNTIF($W$6:$W$105,W31))),0)","v":17.5}]
[7,null,null,null,null,null,0,7,53.5,null,null,0,7,53.5,53.5,null,null,0,null,null,0,1.8691588785046728E-2,7,{"$f":"IF(W32<31,AVERAGE(OFFSET(INDEX('Points team et quota finales'!$C$5:$C$34,W32),0,0,COUNTIF($W$6:$W$105,W32))),0)","v":17.5}]
[7,null,null,null,null,null,0,7,53.5,null,null,0,7,53.5,53.5,null,null,0,null,null,0,1.8691588785046728E-2,7,{"$f":"IF(W33<31,AVERAGE(OFFSET(INDEX('Points team et quota finales'!$C$5:$C$34,W33),0,0,COUNTIF($W$6:$W$105,W33))),0)","v":17.5}]
[7,null,null,null,null,null,0,7,53.5,null,null,0,7,53.5,53.5,null,null,0,null,null,0,1.8691588785046728E-2,7,{"$f":"IF(W34<31,AVERAGE(OFFSET(INDEX('Points team et quota finales'!$C$5:$C$34,W34),0,0,COUNTIF($W$6:$W$105,W34))),0)","v":17.5}]
[7,null,null,null,null,null,0,7,53.5,null,null,0,7,53.5,53.5,null,null,0,null,null,0,1.8691588785046728E-2,7,{"$f":"IF(W35<31,AVERAGE(OFFSET(INDEX('Points team et quota finales'!$C$5:$C$34,W35),0,0,COUNTIF($W$6:$W$105,W35))),0)","v":17.5}]
[7,null,null,null,null,null,0,7,53.5,null,null,0,7,53.5,53.5,null,null,0,null,null,0,1.8691588785046728E-2,7,{"$f":"IF(W36<31,AVERAGE(OFFSET(INDEX('Points team et quota finales'!$C$5:$C$34,W36),0,0,COUNTIF($W$6:$W$105,W36))),0)","v":17.5}]
[7,null,null,null,null,null,0,7,53.5,null,null,0,7,53.5,53.5,null,null,0,null,null,0,1.8691588785046728E-2,7,{"$f":"IF(W37<31,AVERAGE(OFFSET(INDEX('Points team et quota finales'!$C$5:$C$34,W37),0,0,COUNTIF($W$6:$W$105,W37))),0)","v":17.5}]
[7,null,null,null,null,null,0,7,53.5,null,null,0,7,53.5,53.5,null,null,0,null,null,0,1.8691588785046728E-2,7,{"$f":"IF(W38<31,AVERAGE(OFFSET(INDEX('Points team et quota finales'!$C$5:$C$34,W38),0,0,COUNTIF($W$6:$W$105,W38))),0)","v":17.5}]
[7,null,null,null,null,null,0,7,53.5,null,null,0,7,53.5,53.5,null,null,0,null,null,0,1.8691588785046728E-2,7,{"$f":"IF(W39<31,AVERAGE(OFFSET(INDEX('Points team et quota finales'!$C$5:$C$34,W39),0,0,COUNTIF($W$6:$W$105,W39))),0)","v":17.5}]
[7,null,null,null,null,null,0,7,53.5,null,null,0,7,53.5,53.5,null,null,0,null,null,0,1.8691588785046728E-2,7,{"$f":"IF(W40<31,AVERAGE(OFFSET(INDEX('Points team et quota finales'!$C$5:$C$34,W40),0,0,COUNTIF($W$6:$W$105,W40))),0)","v":17.5}]
[7,null,null,null,null,null,0,7,53.5,null,null,0,7,53.5,53.5,null,null,0,null,null,0,1.8691588785046728E-2,7,{"$f":"IF(W41<31,AVERAGE(OFFSET(INDEX('Points team et quota finales'!$C$5:$C$34,W41),0,0,COUNTIF($W$6:$W$105,W41))),0)","v":17.5}]
[7,null,null,null,null,null,0,7,53.5,null,null,0,7,53.5,53.5,null,null,0,null,null,0,1.8691588785046728E-2,7,{"$f":"IF(W42<31,AVERAGE(OFFSET(INDEX('Points team et quota finales'!$C$5:$C$34,W42),0,0,COUNTIF($W$6:$W$105,W42))),0)","v":17.5}]
[7,null,null,null,null,null,0,7,53.5,null,null,0,7,53.5,53.5,null,null,0,null,null,0,1.8691588785046728E-2,7,{"$f":"IF(W43<31,AVERAGE(OFFSET(INDEX('Points team et quota finales'!$C$5:$C$34,W43),0,0,COUNTIF($W$6:$W$105,W43))),0)","v":17.5}]
[7,null,null,null,null,null,0,7,53.5,null,null,0,7,53.5,53.5,null,null,0,null,null,0,1.8691588785046728E-2,7,{"$f":"IF(W44<31,AVERAGE(OFFSET(INDEX('Points team et quota finales'!$C$5:$C$34,W44),0,0,COUNTIF($W$6:$W$105,W44))),0)","v":17.5}]
[7,null,null,null,null,null,0,7,53.5,null,null,0,7,53.5,53.5,null,null,0,null,null,0,1.8691588785046728E-2,7,{"$f":"IF(W45<31,AVERAGE(OFFSET(INDEX('Points team et quota finales'!$C$5:$C$34,W45),0,0,COUNTIF($W$6:$W$105,W45))),0)","v":17.5}]
[7,null,null,null,null,null,0,7,53.5,null,null,0,7,53.5,53.5,null,null,0,null,null,0,1.8691588785046728E-2,7,{"$f":"IF(W46<31,AVERAGE(OFFSET(INDEX('Points team et quota finales'!$C$5:$C$34,W46),0,0,COUNTIF($W$6:$W$105,W46))),0)","v":17.5}]
[7,null,null,null,null,null,0,7,53.5,null,null,0,7,53.5,53.5,null,null,0,null,null,0,1.8691588785046728E-2,7,{"$f":"IF(W47<31,AVERAGE(OFFSET(INDEX('Points team et quota finales'!$C$5:$C$34,W47),0,0,COUNTIF($W$6:$W$105,W47))),0)","v":17.5}]
[7,null,null,null,null,null,0,7,53.5,null,null,0,7,53.5,53.5,null,null,0,null,null,0,1.8691588785046728E-2,7,{"$f":"IF(W48<31,AVERAGE(OFFSET(INDEX('Points team et quota finales'!$C$5:$C$34,W48),0,0,COUNTIF($W$6:$W$105,W48))),0)","v":17.5}]
[7,null,null,null,null,null,0,7,53.5,null,null,0,7,53.5,53.5,null,null,0,null,null,0,1.8691588785046728E-2,7,{"$f":"IF(W49<31,AVERAGE(OFFSET(INDEX('Points team et quota finales'!$C$5:$C$34,W49),0,0,COUNTIF($W$6:$W$105,W49))),0)","v":17.5}]
[7,null,null,null,null,null,0,7,53.5,null,null,0,7,53.5,53.5,null,null,0,null,null,0,1.8691588785046728E-2,7,{"$f":"IF(W50<31,AVERAGE(OFFSET(INDEX('Points team et quota finales'!$C$5:$C$34,W50),0,0,COUNTIF($W$6:$W$105,W50))),0)","v":17.5}]
[7,null,null,null,null,null,0,7,53.5,null,null,0,7,53.5,53.5,null,null,0,null,null,0,1.8691588785046728E-2,7,{"$f":"IF(W51<31,AVERAGE(OFFSET(INDEX('Points team et quota finales'!$C$5:$C$34,W51),0,0,COUNTIF($W$6:$W$105,W51))),0)","v":17.5}]
[7,null,null,null,null,null,0,7,53.5,null,null,0,7,53.5,53.5,null,null,0,null,null,0,1.8691588785046728E-2,7,{"$f":"IF(W52<31,AVERAGE(OFFSET(INDEX('Points team et quota finales'!$C$5:$C$34,W52),0,0,COUNTIF($W$6:$W$105,W52))),0)","v":17.5}]
[7,null,null,null,null,null,0,7,53.5,null,null,0,7,53.5,53.5,null,null,0,null,null,0,1.8691588785046728E-2,7,{"$f":"IF(W53<31,AVERAGE(OFFSET(INDEX('Points team et quota finales'!$C$5:$C$34,W53),0,0,COUNTIF($W$6:$W$105,W53))),0)","v":17.5}]
[7,null,null,null,null,null,0,7,53.5,null,null,0,7,53.5,53.5,null,null,0,null,null,0,1.8691588785046728E-2,7,{"$f":"IF(W54<31,AVERAGE(OFFSET(INDEX('Points team et quota finales'!$C$5:$C$34,W54),0,0,COUNTIF($W$6:$W$105,W54))),0)","v":17.5}]
[7,null,null,null,null,null,0,7,53.5,null,null,0,7,53.5,53.5,null,null,0,null,null,0,1.8691588785046728E-2,7,{"$f":"IF(W55<31,AVERAGE(OFFSET(INDEX('Points team et quota finales'!$C$5:$C$34,W55),0,0,COUNTIF($W$6:$W$105,W55))),0)","v":17.5}]
[7,null,null,null,null,null,0,7,53.5,null,null,0,7,53.5,53.5,null,null,0,null,null,0,1.8691588785046728E-2,7,{"$f":"IF(W56<31,AVERAGE(OFFSET(INDEX('Points team et quota finales'!$C$5:$C$34,W56),0,0,COUNTIF($W$6:$W$105,W56))),0)","v":17.5}]
[7,null,null,null,null,null,0,7,53.5,null,null,0,7,53.5,53.5,null,null,0,null,null,0,1.8691588785046728E-2,7,{"$f":"IF(W57<31,AVERAGE(OFFSET(INDEX('Points team et quota finales'!$C$5:$C$34,W57),0,0,COUNTIF($W$6:$W$105,W57))),0)","v":17.5}]
[7,null,null,null,null,null,0,7,53.5,null,null,0,7,53.5,53.5,null,null,0,null,null,0,1.8691588785046728E-2,7,{"$f":"IF(W58<31,AVERAGE(OFFSET(INDEX('Points team et quota finales'!$C$5:$C$34,W58),0,0,COUNTIF($W$6:$W$105,W58))),0)","v":17.5}]
[7,null,null,null,null,null,0,7,53.5,null,null,0,7,53.5,53.5,null,null,0,null,null,0,1.8691588785046728E-2,7,{"$f":"IF(W59<31,AVERAGE(OFFSET(INDEX('Points team et quota finales'!$C$5:$C$34,W59),0,0,COUNTIF($W$6:$W$105,W59))),0)","v":17.5}]
[7,null,null,null,null,null,0,7,53.5,null,null,0,7,53.5,53.5,null,null,0,null,null,0,1.8691588785046728E-2,7,{"$f":"IF(W60<31,AVERAGE(OFFSET(INDEX('Points team et quota finales'!$C$5:$C$34,W60),0,0,COUNTIF($W$6:$W$105,W60))),0)","v":17.5}]
[7,null,null,null,null,null,0,7,53.5,null,null,0,7,53.5,53.5,null,null,0,null,null,0,1.8691588785046728E-2,7,{"$f":"IF(W61<31,AVERAGE(OFFSET(INDEX('Points team et quota finales'!$C$5:$C$34,W61),0,0,COUNTIF($W$6:$W$105,W61))),0)","v":17.5}]
[7,null,null,null,null,null,0,7,53.5,null,null,0,7,53.5,53.5,null,null,0,null,null,0,1.8691588785046728E-2,7,{"$f":"IF(W62<31,AVERAGE(OFFSET(INDEX('Points team et quota finales'!$C$5:$C$34,W62),0,0,COUNTIF($W$6:$W$105,W62))),0)","v":17.5}]
[7,null,null,null,null,null,0,7,53.5,null,null,0,7,53.5,53.5,null,null,0,null,null,0,1.8691588785046728E-2,7,{"$f":"IF(W63<31,AVERAGE(OFFSET(INDEX('Points team et quota finales'!$C$5:$C$34,W63),0,0,COUNTIF($W$6:$W$105,W63))),0)","v":17.5}]
[7,null,null,null,null,null,0,7,53.5,null,null,0,7,53.5,53.5,null,null,0,null,null,0,1.8691588785046728E-2,7,{"$f":"IF(W64<31,AVERAGE(OFFSET(INDEX('Points team et quota finales'!$C$5:$C$34,W64),0,0,COUNTIF($W$6:$W$105,W64))),0)","v":17.5}]
[7,null,null,null,null,null,0,7,53.5,null,null,0,7,53.5,53.5,null,null,0,null,null,0,1.8691588785046728E-2,7,{"$f":"IF(W65<31,AVERAGE(OFFSET(INDEX('Points team et quota finales'!$C$5:$C$34,W65),0,0,COUNTIF($W$6:$W$105,W65))),0)","v":17.5}]
[7,null,null,null,null,null,0,7,53.5,null,null,0,7,53.5,53.5,null,null,0,null,null,0,1.8691588785046728E-2,7,{"$f":"IF(W66<31,AVERAGE(OFFSET(INDEX('Points team et quota finales'!$C$5:$C$34,W66),0,0,COUNTIF($W$6:$W$105,W66))),0)","v":17.5}]
[7,null,null,null,null,null,0,7,53.5,null,null,0,7,53.5,53.5,null,null,0,null,null,0,1.8691588785046728E-2,7,{"$f":"IF(W67<31,AVERAGE(OFFSET(INDEX('Points team et quota finales'!$C$5:$C$34,W67),0,0,COUNTIF($W$6:$W$105,W67))),0)","v":17.5}]
[7,null,null,null,null,null,0,7,53.5,null,null,0,7,53.5,53.5,null,null,0,null,null,0,1.8691588785046728E-2,7,{"$f":"IF(W68<31,AVERAGE(OFFSET(INDEX('Points team et quota finales'!$C$5:$C$34,W68),0,0,COUNTIF($W$6:$W$105,W68))),0)","v":17.5}]
[7,null,null,null,null,null,0,7,53.5,null,null,0,7,53.5,53.5,null,null,0,null,null,0,1.8691588785046728E-2,7,{"$f":"IF(W69<31,AVERAGE(OFFSET(INDEX('Points team et quota finales'!$C$5:$C$34,W69),0,0,COUNTIF($W$6:$W$105,W69))),0)","v":17.5}]
[7,null,null,null,null,null,{"$f":"IF(E70=\"TOP\",$F$108,IF(F70=\"-\",E70-0.01,IF(F70=\"+\",E70+0.01,E70)))","v":0},{"$f":"RANK(G70,$G$6:$G$105)","v":7},{"$f":"IF(COUNTIF($H$6:$H$105,H70)=1,H70,(H70*2+COUNTIF($H$6:$H$105,H70)-1)/2)","v":53.5},null,null,{"$f":"IF(J70=\"TOP\",$K$108,IF(K70=\"-\",J70-0.01,IF(K70=\"+\",J70+0.01,J70)))","v":0},{"$f":"RANK(L70,$L$6:$L$105)","v":7},{"$f":"IF(COUNTIF($M$6:$M$105,M70)=1,M70,(M70*2+COUNTIF($M$6:$M$105,M70)-1)/2)","v":53.5},{"$f":"SQRT(I70*N70)","v":53.5},null,null,{"$f":"IF(P70=\"TOP\",$Q$108,IF(Q70=\"-\",P70-0.01,IF(Q70=\"+\",P70+0.01,P70)))","v":0},null,null,{"$f":"IF($S70=\"TOP\",$T$108,IF($T70=\"-\",$S70-0.01,IF($T70=\"+\",$S70+0.01,$S70)))","v":0},{"$f":"IF(U70<>0,U70*1000+R70*100+1/O70,IF(R70<>0,R70*100+1/O70,1/O70))","v":1.8691588785046728E-2},{"$f":"A70","v":7},{"$f":"IF(W70<31,AVERAGE(OFFSET(INDEX('Points team et quota finales'!$C$5:$C$34,W70),0,0,COUNTIF($W$6:$W$105,W70))),0)","v":17.5}]
[{"$f":"RANK(V71,$V$6:$V$105)","v":7},null,null,null,null,null,0,7,53.5,null,null,0,7,53.5,53.5,null,null,0,null,null,0,1.8691588785046728E-2,7,{"$f":"IF(W71<31,AVERAGE(OFFSET(INDEX('Points team et quota finales'!$C$5:$C$34,W71),0,0,COUNTIF($W$6:$W$105,W71))),0)","v":17.5}]
[7,null,null,null,null,null,0,7,53.5,null,null,0,7,53.5,53.5,null,null,0,null,null,0,1.8691588785046728E-2,7,{"$f":"IF(W72<31,AVERAGE(OFFSET(INDEX('Points team et quota finales'!$C$5:$C$34,W72),0,0,COUNTIF($W$6:$W$105,W72))),0)","v":17.5}]
[7,null,null,null,null,null,0,7,53.5,null,null,0,7,53.5,53.5,null,null,0,null,null,0,1.8691588785046728E-2,7,{"$f":"IF(W73<31,AVERAGE(OFFSET(INDEX('Points team et quota finales'!$C$5:$C$34,W73),0,0,COUNTIF($W$6:$W$105,W73))),0)","v":17.5}]
[7,null,null,null,null,null,0,7,53.5,null,null,0,7,53.5,53.5,null,null,0,null,null,0,1.8691588785046728E-2,7,{"$f":"IF(W74<31,AVERAGE(OFFSET(INDEX('Points team et quota finales'!$C$5:$C$34,W74),0,0,COUNTIF($W$6:$W$105,W74))),0)","v":17.5}]
[7,null,null,null,null,null,0,7,53.5,null,null,0,7,53.5,53.5,null,null,0,null,null,0,1.8691588785046728E-2,7,{"$f":"IF(W75<31,AVERAGE(OFFSET(INDEX('Points team et quota finales'!$C$5:$C$34,W75),0,0,COUNTIF($W$6:$W$105,W75))),0)","v":17.5}]
[7,null,null,null,null,null,0,7,53.5,null,null,0,7,53.5,53.5,null,null,0,null,null,0,1.8691588785046728E-2,7,{"$f":"IF(W76<31,AVERAGE(OFFSET(INDEX('Points team et quota finales'!$C$5:$C$34,W76),0,0,COUNTIF($W$6:$W$105,W76))),0)","v":17.5}]
[7,null,null,null,null,null,0,7,53.5,null,null,0,7,53.5,53.5,null,null,0,null,null,0,1.8691588785046728E-2,7,{"$f":"IF(W77<31,AVERAGE(OFFSET(INDEX('Points team et quota finales'!$C$5:$C$34,W77),0,0,COUNTIF($W$6:$W$105,W77))),0)","v":17.5}]
[7,null,null,null,null,null,0,7,53.5,null,null,0,7,53.5,53.5,null,null,0,null,null,0,1.8691588785046728E-2,7,{"$f":"IF(W78<31,AVERAGE(OFFSET(INDEX('Points team et quota finales'!$C$5:$C$34,W78),0,0,COUNTIF($W$6:$W$105,W78))),0)","v":17.5}]
[7,null,null,null,null,null,0,7,53.5,null,null,0,7,53.5,53.5,null,null,0,null,null,0,1.8691588785046728E-2,7,{"$f":"IF(W79<31,AVERAGE(OFFSET(INDEX('Points team et quota finales'!$C$5:$C$34,W79),0,0,COUNTIF($W$6:$W$105,W79))),0)","v":17.5}]
[7,null,null,null,null,null,0,7,53.5,null,null,0,7,53.5,53.5,null,null,0,null,null,0,1.8691588785046728E-2,7,{"$f":"IF(W80<31,AVERAGE(OFFSET(INDEX('Points team et quota finales'!$C$5:$C$34,W80),0,0,COUNTIF($W$6:$W$105,W80))),0)","v":17.5}]
[7,null,null,null,null,null,0,7,53.5,null,null,0,7,53.5,53.5,null,null,0,null,null,0,1.8691588785046728E-2,7,{"$f":"IF(W81<31,AVERAGE(OFFSET(INDEX('Points team et quota finales'!$C$5:$C$34,W81),0,0,COUNTIF($W$6:$W$105,W81))),0)","v":17.5}]
[7,null,null,null,null,null,0,7,53.5,null,null,0,7,53.5,53.5,null,null,0,null,null,0,1.8691588785046728E-2,7,{"$f":"IF(W82<31,AVERAGE(OFFSET(INDEX('Points team et quota finales'!$C$5:$C$34,W82),0,0,COUNTIF($W$6:$W$105,W82))),0)","v":17.5}]
[7,null,null,null,null,null,0,7,53.5,null,null,0,7,53.5,53.5,null,null,0,null,null,0,1.8691588785046728E-2,7,{"$f":"IF(W83<31,AVERAGE(OFFSET(INDEX('Points team et quota finales'!$C$5:$C$34,W83),0,0,COUNTIF($W$6:$W$105,W83))),0)","v":17.5}]
[7,null,null,null,null,null,0,7,53.5,null,null,0,7,53.5,53.5,null,null,0,null,null,0,1.8691588785046728E-2,7,{"$f":"IF(W84<31,AVERAGE(OFFSET(INDEX('Points team et quota finales'!$C$5:$C$34,W84),0,0,COUNTIF($W$6:$W$105,W84))),0)","v":17.5}]
[7,null,null,null,null,null,0,7,53.5,null,null,0,7,53.5,53.5,null,null,0,null,null,0,1.8691588785046728E-2,7,{"$f":"IF(W85<31,AVERAGE(OFFSET(INDEX('Points team et quota finales'!$C$5:$C$34,W85),0,0,COUNTIF($W$6:$W$105,W85))),0)","v":17.5}]
[7,null,null,null,null,null,0,7,53.5,null,null,0,7,53.5,53.5,null,null,0,null,null,0,1.8691588785046728E-2,7,{"$f":"IF(W86<31,AVERAGE(OFFSET(INDEX('Points team et quota finales'!$C$5:$C$34,W86),0,0,COUNTIF($W$6:$W$105,W86))),0)","v":17.5}]
[7,null,null,null,null,null,0,7,53.5,null,null,0,7,53.5,53.5,null,null,0,null,null,0,1.8691588785046728E-2,7,{"$f":"IF(W87<31,AVERAGE(OFFSET(INDEX('Points team et quota finales'!$C$5:$C$34,W87),0,0,COUNTIF($W$6:$W$105,W87))),0)","v":17.5}]
[7,null,null,null,null,null,0,7,53.5,null,null,0,7,53.5,53.5,null,null,0,null,null,0,1.8691588785046728E-2,7,{"$f":"IF(W88<31,AVERAGE(OFFSET(INDEX('Points team et quota finales'!$C$5:$C$34,W88),0,0,COUNTIF($W$6:$W$105,W88))),0)","v":17.5}]
[7,null,null,null,null,null,0,7,53.5,null,null,0,7,53.5,53.5,null,null,0,null,null,0,1.8691588785046728E-2,7,{"$f":"IF(W89<31,AVERAGE(OFFSET(INDEX('Points team et quota finales'!$C$5:$C$34,W89),0,0,COUNTIF($W$6:$W$105,W89))),0)","v":17.5}]
[7,null,null,null,null,null,0,7,53.5,null,null,0,7,53.5,53.5,null,null,0,null,null,0,1.8691588785046728E-2,7,{"$f":"IF(W90<31,AVERAGE(OFFSET(INDEX('Points team et quota finales'!$C$5:$C$34,W90),0,0,COUNTIF($W$6:$W$105,W90))),0)","v":17.5}]
[7,null,null,null,null,null,0,7,53.5,null,null,0,7,53.5,53.5,null,null,0,null,null,0,1.8691588785046728E-2,7,{"$f":"IF(W91<31,AVERAGE(OFFSET(INDEX('Points team et quota finales'!$C$5:$C$34,W91),0,0,COUNTIF($W$6:$W$105,W91))),0)","v":17.5}]
[7,null,null,null,null,null,0,7,53.5,null,null,0,7,53.5,53.5,null,null,0,null,null,0,1.8691588785046728E-2,7,{"$f":"IF(W92<31,AVERAGE(OFFSET(INDEX('Points team et quota finales'!$C$5:$C$34,W92),0,0,COUNTIF($W$6:$W$105,W92))),0)","v":17.5}]
[7,null,null,null,null,null,0,7,53.5,null,null,0,7,53.5,53.5,null,null,0,null,null,0,1.8691588785046728E-2,7,{"$f":"IF(W93<31,AVERAGE(OFFSET(INDEX('Points team et quota finales'!$C$5:$C$34,W93),0,0,COUNTIF($W$6:$W$105,W93))),0)","v":17.5}]
[7,null,null,null,null,null,0,7,53.5,null,null,0,7,53.5,53.5,null,null,0,null,null,0,1.8691588785046728E-2,7,{"$f":"IF(W94<31,AVERAGE(OFFSET(INDEX('Points team et quota finales'!$C$5:$C$34,W94),0,0,COUNTIF($W$6:$W$105,W94))),0)","v":17.5}]
[7,null,null,null,null,null,0,7,53.5,null,null,0,7,53.5,53.5,null,null,0,null,null,0,1.8691588785046728E-2,7,{"$f":"IF(W95<31,AVERAGE(OFFSET(INDEX('Points team et quota finales'!$C$5:$C$34,W95),0,0,COUNTIF($W$6:$W$105,W95))),0)","v":17.5}]
[7,null,null,null,null,null,0,7,53.5,null,null,0,7,53.5,53.5,null,null,0,null,null,0,1.8691588785046728E-2,7,{"$f":"IF(W96<31,AVERAGE(OFFSET(INDEX('Points team et quota finales'!$C$5:$C$34,W96),0,0,COUNTIF($W$6:$W$105,W96))),0)","v":17.5}]
[7,null,null,null,null,null,0,7,53.5,null,null,0,7,53.5,53.5,null,null,0,null,null,0,1.8691588785046728E-2,7,{"$f":"IF(W97<31,AVERAGE(OFFSET(INDEX('Points team et quota finales'!$C$5:$C$34,W97),0,0,COUNTIF($W$6:$W$105,W97))),0)","v":17.5}]
[7,null,null,null,null,null,0,7,53.5,null,null,0,7,53.5,53.5,null,null,0,null,null,0,1.8691588785046728E-2,7,{"$f":"IF(W98<31,AVERAGE(OFFSET(INDEX('Points team et quota finales'!$C$5:$C$34,W98),0,0,COUNTIF($W$6:$W$105,W98))),0)","v":17.5}]
[7,null,null,null,null,null,0,7,53.5,null,null,0,7,53.5,53.5,null,null,0,null,null,0,1.8691588785046728E-2,7,{"$f":"IF(W99<31,AVERAGE(OFFSET(INDEX('Points team et quota finales'!$C$5:$C$34,W99),0,0,COUNTIF($W$6:$W$105,W99))),0)","v":17.5}]
[7,null,null,null,null,null,0,7,53.5,null,null,0,7,53.5,53.5,null,null,0,null,null,0,1.8691588785046728E-2,7,{"$f":"IF(W100<31,AVERAGE(OFFSET(INDEX('Points team et quota finales'!$C$5:$C$34,W100),0,0,COUNTIF($W$6:$W$105,W100))),0)","v":17.5}]
[7,null,null,null,null,null,0,7,53.5,null,null,0,7,53.5,53.5,null,null,0,null,null,0,1.8691588785046728E-2,7,{"$f":"IF(W101<31,AVERAGE(OFFSET(INDEX('Points team et quota finales'!$C$5:$C$34,W101),0,0,COUNTIF($W$6:$W$105,W101))),0)","v":17.5}]
[7,null,null,null,null,null,0,7,53.5,null,null,0,7,53.5,53.5,null,null,0,null,null,0,1.8691588785046728E-2,7,{"$f":"IF(W102<31,AVERAGE(OFFSET(INDEX('Points team et quota finales'!$C$5:$C$34,W102),0,0,COUNTIF($W$6:$W$105,W102))),0)","v":17.5}]
[7,null,null,null,null,null,0,7,53.5,null,null,0,7,53.5,53.5,null,null,0,null,null,0,1.8691588785046728E-2,7,{"$f":"IF(W103<31,AVERAGE(OFFSET(INDEX('Points team et quota finales'!$C$5:$C$34,W103),0,0,COUNTIF($W$6:$W$105,W103))),0)","v":17.5}]
[7,null,null,null,null,null,0,7,53.5,null,null,0,7,53.5,53.5,null,null,0,null,null,0,1.8691588785046728E-2,7,{"$f":"IF(W104<31,AVERAGE(OFFSET(INDEX('Points team et quota finales'!$C$5:$C$34,W104),0,0,COUNTIF($W$6:$W$105,W104))),0)","v":17.5}]
[7,null,null,null,null,null,0,7,53.5,null,null,0,7,53.5,53.5,null,null,0,null,null,0,1.8691588785046728E-2,7,{"$f":"IF(W105<31,AVERAGE(OFFSET(INDEX('Points team et quota finales'!$C$5:$C$34,W105),0,0,COUNTIF($W$6:$W$105,W105))),0)","v":17.5}]
[]
[]
[null,null,null,null,"Top =",29,null,null,null,"Top = ",25,null,null,null,null,"Top =",36,null,"Top ="]
[null,{"$f":"CONCATENATE(\"Jury President: \",General!$B$6)","v":"Jury President: Lieven Vlassenroot"}]
[]
[null,"Appeal until :"]

{"sheet":"AF","index":5,"n_rows":111,"n_cols":24,"rows_kept":111,"cut":false,"hidden":false,"merged":[[1,0,1,22],[4,4,4,7],[4,9,4,12],[4,15,4,17],[4,18,4,20]]}
[]
[{"$f":"CONCATENATE(General!$B$5,\"  -  RESULTS A Female\")","v":"Youth Lead Championship 09-03-2013  -  RESULTS A Female"}]
[]
[]
["RANK","Nr","Name","Team","Route 1",null,null,null,"Ranking Points Route 1","Route 2",null,null,null,"Ranking Points Route 2","Root R1 x R2 ","Final ",null,null,"Super Final",null,null,"base pour calcul rang","RANK","Team points"]
[{"$f":"RANK(V6,$V$6:$V$105)","v":1},"AF01","VERHOEVEN Anak","KLI","TOP",null,{"$f":"IF(E6=\"TOP\",$F$108,IF(F6=\"-\",E6-0.01,IF(F6=\"+\",E6+0.01,E6)))","v":24},{"$f":"RANK(G6,$G$6:$G$105)","v":1},{"$f":"IF(COUNTIF($H$6:$H$105,H6)=1,H6,(H6*2+COUNTIF($H$6:$H$105,H6)-1)/2)","v":2},"TOP",null,{"$f":"IF(J6=\"TOP\",$K$108,IF(K6=\"-\",J6-0.01,IF(K6=\"+\",J6+0.01,J6)))","v":36},{"$f":"RANK(L6,$L$6:$L$105)","v":1},{"$f":"IF(COUNTIF($M$6:$M$105,M6)=1,M6,(M6*2+COUNTIF($M$6:$M$105,M6)-1)/2)","v":1.5},{"$f":"SQRT(I6*N6)","v":1.7320508075688772},"TOP",null,{"$f":"IF(P6=\"TOP\",$Q$108,IF(Q6=\"-\",P6-0.01,IF(Q6=\"+\",P6+0.01,P6)))","v":36},null,null,{"$f":"IF($S6=\"TOP\",$T$108,IF($T6=\"-\",$S6-0.01,IF($T6=\"+\",$S6+0.01,$S6)))","v":0},{"$f":"IF(U6<>0,U6*1000+R6*100+1/O6,IF(R6<>0,R6*100+1/O6,1/O6))","v":3600.5773502691895},{"$f":"A6","v":1},{"$f":"IF(W6<31,AVERAGE(OFFSET(INDEX('Points team et quota finales'!$C$5:$C$34,W6),0,0,COUNTIF($W$6:$W$105,W6))),0)","v":100}]
[{"$f":"RANK(V7,$V$6:$V$105)","v":2},"AF06","CAULIER Chloé","STC","TOP",null,24,1,2,"TOP",null,36,1,1.5,1.7320508075688772,29,"+",29.01,null,null,0,2901.5773502691895,2,{"$f":"IF(W7<31,AVERAGE(OFFSET(INDEX('Points team et quota finales'!$C$5:$C$34,W7),0,0,COUNTIF($W$6:$W$105,W7))),0)","v":80}]
[3,"AF05","VERHAEREN Margot","STC","TOP",null,24,1,2,23,"+",23.01,3,3,2.4494897427831779,25.5,null,25.5,null,null,0,2550.4082482904637,3,{"$f":"IF(W8<31,AVERAGE(OFFSET(INDEX('Points team et quota finales'!$C$5:$C$34,W8),0,0,COUNTIF($W$6:$W$105,W8))),0)","v":65}]
[4,"AF03","ELSEVIERS Julie","HUN",21,"+",21.01,4,4,22,"+",22.01,4,4,4,16,"+",16.010000000000002,null,null,0,1601.2500000000002,4,{"$f":"IF(W9<31,AVERAGE(OFFSET(INDEX('Points team et quota finales'!$C$5:$C$34,W9),0,0,COUNTIF($W$6:$W$105,W9))),0)","v":55}]
[5,"AF02","WAUTHIER Delphine","GT",16,null,16,5,5.5,19,"+",19.010000000000002,5,5,5.2440442408507577,null,null,0,null,null,0,0.19069251784911848,5,{"$f":"IF(W10<31,AVERAGE(OFFSET(INDEX('Points team et quota finales'!$C$5:$C$34,W10),0,0,COUNTIF($W$6:$W$105,W10))),0)","v":51}]
[6,"AF04","DEJONG Pauline","STC",16,null,16,5,5.5,11,"+",11.01,6,6,5.7445626465380286,null,null,0,null,null,0,0.17407765595569785,6,{"$f":"IF(W11<31,AVERAGE(OFFSET(INDEX('Points team et quota finales'!$C$5:$C$34,W11),0,0,COUNTIF($W$6:$W$105,W11))),0)","v":47}]
[7,null,null,null,null,null,{"$f":"IF(E12=\"TOP\",$F$108,IF(F12=\"-\",E12-0.01,IF(F12=\"+\",E12+0.01,E12)))","v":0},{"$f":"RANK(G12,$G$6:$G$105)","v":7},{"$f":"IF(COUNTIF($H$6:$H$105,H12)=1,H12,(H12*2+COUNTIF($H$6:$H$105,H12)-1)/2)","v":53.5},null,null,{"$f":"IF(J12=\"TOP\",$K$108,IF(K12=\"-\",J12-0.01,IF(K12=\"+\",J12+0.01,J12)))","v":0},{"$f":"RANK(L12,$L$6:$L$105)","v":7},{"$f":"IF(COUNTIF($M$6:$M$105,M12)=1,M12,(M12*2+COUNTIF($M$6:$M$105,M12)-1)/2)","v":53.5},{"$f":"SQRT(I12*N12)","v":53.5},null,null,{"$f":"IF(P12=\"TOP\",$Q$108,IF(Q12=\"-\",P12-0.01,IF(Q12=\"+\",P12+0.01,P12)))","v":0},null,null,{"$f":"IF($S12=\"TOP\",$T$108,IF($T12=\"-\",$S12-0.01,IF($T12=\"+\",$S12+0.01,$S12)))","v":0},{"$f":"IF(U12<>0,U12*1000+R12*100+1/O12,IF(R12<>0,R12*100+1/O12,1/O12))","v":1.8691588785046728E-2},7,{"$f":"IF(W12<31,AVERAGE(OFFSET(INDEX('Points team et quota finales'!$C$5:$C$34,W12),0,0,COUNTIF($W$6:$W$105,W12))),0)","v":17.5}]
[7,null,null,null,null,null,0,7,53.5,null,null,0,7,53.5,53.5,null,null,0,null,null,0,1.8691588785046728E-2,7,{"$f":"IF(W13<31,AVERAGE(OFFSET(INDEX('Points team et quota finales'!$C$5:$C$34,W13),0,0,COUNTIF($W$6:$W$105,W13))),0)","v":17.5}]
[7,null,null,null,null,null,0,7,53.5,null,null,0,7,53.5,53.5,null,null,0,null,null,0,1.8691588785046728E-2,7,{"$f":"IF(W14<31,AVERAGE(OFFSET(INDEX('Points team et quota finales'!$C$5:$C$34,W14),0,0,COUNTIF($W$6:$W$105,W14))),0)","v":17.5}]
[7,null,null,null,null,null,0,7,53.5,null,null,0,7,53.5,53.5,null,null,0,null,null,0,1.8691588785046728E-2,7,{"$f":"IF(W15<31,AVERAGE(OFFSET(INDEX('Points team et quota finales'!$C$5:$C$34,W15),0,0,COUNTIF($W$6:$W$105,W15))),0)","v":17.5}]
[7,null,null,null,null,null,0,7,53.5,null,null,0,7,53.5,53.5,null,null,0,null,null,0,1.8691588785046728E-2,7,{"$f":"IF(W16<31,AVERAGE(OFFSET(INDEX('Points team et quota finales'!$C$5:$C$34,W16),0,0,COUNTIF($W$6:$W$105,W16))),0)","v":17.5}]
[7,null,null,null,null,null,0,7,53.5,null,null,0,7,53.5,53.5,null,null,0,null,null,0,1.8691588785046728E-2,7,{"$f":"IF(W17<31,AVERAGE(OFFSET(INDEX('Points team et quota finales'!$C$5:$C$34,W17),0,0,COUNTIF($W$6:$W$105,W17))),0)","v":17.5}]
[7,null,null,null,null,null,0,7,53.5,null,null,0,7,53.5,53.5,null,null,0,null,null,0,1.8691588785046728E-2,7,{"$f":"IF(W18<31,AVERAGE(OFFSET(INDEX('Points team et quota finales'!$C$5:$C$34,W18),0,0,COUNTIF($W$6:$W$105,W18))),0)","v":17.5}]
[7,null,null,null,null,null,0,7,53.5,null,null,0,7,53.5,53.5,null,null,0,null,null,0,1.8691588785046728E-2,7,{"$f":"IF(W19<31,AVERAGE(OFFSET(INDEX('Points team et quota finales'!$C$5:$C$34,W19),0,0,COUNTIF($W$6:$W$105,W19))),0)","v":17.5}]
[7,null,null,null,null,null,0,7,53.5,null,null,0,7,53.5,53.5,null,null,0,null,null,0,1.8691588785046728E-2,7,{"$f":"IF(W20<31,AVERAGE(OFFSET(INDEX('Points team et quota finales'!$C$5:$C$34,W20),0,0,COUNTIF($W$6:$W$105,W20))),0)","v":17.5}]
[7,null,null,null,null,null,0,7,53.5,null,null,0,7,53.5,53.5,null,null,0,null,null,0,1.8691588785046728E-2,7,{"$f":"IF(W21<31,AVERAGE(OFFSET(INDEX('Points team et quota finales'!$C$5:$C$34,W21),0,0,COUNTIF($W$6:$W$105,W21))),0)","v":17.5}]
[7,null,null,null,null,null,0,7,53.5,null,null,0,7,53.5,53.5,null,null,0,null,null,0,1.8691588785046728E-2,7,{"$f":"IF(W22<31,AVERAGE(OFFSET(INDEX('Points team et quota finales'!$C$5:$C$34,W22),0,0,COUNTIF($W$6:$W$105,W22))),0)","v":17.5}]
[7,null,null,null,null,null,0,7,53.5,null,null,0,7,53.5,53.5,null,null,0,null,null,0,1.8691588785046728E-2,7,{"$f":"IF(W23<31,AVERAGE(OFFSET(INDEX('Points team et quota finales'!$C$5:$C$34,W23),0,0,COUNTIF($W$6:$W$105,W23))),0)","v":17.5}]
[7,null,null,null,null,null,0,7,53.5,null,null,0,7,53.5,53.5,null,null,0,null,null,0,1.8691588785046728E-2,7,{"$f":"IF(W24<31,AVERAGE(OFFSET(INDEX('Points team et quota finales'!$C$5:$C$34,W24),0,0,COUNTIF($W$6:$W$105,W24))),0)","v":17.5}]
[7,null,null,null,null,null,0,7,53.5,null,null,0,7,53.5,53.5,null,null,0,null,null,0,1.8691588785046728E-2,7,{"$f":"IF(W25<31,AVERAGE(OFFSET(INDEX('Points team et quota finales'!$C$5:$C$34,W25),0,0,COUNTIF($W$6:$W$105,W25))),0)","v":17.5}]
[7,null,null,null,null,null,0,7,53.5,null,null,0,7,53.5,53.5,null,null,0,null,null,0,1.8691588785046728E-2,7,{"$f":"IF(W26<31,AVERAGE(OFFSET(INDEX('Points team et quota finales'!$C$5:$C$34,W26),0,0,COUNTIF($W$6:$W$105,W26))),0)","v":17.5}]
[7,null,null,null,null,null,0,7,53.5,null,null,0,7,53.5,53.5,null,null,0,null,null,0,1.8691588785046728E-2,7,{"$f":"IF(W27<31,AVERAGE(OFFSET(INDEX('Points team et quota finales'!$C$5:$C$34,W27),0,0,COUNTIF($W$6:$W$105,W27))),0)","v":17.5}]
[7,null,null,null,null,null,0,7,53.5,null,null,0,7,53.5,53.5,null,null,0,null,null,0,1.8691588785046728E-2,7,{"$f":"IF(W28<31,AVERAGE(OFFSET(INDEX('Points team et quota finales'!$C$5:$C$34,W28),0,0,COUNTIF($W$6:$W$105,W28))),0)","v":17.5}]
[7,null,null,null,null,null,0,7,53.5,null,null,0,7,53.5,53.5,null,null,0,null,null,0,1.8691588785046728E-2,7,{"$f":"IF(W29<31,AVERAGE(OFFSET(INDEX('Points team et quota finales'!$C$5:$C$34,W29),0,0,COUNTIF($W$6:$W$105,W29))),0)","v":17.5}]
[7,null,null,null,null,null,0,7,53.5,null,null,0,7,53.5,53.5,null,null,0,null,null,0,1.8691588785046728E-2,7,{"$f":"IF(W30<31,AVERAGE(OFFSET(INDEX('Points team et quota finales'!$C$5:$C$34,W30),0,0,COUNTIF($W$6:$W$105,W30))),0)","v":17.5}]
[7,null,null,null,null,null,0,7,53.5,null,null,0,7,53.5,53.5,null,null,0,null,null,0,1.8691588785046728E-2,7,{"$f":"IF(W31<31,AVERAGE(OFFSET(INDEX('Points team et quota finales'!$C$5:$C$34,W31),0,0,COUNTIF($W$6:$W$105,W31))),0)","v":17.5}]
[7,null,null,null,null,null,0,7,53.5,null,null,0,7,53.5,53.5,null,null,0,null,null,0,1.8691588785046728E-2,7,{"$f":"IF(W32<31,AVERAGE(OFFSET(INDEX('Points team et quota finales'!$C$5:$C$34,W32),0,0,COUNTIF($W$6:$W$105,W32))),0)","v":17.5}]
[7,null,null,null,null,null,0,7,53.5,null,null,0,7,53.5,53.5,null,null,0,null,null,0,1.8691588785046728E-2,7,{"$f":"IF(W33<31,AVERAGE(OFFSET(INDEX('Points team et quota finales'!$C$5:$C$34,W33),0,0,COUNTIF($W$6:$W$105,W33))),0)","v":17.5}]
[7,null,null,null,null,null,0,7,53.5,null,null,0,7,53.5,53.5,null,null,0,null,null,0,1.8691588785046728E-2,7,{"$f":"IF(W34<31,AVERAGE(OFFSET(INDEX('Points team et quota finales'!$C$5:$C$34,W34),0,0,COUNTIF($W$6:$W$105,W34))),0)","v":17.5}]
[7,null,null,null,null,null,0,7,53.5,null,null,0,7,53.5,53.5,null,null,0,null,null,0,1.8691588785046728E-2,7,{"$f":"IF(W35<31,AVERAGE(OFFSET(INDEX('Points team et quota finales'!$C$5:$C$34,W35),0,0,COUNTIF($W$6:$W$105,W35))),0)","v":17.5}]
[7,null,null,null,null,null,0,7,53.5,null,null,0,7,53.5,53.5,null,null,0,null,null,0,1.8691588785046728E-2,7,{"$f":"IF(W36<31,AVERAGE(OFFSET(INDEX('Points team et quota finales'!$C$5:$C$34,W36),0,0,COUNTIF($W$6:$W$105,W36))),0)","v":17.5}]
[7,null,null,null,null,null,0,7,53.5,null,null,0,7,53.5,53.5,null,null,0,null,null,0,1.8691588785046728E-2,7,{"$f":"IF(W37<31,AVERAGE(OFFSET(INDEX('Points team et quota finales'!$C$5:$C$34,W37),0,0,COUNTIF($W$6:$W$105,W37))),0)","v":17.5}]
[7,null,null,null,null,null,0,7,53.5,null,null,0,7,53.5,53.5,null,null,0,null,null,0,1.8691588785046728E-2,7,{"$f":"IF(W38<31,AVERAGE(OFFSET(INDEX('Points team et quota finales'!$C$5:$C$34,W38),0,0,COUNTIF($W$6:$W$105,W38))),0)","v":17.5}]
[7,null,null,null,null,null,0,7,53.5,null,null,0,7,53.5,53.5,null,null,0,null,null,0,1.8691588785046728E-2,7,{"$f":"IF(W39<31,AVERAGE(OFFSET(INDEX('Points team et quota finales'!$C$5:$C$34,W39),0,0,COUNTIF($W$6:$W$105,W39))),0)","v":17.5}]
[7,null,null,null,null,null,0,7,53.5,null,null,0,7,53.5,53.5,null,null,0,null,null,0,1.8691588785046728E-2,7,{"$f":"IF(W40<31,AVERAGE(OFFSET(INDEX('Points team et quota finales'!$C$5:$C$34,W40),0,0,COUNTIF($W$6:$W$105,W40))),0)","v":17.5}]
[7,null,null,null,null,null,0,7,53.5,null,null,0,7,53.5,53.5,null,null,0,null,null,0,1.8691588785046728E-2,7,{"$f":"IF(W41<31,AVERAGE(OFFSET(INDEX('Points team et quota finales'!$C$5:$C$34,W41),0,0,COUNTIF($W$6:$W$105,W41))),0)","v":17.5}]
[7,null,null,null,null,null,0,7,53.5,null,null,0,7,53.5,53.5,null,null,0,null,null,0,1.8691588785046728E-2,7,{"$f":"IF(W42<31,AVERAGE(OFFSET(INDEX('Points team et quota finales'!$C$5:$C$34,W42),0,0,COUNTIF($W$6:$W$105,W42))),0)","v":17.5}]
[7,null,null,null,null,null,0,7,53.5,null,null,0,7,53.5,53.5,null,null,0,null,null,0,1.8691588785046728E-2,7,{"$f":"IF(W43<31,AVERAGE(OFFSET(INDEX('Points team et quota finales'!$C$5:$C$34,W43),0,0,COUNTIF($W$6:$W$105,W43))),0)","v":17.5}]
[7,null,null,null,null,null,0,7,53.5,null,null,0,7,53.5,53.5,null,null,0,null,null,0,1.8691588785046728E-2,7,{"$f":"IF(W44<31,AVERAGE(OFFSET(INDEX('Points team et quota finales'!$C$5:$C$34,W44),0,0,COUNTIF($W$6:$W$105,W44))),0)","v":17.5}]
[7,null,null,null,null,null,0,7,53.5,null,null,0,7,53.5,53.5,null,null,0,null,null,0,1.8691588785046728E-2,7,{"$f":"IF(W45<31,AVERAGE(OFFSET(INDEX('Points team et quota finales'!$C$5:$C$34,W45),0,0,COUNTIF($W$6:$W$105,W45))),0)","v":17.5}]
[7,null,null,null,null,null,0,7,53.5,null,null,0,7,53.5,53.5,null,null,0,null,null,0,1.8691588785046728E-2,7,{"$f":"IF(W46<31,AVERAGE(OFFSET(INDEX('Points team et quota finales'!$C$5:$C$34,W46),0,0,COUNTIF($W$6:$W$105,W46))),0)","v":17.5}]
[7,null,null,null,null,null,0,7,53.5,null,null,0,7,53.5,53.5,null,null,0,null,null,0,1.8691588785046728E-2,7,{"$f":"IF(W47<31,AVERAGE(OFFSET(INDEX('Points team et quota finales'!$C$5:$C$34,W47),0,0,COUNTIF($W$6:$W$105,W47))),0)","v":17.5}]
[7,null,null,null,null,null,0,7,53.5,null,null,0,7,53.5,53.5,null,null,0,null,null,0,1.8691588785046728E-2,7,{"$f":"IF(W48<31,AVERAGE(OFFSET(INDEX('Points team et quota finales'!$C$5:$C$34,W48),0,0,COUNTIF($W$6:$W$105,W48))),0)","v":17.5}]
[7,null,null,null,null,null,0,7,53.5,null,null,0,7,53.5,53.5,null,null,0,null,null,0,1.8691588785046728E-2,7,{"$f":"IF(W49<31,AVERAGE(OFFSET(INDEX('Points team et quota finales'!$C$5:$C$34,W49),0,0,COUNTIF($W$6:$W$105,W49))),0)","v":17.5}]
[7,null,null,null,null,null,0,7,53.5,null,null,0,7,53.5,53.5,null,null,0,null,null,0,1.8691588785046728E-2,7,{"$f":"IF(W50<31,AVERAGE(OFFSET(INDEX('Points team et quota finales'!$C$5:$C$34,W50),0,0,COUNTIF($W$6:$W$105,W50))),0)","v":17.5}]
[7,null,null,null,null,null,0,7,53.5,null,null,0,7,53.5,53.5,null,null,0,null,null,0,1.8691588785046728E-2,7,{"$f":"IF(W51<31,AVERAGE(OFFSET(INDEX('Points team et quota finales'!$C$5:$C$34,W51),0,0,COUNTIF($W$6:$W$105,W51))),0)","v":17.5}]
[7,null,null,null,null,null,0,7,53.5,null,null,0,7,53.5,53.5,null,null,0,null,null,0,1.8691588785046728E-2,7,{"$f":"IF(W52<31,AVERAGE(OFFSET(INDEX('Points team et quota finales'!$C$5:$C$34,W52),0,0,COUNTIF($W$6:$W$105,W52))),0)","v":17.5}]
[7,null,null,null,null,null,0,7,53.5,null,null,0,7,53.5,53.5,null,null,0,null,null,0,1.8691588785046728E-2,7,{"$f":"IF(W53<31,AVERAGE(OFFSET(INDEX('Points team et quota finales'!$C$5:$C$34,W53),0,0,COUNTIF($W$6:$W$105,W53))),0)","v":17.5}]
[7,null,null,null,null,null,0,7,53.5,null,null,0,7,53.5,53.5,null,null,0,null,null,0,1.8691588785046728E-2,7,{"$f":"IF(W54<31,AVERAGE(OFFSET(INDEX('Points team et quota finales'!$C$5:$C$34,W54),0,0,COUNTIF($W$6:$W$105,W54))),0)","v":17.5}]
[7,null,null,null,null,null,0,7,53.5,null,null,0,7,53.5,53.5,null,null,0,null,null,0,1.8691588785046728E-2,7,{"$f":"IF(W55<31,AVERAGE(OFFSET(INDEX('Points team et quota finales'!$C$5:$C$34,W55),0,0,COUNTIF($W$6:$W$105,W55))),0)","v":17.5}]
[7,null,null,null,null,null,0,7,53.5,null,null,0,7,53.5,53.5,null,null,0,null,null,0,1.8691588785046728E-2,7,{"$f":"IF(W56<31,AVERAGE(OFFSET(INDEX('Points team et quota finales'!$C$5:$C$34,W56),0,0,COUNTIF($W$6:$W$105,W56))),0)","v":17.5}]
[7,null,null,null,null,null,0,7,53.5,null,null,0,7,53.5,53.5,null,null,0,null,null,0,1.8691588785046728E-2,7,{"$f":"IF(W57<31,AVERAGE(OFFSET(INDEX('Points team et quota finales'!$C$5:$C$34,W57),0,0,COUNTIF($W$6:$W$105,W57))),0)","v":17.5}]
[7,null,null,null,null,null,0,7,53.5,null,null,0,7,53.5,53.5,null,null,0,null,null,0,1.8691588785046728E-2,7,{"$f":"IF(W58<31,AVERAGE(OFFSET(INDEX('Points team et quota finales'!$C$5:$C$34,W58),0,0,COUNTIF($W$6:$W$105,W58))),0)","v":17.5}]
[7,null,null,null,null,null,0,7,53.5,null,null,0,7,53.5,53.5,null,null,0,null,null,0,1.8691588785046728E-2,7,{"$f":"IF(W59<31,AVERAGE(OFFSET(INDEX('Points team et quota finales'!$C$5:$C$34,W59),0,0,COUNTIF($W$6:$W$105,W59))),0)","v":17.5}]
[7,null,null,null,null,null,0,7,53.5,null,null,0,7,53.5,53.5,null,null,0,null,null,0,1.8691588785046728E-2,7,{"$f":"IF(W60<31,AVERAGE(OFFSET(INDEX('Points team et quota finales'!$C$5:$C$34,W60),0,0,COUNTIF($W$6:$W$105,W60))),0)","v":17.5}]
[7,null,null,null,null,null,0,7,53.5,null,null,0,7,53.5,53.5,null,null,0,null,null,0,1.8691588785046728E-2,7,{"$f":"IF(W61<31,AVERAGE(OFFSET(INDEX('Points team et quota finales'!$C$5:$C$34,W61),0,0,COUNTIF($W$6:$W$105,W61))),0)","v":17.5}]
[7,null,null,null,null,null,0,7,53.5,null,null,0,7,53.5,53.5,null,null,0,null,null,0,1.8691588785046728E-2,7,{"$f":"IF(W62<31,AVERAGE(OFFSET(INDEX('Points team et quota finales'!$C$5:$C$34,W62),0,0,COUNTIF($W$6:$W$105,W62))),0)","v":17.5}]
[7,null,null,null,null,null,0,7,53.5,null,null,0,7,53.5,53.5,null,null,0,null,null,0,1.8691588785046728E-2,7,{"$f":"IF(W63<31,AVERAGE(OFFSET(INDEX('Points team et quota finales'!$C$5:$C$34,W63),0,0,COUNTIF($W$6:$W$105,W63))),0)","v":17.5}]
[7,null,null,null,null,null,0,7,53.5,null,null,0,7,53.5,53.5,null,null,0,null,null,0,1.8691588785046728E-2,7,{"$f":"IF(W64<31,AVERAGE(OFFSET(INDEX('Points team et quota finales'!$C$5:$C$34,W64),0,0,COUNTIF($W$6:$W$105,W64))),0)","v":17.5}]
[7,null,null,null,null,null,0,7,53.5,null,null,0,7,53.5,53.5,null,null,0,null,null,0,1.8691588785046728E-2,7,{"$f":"IF(W65<31,AVERAGE(OFFSET(INDEX('Points team et quota finales'!$C$5:$C$34,W65),0,0,COUNTIF($W$6:$W$105,W65))),0)","v":17.5}]
[7,null,null,null,null,null,0,7,53.5,null,null,0,7,53.5,53.5,null,null,0,null,null,0,1.8691588785046728E-2,7,{"$f":"IF(W66<31,AVERAGE(OFFSET(INDEX('Points team et quota finales'!$C$5:$C$34,W66),0,0,COUNTIF($W$6:$W$105,W66))),0)","v":17.5}]
[7,null,null,null,null,null,0,7,53.5,null,null,0,7,53.5,53.5,null,null,0,null,null,0,1.8691588785046728E-2,7,{"$f":"IF(W67<31,AVERAGE(OFFSET(INDEX('Points team et quota finales'!$C$5:$C$34,W67),0,0,COUNTIF($W$6:$W$105,W67))),0)","v":17.5}]
[7,null,null,null,null,null,0,7,53.5,null,null,0,7,53.5,53.5,null,null,0,null,null,0,1.8691588785046728E-2,7,{"$f":"IF(W68<31,AVERAGE(OFFSET(INDEX('Points team et quota finales'!$C$5:$C$34,W68),0,0,COUNTIF($W$6:$W$105,W68))),0)","v":17.5}]
[7,null,null,null,null,null,0,7,53.5,null,null,0,7,53.5,53.5,null,null,0,null,null,0,1.8691588785046728E-2,7,{"$f":"IF(W69<31,AVERAGE(OFFSET(INDEX('Points team et quota finales'!$C$5:$C$34,W69),0,0,COUNTIF($W$6:$W$105,W69))),0)","v":17.5}]
[7,null,null,null,null,null,{"$f":"IF(E70=\"TOP\",$F$108,IF(F70=\"-\",E70-0.01,IF(F70=\"+\",E70+0.01,E70)))","v":0},{"$f":"RANK(G70,$G$6:$G$105)","v":7},{"$f":"IF(COUNTIF($H$6:$H$105,H70)=1,H70,(H70*2+COUNTIF($H$6:$H$105,H70)-1)/2)","v":53.5},null,null,{"$f":"IF(J70=\"TOP\",$K$108,IF(K70=\"-\",J70-0.01,IF(K70=\"+\",J70+0.01,J70)))","v":0},{"$f":"RANK(L70,$L$6:$L$105)","v":7},{"$f":"IF(COUNTIF($M$6:$M$105,M70)=1,M70,(M70*2+COUNTIF($M$6:$M$105,M70)-1)/2)","v":53.5},{"$f":"SQRT(I70*N70)","v":53.5},null,null,{"$f":"IF(P70=\"TOP\",$Q$108,IF(Q70=\"-\",P70-0.01,IF(Q70=\"+\",P70+0.01,P70)))","v":0},null,null,{"$f":"IF($S70=\"TOP\",$T$108,IF($T70=\"-\",$S70-0.01,IF($T70=\"+\",$S70+0.01,$S70)))","v":0},{"$f":"IF(U70<>0,U70*1000+R70*100+1/O70,IF(R70<>0,R70*100+1/O70,1/O70))","v":1.8691588785046728E-2},{"$f":"A70","v":7},{"$f":"IF(W70<31,AVERAGE(OFFSET(INDEX('Points team et quota finales'!$C$5:$C$34,W70),0,0,COUNTIF($W$6:$W$105,W70))),0)","v":17.5}]
[{"$f":"RANK(V71,$V$6:$V$105)","v":7},null,null,null,null,null,0,7,53.5,null,null,0,7,53.5,53.5,null,null,0,null,null,0,1.8691588785046728E-2,7,{"$f":"IF(W71<31,AVERAGE(OFFSET(INDEX('Points team et quota finales'!$C$5:$C$34,W71),0,0,COUNTIF($W$6:$W$105,W71))),0)","v":17.5}]
[7,null,null,null,null,null,0,7,53.5,null,null,0,7,53.5,53.5,null,null,0,null,null,0,1.8691588785046728E-2,7,{"$f":"IF(W72<31,AVERAGE(OFFSET(INDEX('Points team et quota finales'!$C$5:$C$34,W72),0,0,COUNTIF($W$6:$W$105,W72))),0)","v":17.5}]
[7,null,null,null,null,null,0,7,53.5,null,null,0,7,53.5,53.5,null,null,0,null,null,0,1.8691588785046728E-2,7,{"$f":"IF(W73<31,AVERAGE(OFFSET(INDEX('Points team et quota finales'!$C$5:$C$34,W73),0,0,COUNTIF($W$6:$W$105,W73))),0)","v":17.5}]
[7,null,null,null,null,null,0,7,53.5,null,null,0,7,53.5,53.5,null,null,0,null,null,0,1.8691588785046728E-2,7,{"$f":"IF(W74<31,AVERAGE(OFFSET(INDEX('Points team et quota finales'!$C$5:$C$34,W74),0,0,COUNTIF($W$6:$W$105,W74))),0)","v":17.5}]
[7,null,null,null,null,null,0,7,53.5,null,null,0,7,53.5,53.5,null,null,0,null,null,0,1.8691588785046728E-2,7,{"$f":"IF(W75<31,AVERAGE(OFFSET(INDEX('Points team et quota finales'!$C$5:$C$34,W75),0,0,COUNTIF($W$6:$W$105,W75))),0)","v":17.5}]
[7,null,null,null,null,null,0,7,53.5,null,null,0,7,53.5,53.5,null,null,0,null,null,0,1.8691588785046728E-2,7,{"$f":"IF(W76<31,AVERAGE(OFFSET(INDEX('Points team et quota finales'!$C$5:$C$34,W76),0,0,COUNTIF($W$6:$W$105,W76))),0)","v":17.5}]
[7,null,null,null,null,null,0,7,53.5,null,null,0,7,53.5,53.5,null,null,0,null,null,0,1.8691588785046728E-2,7,{"$f":"IF(W77<31,AVERAGE(OFFSET(INDEX('Points team et quota finales'!$C$5:$C$34,W77),0,0,COUNTIF($W$6:$W$105,W77))),0)","v":17.5}]
[7,null,null,null,null,null,0,7,53.5,null,null,0,7,53.5,53.5,null,null,0,null,null,0,1.8691588785046728E-2,7,{"$f":"IF(W78<31,AVERAGE(OFFSET(INDEX('Points team et quota finales'!$C$5:$C$34,W78),0,0,COUNTIF($W$6:$W$105,W78))),0)","v":17.5}]
[7,null,null,null,null,null,0,7,53.5,null,null,0,7,53.5,53.5,null,null,0,null,null,0,1.8691588785046728E-2,7,{"$f":"IF(W79<31,AVERAGE(OFFSET(INDEX('Points team et quota finales'!$C$5:$C$34,W79),0,0,COUNTIF($W$6:$W$105,W79))),0)","v":17.5}]
[7,null,null,null,null,null,0,7,53.5,null,null,0,7,53.5,53.5,null,null,0,null,null,0,1.8691588785046728E-2,7,{"$f":"IF(W80<31,AVERAGE(OFFSET(INDEX('Points team et quota finales'!$C$5:$C$34,W80),0,0,COUNTIF($W$6:$W$105,W80))),0)","v":17.5}]
[7,null,null,null,null,null,0,7,53.5,null,null,0,7,53.5,53.5,null,null,0,null,null,0,1.8691588785046728E-2,7,{"$f":"IF(W81<31,AVERAGE(OFFSET(INDEX('Points team et quota finales'!$C$5:$C$34,W81),0,0,COUNTIF($W$6:$W$105,W81))),0)","v":17.5}]
[7,null,null,null,null,null,0,7,53.5,null,null,0,7,53.5,53.5,null,null,0,null,null,0,1.8691588785046728E-2,7,{"$f":"IF(W82<31,AVERAGE(OFFSET(INDEX('Points team et quota finales'!$C$5:$C$34,W82),0,0,COUNTIF($W$6:$W$105,W82))),0)","v":17.5}]
[7,null,null,null,null,null,0,7,53.5,null,null,0,7,53.5,53.5,null,null,0,null,null,0,1.8691588785046728E-2,7,{"$f":"IF(W83<31,AVERAGE(OFFSET(INDEX('Points team et quota finales'!$C$5:$C$34,W83),0,0,COUNTIF($W$6:$W$105,W83))),0)","v":17.5}]
[7,null,null,null,null,null,0,7,53.5,null,null,0,7,53.5,53.5,null,null,0,null,null,0,1.8691588785046728E-2,7,{"$f":"IF(W84<31,AVERAGE(OFFSET(INDEX('Points team et quota finales'!$C$5:$C$34,W84),0,0,COUNTIF($W$6:$W$105,W84))),0)","v":17.5}]
[7,null,null,null,null,null,0,7,53.5,null,null,0,7,53.5,53.5,null,null,0,null,null,0,1.8691588785046728E-2,7,{"$f":"IF(W85<31,AVERAGE(OFFSET(INDEX('Points team et quota finales'!$C$5:$C$34,W85),0,0,COUNTIF($W$6:$W$105,W85))),0)","v":17.5}]
[7,null,null,null,null,null,0,7,53.5,null,null,0,7,53.5,53.5,null,null,0,null,null,0,1.8691588785046728E-2,7,{"$f":"IF(W86<31,AVERAGE(OFFSET(INDEX('Points team et quota finales'!$C$5:$C$34,W86),0,0,COUNTIF($W$6:$W$105,W86))),0)","v":17.5}]
[7,null,null,null,null,null,0,7,53.5,null,null,0,7,53.5,53.5,null,null,0,null,null,0,1.8691588785046728E-2,7,{"$f":"IF(W87<31,AVERAGE(OFFSET(INDEX('Points team et quota finales'!$C$5:$C$34,W87),0,0,COUNTIF($W$6:$W$105,W87))),0)","v":17.5}]
[7,null,null,null,null,null,0,7,53.5,null,null,0,7,53.5,53.5,null,null,0,null,null,0,1.8691588785046728E-2,7,{"$f":"IF(W88<31,AVERAGE(OFFSET(INDEX('Points team et quota finales'!$C$5:$C$34,W88),0,0,COUNTIF($W$6:$W$105,W88))),0)","v":17.5}]
[7,null,null,null,null,null,0,7,53.5,null,null,0,7,53.5,53.5,null,null,0,null,null,0,1.8691588785046728E-2,7,{"$f":"IF(W89<31,AVERAGE(OFFSET(INDEX('Points team et quota finales'!$C$5:$C$34,W89),0,0,COUNTIF($W$6:$W$105,W89))),0)","v":17.5}]
[7,null,null,null,null,null,0,7,53.5,null,null,0,7,53.5,53.5,null,null,0,null,null,0,1.8691588785046728E-2,7,{"$f":"IF(W90<31,AVERAGE(OFFSET(INDEX('Points team et quota finales'!$C$5:$C$34,W90),0,0,COUNTIF($W$6:$W$105,W90))),0)","v":17.5}]
[7,null,null,null,null,null,0,7,53.5,null,null,0,7,53.5,53.5,null,null,0,null,null,0,1.8691588785046728E-2,7,{"$f":"IF(W91<31,AVERAGE(OFFSET(INDEX('Points team et quota finales'!$C$5:$C$34,W91),0,0,COUNTIF($W$6:$W$105,W91))),0)","v":17.5}]
[7,null,null,null,null,null,0,7,53.5,null,null,0,7,53.5,53.5,null,null,0,null,null,0,1.8691588785046728E-2,7,{"$f":"IF(W92<31,AVERAGE(OFFSET(INDEX('Points team et quota finales'!$C$5:$C$34,W92),0,0,COUNTIF($W$6:$W$105,W92))),0)","v":17.5}]
[7,null,null,null,null,null,0,7,53.5,null,null,0,7,53.5,53.5,null,null,0,null,null,0,1.8691588785046728E-2,7,{"$f":"IF(W93<31,AVERAGE(OFFSET(INDEX('Points team et quota finales'!$C$5:$C$34,W93),0,0,COUNTIF($W$6:$W$105,W93))),0)","v":17.5}]
[7,null,null,null,null,null,0,7,53.5,null,null,0,7,53.5,53.5,null,null,0,null,null,0,1.8691588785046728E-2,7,{"$f":"IF(W94<31,AVERAGE(OFFSET(INDEX('Points team et quota finales'!$C$5:$C$34,W94),0,0,COUNTIF($W$6:$W$105,W94))),0)","v":17.5}]
[7,null,null,null,null,null,0,7,53.5,null,null,0,7,53.5,53.5,null,null,0,null,null,0,1.8691588785046728E-2,7,{"$f":"IF(W95<31,AVERAGE(OFFSET(INDEX('Points team et quota finales'!$C$5:$C$34,W95),0,0,COUNTIF($W$6:$W$105,W95))),0)","v":17.5}]
[7,null,null,null,null,null,0,7,53.5,null,null,0,7,53.5,53.5,null,null,0,null,null,0,1.8691588785046728E-2,7,{"$f":"IF(W96<31,AVERAGE(OFFSET(INDEX('Points team et quota finales'!$C$5:$C$34,W96),0,0,COUNTIF($W$6:$W$105,W96))),0)","v":17.5}]
[7,null,null,null,null,null,0,7,53.5,null,null,0,7,53.5,53.5,null,null,0,null,null,0,1.8691588785046728E-2,7,{"$f":"IF(W97<31,AVERAGE(OFFSET(INDEX('Points team et quota finales'!$C$5:$C$34,W97),0,0,COUNTIF($W$6:$W$105,W97))),0)","v":17.5}]
[7,null,null,null,null,null,0,7,53.5,null,null,0,7,53.5,53.5,null,null,0,null,null,0,1.8691588785046728E-2,7,{"$f":"IF(W98<31,AVERAGE(OFFSET(INDEX('Points team et quota finales'!$C$5:$C$34,W98),0,0,COUNTIF($W$6:$W$105,W98))),0)","v":17.5}]
[7,null,null,null,null,null,0,7,53.5,null,null,0,7,53.5,53.5,null,null,0,null,null,0,1.8691588785046728E-2,7,{"$f":"IF(W99<31,AVERAGE(OFFSET(INDEX('Points team et quota finales'!$C$5:$C$34,W99),0,0,COUNTIF($W$6:$W$105,W99))),0)","v":17.5}]
[7,null,null,null,null,null,0,7,53.5,null,null,0,7,53.5,53.5,null,null,0,null,null,0,1.8691588785046728E-2,7,{"$f":"IF(W100<31,AVERAGE(OFFSET(INDEX('Points team et quota finales'!$C$5:$C$34,W100),0,0,COUNTIF($W$6:$W$105,W100))),0)","v":17.5}]
[7,null,null,null,null,null,0,7,53.5,null,null,0,7,53.5,53.5,null,null,0,null,null,0,1.8691588785046728E-2,7,{"$f":"IF(W101<31,AVERAGE(OFFSET(INDEX('Points team et quota finales'!$C$5:$C$34,W101),0,0,COUNTIF($W$6:$W$105,W101))),0)","v":17.5}]
[7,null,null,null,null,null,0,7,53.5,null,null,0,7,53.5,53.5,null,null,0,null,null,0,1.8691588785046728E-2,7,{"$f":"IF(W102<31,AVERAGE(OFFSET(INDEX('Points team et quota finales'!$C$5:$C$34,W102),0,0,COUNTIF($W$6:$W$105,W102))),0)","v":17.5}]
[7,null,null,null,null,null,0,7,53.5,null,null,0,7,53.5,53.5,null,null,0,null,null,0,1.8691588785046728E-2,7,{"$f":"IF(W103<31,AVERAGE(OFFSET(INDEX('Points team et quota finales'!$C$5:$C$34,W103),0,0,COUNTIF($W$6:$W$105,W103))),0)","v":17.5}]
[7,null,null,null,null,null,0,7,53.5,null,null,0,7,53.5,53.5,null,null,0,null,null,0,1.8691588785046728E-2,7,{"$f":"IF(W104<31,AVERAGE(OFFSET(INDEX('Points team et quota finales'!$C$5:$C$34,W104),0,0,COUNTIF($W$6:$W$105,W104))),0)","v":17.5}]
[7,null,null,null,null,null,0,7,53.5,null,null,0,7,53.5,53.5,null,null,0,null,null,0,1.8691588785046728E-2,7,{"$f":"IF(W105<31,AVERAGE(OFFSET(INDEX('Points team et quota finales'!$C$5:$C$34,W105),0,0,COUNTIF($W$6:$W$105,W105))),0)","v":17.5}]
[]
[]
[null,null,null,null,"Top =",24,null,null,null,"Top = ",36,null,null,null,null,"Top =",36,null,"Top ="]
[null,{"$f":"CONCATENATE(\"Jury President: \",General!$B$6)","v":"Jury President: Lieven Vlassenroot"}]
[]
[null,"Appeal until :"]

{"sheet":"JF","index":6,"n_rows":111,"n_cols":24,"rows_kept":111,"cut":false,"hidden":false,"merged":[[1,0,1,22],[4,4,4,7],[4,9,4,12],[4,15,4,17],[4,18,4,20]]}
[]
[{"$f":"CONCATENATE(General!$B$5,\"  -  RESULTS Junior Female\")","v":"Youth Lead Championship 09-03-2013  -  RESULTS Junior Female"}]
[]
[]
["RANK","Nr","Name","Team","Route 1",null,null,null,"Ranking Points Route 1","Route 2",null,null,null,"Ranking Points Route 2","Root R1 x R2 ","Final ",null,null,"Super Final",null,null,"base pour calcul rang","RANK","Team points"]
[{"$f":"RANK(V6,$V$6:$V$105)","v":1},"JF02","GUERIT Emilie","CC","TOP",null,{"$f":"IF(E6=\"TOP\",$F$108,IF(F6=\"-\",E6-0.01,IF(F6=\"+\",E6+0.01,E6)))","v":24},{"$f":"RANK(G6,$G$6:$G$105)","v":1},{"$f":"IF(COUNTIF($H$6:$H$105,H6)=1,H6,(H6*2+COUNTIF($H$6:$H$105,H6)-1)/2)","v":1.5},33,"+",{"$f":"IF(J6=\"TOP\",$K$108,IF(K6=\"-\",J6-0.01,IF(K6=\"+\",J6+0.01,J6)))","v":33.01},{"$f":"RANK(L6,$L$6:$L$105)","v":1},{"$f":"IF(COUNTIF($M$6:$M$105,M6)=1,M6,(M6*2+COUNTIF($M$6:$M$105,M6)-1)/2)","v":1},{"$f":"SQRT(I6*N6)","v":1.2247448713915889},29,null,{"$f":"IF(P6=\"TOP\",$Q$108,IF(Q6=\"-\",P6-0.01,IF(Q6=\"+\",P6+0.01,P6)))","v":29},null,null,{"$f":"IF($S6=\"TOP\",$T$108,IF($T6=\"-\",$S6-0.01,IF($T6=\"+\",$S6+0.01,$S6)))","v":0},{"$f":"IF(U6<>0,U6*1000+R6*100+1/O6,IF(R6<>0,R6*100+1/O6,1/O6))","v":2900.8164965809278},{"$f":"A6","v":1},{"$f":"IF(W6<31,AVERAGE(OFFSET(INDEX('Points team et quota finales'!$C$5:$C$34,W6),0,0,COUNTIF($W$6:$W$105,W6))),0)","v":100}]
[{"$f":"RANK(V7,$V$6:$V$105)","v":2},"JF03","MATHEYS Manon","ESC",23,"+",{"$f":"IF(E7=\"TOP\",$F$108,IF(F7=\"-\",E7-0.01,IF(F7=\"+\",E7+0.01,E7)))","v":23.01},{"$f":"RANK(G7,$G$6:$G$105)","v":3},{"$f":"IF(COUNTIF($H$6:$H$105,H7)=1,H7,(H7*2+COUNTIF($H$6:$H$105,H7)-1)/2)","v":3},19,"+",{"$f":"IF(J7=\"TOP\",$K$108,IF(K7=\"-\",J7-0.01,IF(K7=\"+\",J7+0.01,J7)))","v":19.010000000000002},{"$f":"RANK(L7,$L$6:$L$105)","v":2},{"$f":"IF(COUNTIF($M$6:$M$105,M7)=1,M7,(M7*2+COUNTIF($M$6:$M$105,M7)-1)/2)","v":2.5},{"$f":"SQRT(I7*N7)","v":2.7386127875258306},22,null,{"$f":"IF(P7=\"TOP\",$Q$108,IF(Q7=\"-\",P7-0.01,IF(Q7=\"+\",P7+0.01,P7)))","v":22},null,null,{"$f":"IF($S7=\"TOP\",$T$108,IF($T7=\"-\",$S7-0.01,IF($T7=\"+\",$S7+0.01,$S7)))","v":0},{"$f":"IF(U7<>0,U7*1000+R7*100+1/O7,IF(R7<>0,R7*100+1/O7,1/O7))","v":2200.3651483716703},2,{"$f":"IF(W7<31,AVERAGE(OFFSET(INDEX('Points team et quota finales'!$C$5:$C$34,W7),0,0,COUNTIF($W$6:$W$105,W7))),0)","v":80}]
[3,"JF01","DUTRIEUX Ninon","STC","TOP",null,{"$f":"IF(E8=\"TOP\",$F$108,IF(F8=\"-\",E8-0.01,IF(F8=\"+\",E8+0.01,E8)))","v":24},{"$f":"RANK(G8,$G$6:$G$105)","v":1},{"$f":"IF(COUNTIF($H$6:$H$105,H8)=1,H8,(H8*2+COUNTIF($H$6:$H$105,H8)-1)/2)","v":1.5},19,"+",{"$f":"IF(J8=\"TOP\",$K$108,IF(K8=\"-\",J8-0.01,IF(K8=\"+\",J8+0.01,J8)))","v":19.010000000000002},{"$f":"RANK(L8,$L$6:$L$105)","v":2},{"$f":"IF(COUNTIF($M$6:$M$105,M8)=1,M8,(M8*2+COUNTIF($M$6:$M$105,M8)-1)/2)","v":2.5},{"$f":"SQRT(I8*N8)","v":1.9364916731037085},16,"+",{"$f":"IF(P8=\"TOP\",$Q$108,IF(Q8=\"-\",P8-0.01,IF(Q8=\"+\",P8+0.01,P8)))","v":16.010000000000002},null,null,{"$f":"IF($S8=\"TOP\",$T$108,IF($T8=\"-\",$S8-0.01,IF($T8=\"+\",$S8+0.01,$S8)))","v":0},{"$f":"IF(U8<>0,U8*1000+R8*100+1/O8,IF(R8<>0,R8*100+1/O8,1/O8))","v":1601.5163977794946},3,{"$f":"IF(W8<31,AVERAGE(OFFSET(INDEX('Points team et quota finales'!$C$5:$C$34,W8),0,0,COUNTIF($W$6:$W$105,W8))),0)","v":65}]
[4,null,null,null,null,null,{"$f":"IF(E9=\"TOP\",$F$108,IF(F9=\"-\",E9-0.01,IF(F9=\"+\",E9+0.01,E9)))","v":0},{"$f":"RANK(G9,$G$6:$G$105)","v":4},{"$f":"IF(COUNTIF($H$6:$H$105,H9)=1,H9,(H9*2+COUNTIF($H$6:$H$105,H9)-1)/2)","v":52},null,null,{"$f":"IF(J9=\"TOP\",$K$108,IF(K9=\"-\",J9-0.01,IF(K9=\"+\",J9+0.01,J9)))","v":0},{"$f":"RANK(L9,$L$6:$L$105)","v":4},{"$f":"IF(COUNTIF($M$6:$M$105,M9)=1,M9,(M9*2+COUNTIF($M$6:$M$105,M9)-1)/2)","v":52},{"$f":"SQRT(I9*N9)","v":52},null,null,{"$f":"IF(P9=\"TOP\",$Q$108,IF(Q9=\"-\",P9-0.01,IF(Q9=\"+\",P9+0.01,P9)))","v":0},null,null,{"$f":"IF($S9=\"TOP\",$T$108,IF($T9=\"-\",$S9-0.01,IF($T9=\"+\",$S9+0.01,$S9)))","v":0},{"$f":"IF(U9<>0,U9*1000+R9*100+1/O9,IF(R9<>0,R9*100+1/O9,1/O9))","v":1.9230769230769232E-2},4,{"$f":"IF(W9<31,AVERAGE(OFFSET(INDEX('Points team et quota finales'!$C$5:$C$34,W9),0,0,COUNTIF($W$6:$W$105,W9))),0)","v":21.222222222222221}]
[4,null,null,null,null,null,0,4,52,null,null,0,4,52,52,null,null,0,null,null,0,1.9230769230769232E-2,4,{"$f":"IF(W10<31,AVERAGE(OFFSET(INDEX('Points team et quota finales'!$C$5:$C$34,W10),0,0,COUNTIF($W$6:$W$105,W10))),0)","v":21.222222222222221}]
[4,null,null,null,null,null,0,4,52,null,null,0,4,52,52,null,null,0,null,null,0,1.9230769230769232E-2,4,{"$f":"IF(W11<31,AVERAGE(OFFSET(INDEX('Points team et quota finales'!$C$5:$C$34,W11),0,0,COUNTIF($W$6:$W$105,W11))),0)","v":21.222222222222221}]
[4,null,null,null,null,null,0,4,52,null,null,0,4,52,52,null,null,0,null,null,0,1.9230769230769232E-2,4,{"$f":"IF(W12<31,AVERAGE(OFFSET(INDEX('Points team et quota finales'!$C$5:$C$34,W12),0,0,COUNTIF($W$6:$W$105,W12))),0)","v":21.222222222222221}]
[4,null,null,null,null,null,0,4,52,null,null,0,4,52,52,null,null,0,null,null,0,1.9230769230769232E-2,4,{"$f":"IF(W13<31,AVERAGE(OFFSET(INDEX('Points team et quota finales'!$C$5:$C$34,W13),0,0,COUNTIF($W$6:$W$105,W13))),0)","v":21.222222222222221}]
[4,null,null,null,null,null,0,4,52,null,null,0,4,52,52,null,null,0,null,null,0,1.9230769230769232E-2,4,{"$f":"IF(W14<31,AVERAGE(OFFSET(INDEX('Points team et quota finales'!$C$5:$C$34,W14),0,0,COUNTIF($W$6:$W$105,W14))),0)","v":21.222222222222221}]
[4,null,null,null,null,null,0,4,52,null,null,0,4,52,52,null,null,0,null,null,0,1.9230769230769232E-2,4,{"$f":"IF(W15<31,AVERAGE(OFFSET(INDEX('Points team et quota finales'!$C$5:$C$34,W15),0,0,COUNTIF($W$6:$W$105,W15))),0)","v":21.222222222222221}]
[4,null,null,null,null,null,0,4,52,null,null,0,4,52,52,null,null,0,null,null,0,1.9230769230769232E-2,4,{"$f":"IF(W16<31,AVERAGE(OFFSET(INDEX('Points team et quota finales'!$C$5:$C$34,W16),0,0,COUNTIF($W$6:$W$105,W16))),0)","v":21.222222222222221}]
[4,null,null,null,null,null,0,4,52,null,null,0,4,52,52,null,null,0,null,null,0,1.9230769230769232E-2,4,{"$f":"IF(W17<31,AVERAGE(OFFSET(INDEX('Points team et quota finales'!$C$5:$C$34,W17),0,0,COUNTIF($W$6:$W$105,W17))),0)","v":21.222222222222221}]
[4,null,null,null,null,null,0,4,52,null,null,0,4,52,52,null,null,0,null,null,0,1.9230769230769232E-2,4,{"$f":"IF(W18<31,AVERAGE(OFFSET(INDEX('Points team et quota finales'!$C$5:$C$34,W18),0,0,COUNTIF($W$6:$W$105,W18))),0)","v":21.222222222222221}]
[4,null,null,null,null,null,0,4,52,null,null,0,4,52,52,null,null,0,null,null,0,1.9230769230769232E-2,4,{"$f":"IF(W19<31,AVERAGE(OFFSET(INDEX('Points team et quota finales'!$C$5:$C$34,W19),0,0,COUNTIF($W$6:$W$105,W19))),0)","v":21.222222222222221}]
[4,null,null,null,null,null,0,4,52,null,null,0,4,52,52,null,null,0,null,null,0,1.9230769230769232E-2,4,{"$f":"IF(W20<31,AVERAGE(OFFSET(INDEX('Points team et quota finales'!$C$5:$C$34,W20),0,0,COUNTIF($W$6:$W$105,W20))),0)","v":21.222222222222221}]
[4,null,null,null,null,null,0,4,52,null,null,0,4,52,52,null,null,0,null,null,0,1.9230769230769232E-2,4,{"$f":"IF(W21<31,AVERAGE(OFFSET(INDEX('Points team et quota finales'!$C$5:$C$34,W21),0,0,COUNTIF($W$6:$W$105,W21))),0)","v":21.222222222222221}]
[4,null,null,null,null,null,0,4,52,null,null,0,4,52,52,null,null,0,null,null,0,1.9230769230769232E-2,4,{"$f":"IF(W22<31,AVERAGE(OFFSET(INDEX('Points team et quota finales'!$C$5:$C$34,W22),0,0,COUNTIF($W$6:$W$105,W22))),0)","v":21.222222222222221}]
[4,null,null,null,null,null,0,4,52,null,null,0,4,52,52,null,null,0,null,null,0,1.9230769230769232E-2,4,{"$f":"IF(W23<31,AVERAGE(OFFSET(INDEX('Points team et quota finales'!$C$5:$C$34,W23),0,0,COUNTIF($W$6:$W$105,W23))),0)","v":21.222222222222221}]
[4,null,null,null,null,null,0,4,52,null,null,0,4,52,52,null,null,0,null,null,0,1.9230769230769232E-2,4,{"$f":"IF(W24<31,AVERAGE(OFFSET(INDEX('Points team et quota finales'!$C$5:$C$34,W24),0,0,COUNTIF($W$6:$W$105,W24))),0)","v":21.222222222222221}]
[4,null,null,null,null,null,0,4,52,null,null,0,4,52,52,null,null,0,null,null,0,1.9230769230769232E-2,4,{"$f":"IF(W25<31,AVERAGE(OFFSET(INDEX('Points team et quota finales'!$C$5:$C$34,W25),0,0,COUNTIF($W$6:$W$105,W25))),0)","v":21.222222222222221}]
[4,null,null,null,null,null,0,4,52,null,null,0,4,52,52,null,null,0,null,null,0,1.9230769230769232E-2,4,{"$f":"IF(W26<31,AVERAGE(OFFSET(INDEX('Points team et quota finales'!$C$5:$C$34,W26),0,0,COUNTIF($W$6:$W$105,W26))),0)","v":21.222222222222221}]
[4,null,null,null,null,null,0,4,52,null,null,0,4,52,52,null,null,0,null,null,0,1.9230769230769232E-2,4,{"$f":"IF(W27<31,AVERAGE(OFFSET(INDEX('Points team et quota finales'!$C$5:$C$34,W27),0,0,COUNTIF($W$6:$W$105,W27))),0)","v":21.222222222222221}]
[4,null,null,null,null,null,0,4,52,null,null,0,4,52,52,null,null,0,null,null,0,1.9230769230769232E-2,4,{"$f":"IF(W28<31,AVERAGE(OFFSET(INDEX('Points team et quota finales'!$C$5:$C$34,W28),0,0,COUNTIF($W$6:$W$105,W28))),0)","v":21.222222222222221}]
[4,null,null,null,null,null,0,4,52,null,null,0,4,52,52,null,null,0,null,null,0,1.9230769230769232E-2,4,{"$f":"IF(W29<31,AVERAGE(OFFSET(INDEX('Points team et quota finales'!$C$5:$C$34,W29),0,0,COUNTIF($W$6:$W$105,W29))),0)","v":21.222222222222221}]
[4,null,null,null,null,null,0,4,52,null,null,0,4,52,52,null,null,0,null,null,0,1.9230769230769232E-2,4,{"$f":"IF(W30<31,AVERAGE(OFFSET(INDEX('Points team et quota finales'!$C$5:$C$34,W30),0,0,COUNTIF($W$6:$W$105,W30))),0)","v":21.222222222222221}]
[4,null,null,null,null,null,0,4,52,null,null,0,4,52,52,null,null,0,null,null,0,1.9230769230769232E-2,4,{"$f":"IF(W31<31,AVERAGE(OFFSET(INDEX('Points team et quota finales'!$C$5:$C$34,W31),0,0,COUNTIF($W$6:$W$105,W31))),0)","v":21.222222222222221}]
[4,null,null,null,null,null,0,4,52,null,null,0,4,52,52,null,null,0,null,null,0,1.9230769230769232E-2,4,{"$f":"IF(W32<31,AVERAGE(OFFSET(INDEX('Points team et quota finales'!$C$5:$C$34,W32),0,0,COUNTIF($W$6:$W$105,W32))),0)","v":21.222222222222221}]
[4,null,null,null,null,null,0,4,52,null,null,0,4,52,52,null,null,0,null,null,0,1.9230769230769232E-2,4,{"$f":"IF(W33<31,AVERAGE(OFFSET(INDEX('Points team et quota finales'!$C$5:$C$34,W33),0,0,COUNTIF($W$6:$W$105,W33))),0)","v":21.222222222222221}]
[4,null,null,null,null,null,0,4,52,null,null,0,4,52,52,null,null,0,null,null,0,1.9230769230769232E-2,4,{"$f":"IF(W34<31,AVERAGE(OFFSET(INDEX('Points team et quota finales'!$C$5:$C$34,W34),0,0,COUNTIF($W$6:$W$105,W34))),0)","v":21.222222222222221}]
[4,null,null,null,null,null,0,4,52,null,null,0,4,52,52,null,null,0,null,null,0,1.9230769230769232E-2,4,{"$f":"IF(W35<31,AVERAGE(OFFSET(INDEX('Points team et quota finales'!$C$5:$C$34,W35),0,0,COUNTIF($W$6:$W$105,W35))),0)","v":21.222222222222221}]
[4,null,null,null,null,null,0,4,52,null,null,0,4,52,52,null,null,0,null,null,0,1.9230769230769232E-2,4,{"$f":"IF(W36<31,AVERAGE(OFFSET(INDEX('Points team et quota finales'!$C$5:$C$34,W36),0,0,COUNTIF($W$6:$W$105,W36))),0)","v":21.222222222222221}]
[4,null,null,null,null,null,0,4,52,null,null,0,4,52,52,null,null,0,null,null,0,1.9230769230769232E-2,4,{"$f":"IF(W37<31,AVERAGE(OFFSET(INDEX('Points team et quota finales'!$C$5:$C$34,W37),0,0,COUNTIF($W$6:$W$105,W37))),0)","v":21.222222222222221}]
[4,null,null,null,null,null,0,4,52,null,null,0,4,52,52,null,null,0,null,null,0,1.9230769230769232E-2,4,{"$f":"IF(W38<31,AVERAGE(OFFSET(INDEX('Points team et quota finales'!$C$5:$C$34,W38),0,0,COUNTIF($W$6:$W$105,W38))),0)","v":21.222222222222221}]
[4,null,null,null,null,null,0,4,52,null,null,0,4,52,52,null,null,0,null,null,0,1.9230769230769232E-2,4,{"$f":"IF(W39<31,AVERAGE(OFFSET(INDEX('Points team et quota finales'!$C$5:$C$34,W39),0,0,COUNTIF($W$6:$W$105,W39))),0)","v":21.222222222222221}]
[4,null,null,null,null,null,0,4,52,null,null,0,4,52,52,null,null,0,null,null,0,1.9230769230769232E-2,4,{"$f":"IF(W40<31,AVERAGE(OFFSET(INDEX('Points team et quota finales'!$C$5:$C$34,W40),0,0,COUNTIF($W$6:$W$105,W40))),0)","v":21.222222222222221}]
[4,null,null,null,null,null,0,4,52,null,null,0,4,52,52,null,null,0,null,null,0,1.9230769230769232E-2,4,{"$f":"IF(W41<31,AVERAGE(OFFSET(INDEX('Points team et quota finales'!$C$5:$C$34,W41),0,0,COUNTIF($W$6:$W$105,W41))),0)","v":21.222222222222221}]
[4,null,null,null,null,null,0,4,52,null,null,0,4,52,52,null,null,0,null,null,0,1.9230769230769232E-2,4,{"$f":"IF(W42<31,AVERAGE(OFFSET(INDEX('Points team et quota finales'!$C$5:$C$34,W42),0,0,COUNTIF($W$6:$W$105,W42))),0)","v":21.222222222222221}]
[4,null,null,null,null,null,0,4,52,null,null,0,4,52,52,null,null,0,null,null,0,1.9230769230769232E-2,4,{"$f":"IF(W43<31,AVERAGE(OFFSET(INDEX('Points team et quota finales'!$C$5:$C$34,W43),0,0,COUNTIF($W$6:$W$105,W43))),0)","v":21.222222222222221}]
[4,null,null,null,null,null,0,4,52,null,null,0,4,52,52,null,null,0,null,null,0,1.9230769230769232E-2,4,{"$f":"IF(W44<31,AVERAGE(OFFSET(INDEX('Points team et quota finales'!$C$5:$C$34,W44),0,0,COUNTIF($W$6:$W$105,W44))),0)","v":21.222222222222221}]
[4,null,null,null,null,null,0,4,52,null,null,0,4,52,52,null,null,0,null,null,0,1.9230769230769232E-2,4,{"$f":"IF(W45<31,AVERAGE(OFFSET(INDEX('Points team et quota finales'!$C$5:$C$34,W45),0,0,COUNTIF($W$6:$W$105,W45))),0)","v":21.222222222222221}]
[4,null,null,null,null,null,0,4,52,null,null,0,4,52,52,null,null,0,null,null,0,1.9230769230769232E-2,4,{"$f":"IF(W46<31,AVERAGE(OFFSET(INDEX('Points team et quota finales'!$C$5:$C$34,W46),0,0,COUNTIF($W$6:$W$105,W46))),0)","v":21.222222222222221}]
[4,null,null,null,null,null,0,4,52,null,null,0,4,52,52,null,null,0,null,null,0,1.9230769230769232E-2,4,{"$f":"IF(W47<31,AVERAGE(OFFSET(INDEX('Points team et quota finales'!$C$5:$C$34,W47),0,0,COUNTIF($W$6:$W$105,W47))),0)","v":21.222222222222221}]
[4,null,null,null,null,null,0,4,52,null,null,0,4,52,52,null,null,0,null,null,0,1.9230769230769232E-2,4,{"$f":"IF(W48<31,AVERAGE(OFFSET(INDEX('Points team et quota finales'!$C$5:$C$34,W48),0,0,COUNTIF($W$6:$W$105,W48))),0)","v":21.222222222222221}]
[4,null,null,null,null,null,0,4,52,null,null,0,4,52,52,null,null,0,null,null,0,1.9230769230769232E-2,4,{"$f":"IF(W49<31,AVERAGE(OFFSET(INDEX('Points team et quota finales'!$C$5:$C$34,W49),0,0,COUNTIF($W$6:$W$105,W49))),0)","v":21.222222222222221}]
[4,null,null,null,null,null,0,4,52,null,null,0,4,52,52,null,null,0,null,null,0,1.9230769230769232E-2,4,{"$f":"IF(W50<31,AVERAGE(OFFSET(INDEX('Points team et quota finales'!$C$5:$C$34,W50),0,0,COUNTIF($W$6:$W$105,W50))),0)","v":21.222222222222221}]
[4,null,null,null,null,null,0,4,52,null,null,0,4,52,52,null,null,0,null,null,0,1.9230769230769232E-2,4,{"$f":"IF(W51<31,AVERAGE(OFFSET(INDEX('Points team et quota finales'!$C$5:$C$34,W51),0,0,COUNTIF($W$6:$W$105,W51))),0)","v":21.222222222222221}]
[4,null,null,null,null,null,0,4,52,null,null,0,4,52,52,null,null,0,null,null,0,1.9230769230769232E-2,4,{"$f":"IF(W52<31,AVERAGE(OFFSET(INDEX('Points team et quota finales'!$C$5:$C$34,W52),0,0,COUNTIF($W$6:$W$105,W52))),0)","v":21.222222222222221}]
[4,null,null,null,null,null,0,4,52,null,null,0,4,52,52,null,null,0,null,null,0,1.9230769230769232E-2,4,{"$f":"IF(W53<31,AVERAGE(OFFSET(INDEX('Points team et quota finales'!$C$5:$C$34,W53),0,0,COUNTIF($W$6:$W$105,W53))),0)","v":21.222222222222221}]
[4,null,null,null,null,null,0,4,52,null,null,0,4,52,52,null,null,0,null,null,0,1.9230769230769232E-2,4,{"$f":"IF(W54<31,AVERAGE(OFFSET(INDEX('Points team et quota finales'!$C$5:$C$34,W54),0,0,COUNTIF($W$6:$W$105,W54))),0)","v":21.222222222222221}]
[4,null,null,null,null,null,0,4,52,null,null,0,4,52,52,null,null,0,null,null,0,1.9230769230769232E-2,4,{"$f":"IF(W55<31,AVERAGE(OFFSET(INDEX('Points team et quota finales'!$C$5:$C$34,W55),0,0,COUNTIF($W$6:$W$105,W55))),0)","v":21.222222222222221}]
[4,null,null,null,null,null,0,4,52,null,null,0,4,52,52,null,null,0,null,null,0,1.9230769230769232E-2,4,{"$f":"IF(W56<31,AVERAGE(OFFSET(INDEX('Points team et quota finales'!$C$5:$C$34,W56),0,0,COUNTIF($W$6:$W$105,W56))),0)","v":21.222222222222221}]
[4,null,null,null,null,null,0,4,52,null,null,0,4,52,52,null,null,0,null,null,0,1.9230769230769232E-2,4,{"$f":"IF(W57<31,AVERAGE(OFFSET(INDEX('Points team et quota finales'!$C$5:$C$34,W57),0,0,COUNTIF($W$6:$W$105,W57))),0)","v":21.222222222222221}]
[4,null,null,null,null,null,0,4,52,null,null,0,4,52,52,null,null,0,null,null,0,1.9230769230769232E-2,4,{"$f":"IF(W58<31,AVERAGE(OFFSET(INDEX('Points team et quota finales'!$C$5:$C$34,W58),0,0,COUNTIF($W$6:$W$105,W58))),0)","v":21.222222222222221}]
[4,null,null,null,null,null,0,4,52,null,null,0,4,52,52,null,null,0,null,null,0,1.9230769230769232E-2,4,{"$f":"IF(W59<31,AVERAGE(OFFSET(INDEX('Points team et quota finales'!$C$5:$C$34,W59),0,0,COUNTIF($W$6:$W$105,W59))),0)","v":21.222222222222221}]
[4,null,null,null,null,null,0,4,52,null,null,0,4,52,52,null,null,0,null,null,0,1.9230769230769232E-2,4,{"$f":"IF(W60<31,AVERAGE(OFFSET(INDEX('Points team et quota finales'!$C$5:$C$34,W60),0,0,COUNTIF($W$6:$W$105,W60))),0)","v":21.222222222222221}]
[4,null,null,null,null,null,0,4,52,null,null,0,4,52,52,null,null,0,null,null,0,1.9230769230769232E-2,4,{"$f":"IF(W61<31,AVERAGE(OFFSET(INDEX('Points team et quota finales'!$C$5:$C$34,W61),0,0,COUNTIF($W$6:$W$105,W61))),0)","v":21.222222222222221}]
[4,null,null,null,null,null,0,4,52,null,null,0,4,52,52,null,null,0,null,null,0,1.9230769230769232E-2,4,{"$f":"IF(W62<31,AVERAGE(OFFSET(INDEX('Points team et quota finales'!$C$5:$C$34,W62),0,0,COUNTIF($W$6:$W$105,W62))),0)","v":21.222222222222221}]
[4,null,null,null,null,null,0,4,52,null,null,0,4,52,52,null,null,0,null,null,0,1.9230769230769232E-2,4,{"$f":"IF(W63<31,AVERAGE(OFFSET(INDEX('Points team et quota finales'!$C$5:$C$34,W63),0,0,COUNTIF($W$6:$W$105,W63))),0)","v":21.222222222222221}]
[4,null,null,null,null,null,0,4,52,null,null,0,4,52,52,null,null,0,null,null,0,1.9230769230769232E-2,4,{"$f":"IF(W64<31,AVERAGE(OFFSET(INDEX('Points team et quota finales'!$C$5:$C$34,W64),0,0,COUNTIF($W$6:$W$105,W64))),0)","v":21.222222222222221}]
[4,null,null,null,null,null,0,4,52,null,null,0,4,52,52,null,null,0,null,null,0,1.9230769230769232E-2,4,{"$f":"IF(W65<31,AVERAGE(OFFSET(INDEX('Points team et quota finales'!$C$5:$C$34,W65),0,0,COUNTIF($W$6:$W$105,W65))),0)","v":21.222222222222221}]
[4,null,null,null,null,null,0,4,52,null,null,0,4,52,52,null,null,0,null,null,0,1.9230769230769232E-2,4,{"$f":"IF(W66<31,AVERAGE(OFFSET(INDEX('Points team et quota finales'!$C$5:$C$34,W66),0,0,COUNTIF($W$6:$W$105,W66))),0)","v":21.222222222222221}]
[4,null,null,null,null,null,0,4,52,null,null,0,4,52,52,null,null,0,null,null,0,1.9230769230769232E-2,4,{"$f":"IF(W67<31,AVERAGE(OFFSET(INDEX('Points team et quota finales'!$C$5:$C$34,W67),0,0,COUNTIF($W$6:$W$105,W67))),0)","v":21.222222222222221}]
[4,null,null,null,null,null,0,4,52,null,null,0,4,52,52,null,null,0,null,null,0,1.9230769230769232E-2,4,{"$f":"IF(W68<31,AVERAGE(OFFSET(INDEX('Points team et quota finales'!$C$5:$C$34,W68),0,0,COUNTIF($W$6:$W$105,W68))),0)","v":21.222222222222221}]
[4,null,null,null,null,null,0,4,52,null,null,0,4,52,52,null,null,0,null,null,0,1.9230769230769232E-2,4,{"$f":"IF(W69<31,AVERAGE(OFFSET(INDEX('Points team et quota finales'!$C$5:$C$34,W69),0,0,COUNTIF($W$6:$W$105,W69))),0)","v":21.222222222222221}]
[4,null,null,null,null,null,{"$f":"IF(E70=\"TOP\",$F$108,IF(F70=\"-\",E70-0.01,IF(F70=\"+\",E70+0.01,E70)))","v":0},{"$f":"RANK(G70,$G$6:$G$105)","v":4},{"$f":"IF(COUNTIF($H$6:$H$105,H70)=1,H70,(H70*2+COUNTIF($H$6:$H$105,H70)-1)/2)","v":52},null,null,{"$f":"IF(J70=\"TOP\",$K$108,IF(K70=\"-\",J70-0.01,IF(K70=\"+\",J70+0.01,J70)))","v":0},{"$f":"RANK(L70,$L$6:$L$105)","v":4},{"$f":"IF(COUNTIF($M$6:$M$105,M70)=1,M70,(M70*2+COUNTIF($M$6:$M$105,M70)-1)/2)","v":52},{"$f":"SQRT(I70*N70)","v":52},null,null,{"$f":"IF(P70=\"TOP\",$Q$108,IF(Q70=\"-\",P70-0.01,IF(Q70=\"+\",P70+0.01,P70)))","v":0},null,null,{"$f":"IF($S70=\"TOP\",$T$108,IF($T70=\"-\",$S70-0.01,IF($T70=\"+\",$S70+0.01,$S70)))","v":0},{"$f":"IF(U70<>0,U70*1000+R70*100+1/O70,IF(R70<>0,R70*100+1/O70,1/O70))","v":1.9230769230769232E-2},{"$f":"A70","v":4},{"$f":"IF(W70<31,AVERAGE(OFFSET(INDEX('Points team et quota finales'!$C$5:$C$34,W70),0,0,COUNTIF($W$6:$W$105,W70))),0)","v":21.222222222222221}]
[{"$f":"RANK(V71,$V$6:$V$105)","v":4},null,null,null,null,null,0,4,52,null,null,0,4,52,52,null,null,0,null,null,0,1.9230769230769232E-2,4,{"$f":"IF(W71<31,AVERAGE(OFFSET(INDEX('Points team et quota finales'!$C$5:$C$34,W71),0,0,COUNTIF($W$6:$W$105,W71))),0)","v":21.222222222222221}]
[4,null,null,null,null,null,0,4,52,null,null,0,4,52,52,null,null,0,null,null,0,1.9230769230769232E-2,4,{"$f":"IF(W72<31,AVERAGE(OFFSET(INDEX('Points team et quota finales'!$C$5:$C$34,W72),0,0,COUNTIF($W$6:$W$105,W72))),0)","v":21.222222222222221}]
[4,null,null,null,null,null,0,4,52,null,null,0,4,52,52,null,null,0,null,null,0,1.9230769230769232E-2,4,{"$f":"IF(W73<31,AVERAGE(OFFSET(INDEX('Points team et quota finales'!$C$5:$C$34,W73),0,0,COUNTIF($W$6:$W$105,W73))),0)","v":21.222222222222221}]
[4,null,null,null,null,null,0,4,52,null,null,0,4,52,52,null,null,0,null,null,0,1.9230769230769232E-2,4,{"$f":"IF(W74<31,AVERAGE(OFFSET(INDEX('Points team et quota finales'!$C$5:$C$34,W74),0,0,COUNTIF($W$6:$W$105,W74))),0)","v":21.222222222222221}]
[4,null,null,null,null,null,0,4,52,null,null,0,4,52,52,null,null,0,null,null,0,1.9230769230769232E-2,4,{"$f":"IF(W75<31,AVERAGE(OFFSET(INDEX('Points team et quota finales'!$C$5:$C$34,W75),0,0,COUNTIF($W$6:$W$105,W75))),0)","v":21.222222222222221}]
[4,null,null,null,null,null,0,4,52,null,null,0,4,52,52,null,null,0,null,null,0,1.9230769230769232E-2,4,{"$f":"IF(W76<31,AVERAGE(OFFSET(INDEX('Points team et quota finales'!$C$5:$C$34,W76),0,0,COUNTIF($W$6:$W$105,W76))),0)","v":21.222222222222221}]
[4,null,null,null,null,null,0,4,52,null,null,0,4,52,52,null,null,0,null,null,0,1.9230769230769232E-2,4,{"$f":"IF(W77<31,AVERAGE(OFFSET(INDEX('Points team et quota finales'!$C$5:$C$34,W77),0,0,COUNTIF($W$6:$W$105,W77))),0)","v":21.222222222222221}]
[4,null,null,null,null,null,0,4,52,null,null,0,4,52,52,null,null,0,null,null,0,1.9230769230769232E-2,4,{"$f":"IF(W78<31,AVERAGE(OFFSET(INDEX('Points team et quota finales'!$C$5:$C$34,W78),0,0,COUNTIF($W$6:$W$105,W78))),0)","v":21.222222222222221}]
[4,null,null,null,null,null,0,4,52,null,null,0,4,52,52,null,null,0,null,null,0,1.9230769230769232E-2,4,{"$f":"IF(W79<31,AVERAGE(OFFSET(INDEX('Points team et quota finales'!$C$5:$C$34,W79),0,0,COUNTIF($W$6:$W$105,W79))),0)","v":21.222222222222221}]
[4,null,null,null,null,null,0,4,52,null,null,0,4,52,52,null,null,0,null,null,0,1.9230769230769232E-2,4,{"$f":"IF(W80<31,AVERAGE(OFFSET(INDEX('Points team et quota finales'!$C$5:$C$34,W80),0,0,COUNTIF($W$6:$W$105,W80))),0)","v":21.222222222222221}]
[4,null,null,null,null,null,0,4,52,null,null,0,4,52,52,null,null,0,null,null,0,1.9230769230769232E-2,4,{"$f":"IF(W81<31,AVERAGE(OFFSET(INDEX('Points team et quota finales'!$C$5:$C$34,W81),0,0,COUNTIF($W$6:$W$105,W81))),0)","v":21.222222222222221}]
[4,null,null,null,null,null,0,4,52,null,null,0,4,52,52,null,null,0,null,null,0,1.9230769230769232E-2,4,{"$f":"IF(W82<31,AVERAGE(OFFSET(INDEX('Points team et quota finales'!$C$5:$C$34,W82),0,0,COUNTIF($W$6:$W$105,W82))),0)","v":21.222222222222221}]
[4,null,null,null,null,null,0,4,52,null,null,0,4,52,52,null,null,0,null,null,0,1.9230769230769232E-2,4,{"$f":"IF(W83<31,AVERAGE(OFFSET(INDEX('Points team et quota finales'!$C$5:$C$34,W83),0,0,COUNTIF($W$6:$W$105,W83))),0)","v":21.222222222222221}]
[4,null,null,null,null,null,0,4,52,null,null,0,4,52,52,null,null,0,null,null,0,1.9230769230769232E-2,4,{"$f":"IF(W84<31,AVERAGE(OFFSET(INDEX('Points team et quota finales'!$C$5:$C$34,W84),0,0,COUNTIF($W$6:$W$105,W84))),0)","v":21.222222222222221}]
[4,null,null,null,null,null,0,4,52,null,null,0,4,52,52,null,null,0,null,null,0,1.9230769230769232E-2,4,{"$f":"IF(W85<31,AVERAGE(OFFSET(INDEX('Points team et quota finales'!$C$5:$C$34,W85),0,0,COUNTIF($W$6:$W$105,W85))),0)","v":21.222222222222221}]
[4,null,null,null,null,null,0,4,52,null,null,0,4,52,52,null,null,0,null,null,0,1.9230769230769232E-2,4,{"$f":"IF(W86<31,AVERAGE(OFFSET(INDEX('Points team et quota finales'!$C$5:$C$34,W86),0,0,COUNTIF($W$6:$W$105,W86))),0)","v":21.222222222222221}]
[4,null,null,null,null,null,0,4,52,null,null,0,4,52,52,null,null,0,null,null,0,1.9230769230769232E-2,4,{"$f":"IF(W87<31,AVERAGE(OFFSET(INDEX('Points team et quota finales'!$C$5:$C$34,W87),0,0,COUNTIF($W$6:$W$105,W87))),0)","v":21.222222222222221}]
[4,null,null,null,null,null,0,4,52,null,null,0,4,52,52,null,null,0,null,null,0,1.9230769230769232E-2,4,{"$f":"IF(W88<31,AVERAGE(OFFSET(INDEX('Points team et quota finales'!$C$5:$C$34,W88),0,0,COUNTIF($W$6:$W$105,W88))),0)","v":21.222222222222221}]
[4,null,null,null,null,null,0,4,52,null,null,0,4,52,52,null,null,0,null,null,0,1.9230769230769232E-2,4,{"$f":"IF(W89<31,AVERAGE(OFFSET(INDEX('Points team et quota finales'!$C$5:$C$34,W89),0,0,COUNTIF($W$6:$W$105,W89))),0)","v":21.222222222222221}]
[4,null,null,null,null,null,0,4,52,null,null,0,4,52,52,null,null,0,null,null,0,1.9230769230769232E-2,4,{"$f":"IF(W90<31,AVERAGE(OFFSET(INDEX('Points team et quota finales'!$C$5:$C$34,W90),0,0,COUNTIF($W$6:$W$105,W90))),0)","v":21.222222222222221}]
[4,null,null,null,null,null,0,4,52,null,null,0,4,52,52,null,null,0,null,null,0,1.9230769230769232E-2,4,{"$f":"IF(W91<31,AVERAGE(OFFSET(INDEX('Points team et quota finales'!$C$5:$C$34,W91),0,0,COUNTIF($W$6:$W$105,W91))),0)","v":21.222222222222221}]
[4,null,null,null,null,null,0,4,52,null,null,0,4,52,52,null,null,0,null,null,0,1.9230769230769232E-2,4,{"$f":"IF(W92<31,AVERAGE(OFFSET(INDEX('Points team et quota finales'!$C$5:$C$34,W92),0,0,COUNTIF($W$6:$W$105,W92))),0)","v":21.222222222222221}]
[4,null,null,null,null,null,0,4,52,null,null,0,4,52,52,null,null,0,null,null,0,1.9230769230769232E-2,4,{"$f":"IF(W93<31,AVERAGE(OFFSET(INDEX('Points team et quota finales'!$C$5:$C$34,W93),0,0,COUNTIF($W$6:$W$105,W93))),0)","v":21.222222222222221}]
[4,null,null,null,null,null,0,4,52,null,null,0,4,52,52,null,null,0,null,null,0,1.9230769230769232E-2,4,{"$f":"IF(W94<31,AVERAGE(OFFSET(INDEX('Points team et quota finales'!$C$5:$C$34,W94),0,0,COUNTIF($W$6:$W$105,W94))),0)","v":21.222222222222221}]
[4,null,null,null,null,null,0,4,52,null,null,0,4,52,52,null,null,0,null,null,0,1.9230769230769232E-2,4,{"$f":"IF(W95<31,AVERAGE(OFFSET(INDEX('Points team et quota finales'!$C$5:$C$34,W95),0,0,COUNTIF($W$6:$W$105,W95))),0)","v":21.222222222222221}]
[4,null,null,null,null,null,0,4,52,null,null,0,4,52,52,null,null,0,null,null,0,1.9230769230769232E-2,4,{"$f":"IF(W96<31,AVERAGE(OFFSET(INDEX('Points team et quota finales'!$C$5:$C$34,W96),0,0,COUNTIF($W$6:$W$105,W96))),0)","v":21.222222222222221}]
[4,null,null,null,null,null,0,4,52,null,null,0,4,52,52,null,null,0,null,null,0,1.9230769230769232E-2,4,{"$f":"IF(W97<31,AVERAGE(OFFSET(INDEX('Points team et quota finales'!$C$5:$C$34,W97),0,0,COUNTIF($W$6:$W$105,W97))),0)","v":21.222222222222221}]
[4,null,null,null,null,null,0,4,52,null,null,0,4,52,52,null,null,0,null,null,0,1.9230769230769232E-2,4,{"$f":"IF(W98<31,AVERAGE(OFFSET(INDEX('Points team et quota finales'!$C$5:$C$34,W98),0,0,COUNTIF($W$6:$W$105,W98))),0)","v":21.222222222222221}]
[4,null,null,null,null,null,0,4,52,null,null,0,4,52,52,null,null,0,null,null,0,1.9230769230769232E-2,4,{"$f":"IF(W99<31,AVERAGE(OFFSET(INDEX('Points team et quota finales'!$C$5:$C$34,W99),0,0,COUNTIF($W$6:$W$105,W99))),0)","v":21.222222222222221}]
[4,null,null,null,null,null,0,4,52,null,null,0,4,52,52,null,null,0,null,null,0,1.9230769230769232E-2,4,{"$f":"IF(W100<31,AVERAGE(OFFSET(INDEX('Points team et quota finales'!$C$5:$C$34,W100),0,0,COUNTIF($W$6:$W$105,W100))),0)","v":21.222222222222221}]
[4,null,null,null,null,null,0,4,52,null,null,0,4,52,52,null,null,0,null,null,0,1.9230769230769232E-2,4,{"$f":"IF(W101<31,AVERAGE(OFFSET(INDEX('Points team et quota finales'!$C$5:$C$34,W101),0,0,COUNTIF($W$6:$W$105,W101))),0)","v":21.222222222222221}]
[4,null,null,null,null,null,0,4,52,null,null,0,4,52,52,null,null,0,null,null,0,1.9230769230769232E-2,4,{"$f":"IF(W102<31,AVERAGE(OFFSET(INDEX('Points team et quota finales'!$C$5:$C$34,W102),0,0,COUNTIF($W$6:$W$105,W102))),0)","v":21.222222222222221}]
[4,null,null,null,null,null,0,4,52,null,null,0,4,52,52,null,null,0,null,null,0,1.9230769230769232E-2,4,{"$f":"IF(W103<31,AVERAGE(OFFSET(INDEX('Points team et quota finales'!$C$5:$C$34,W103),0,0,COUNTIF($W$6:$W$105,W103))),0)","v":21.222222222222221}]
[4,null,null,null,null,null,0,4,52,null,null,0,4,52,52,null,null,0,null,null,0,1.9230769230769232E-2,4,{"$f":"IF(W104<31,AVERAGE(OFFSET(INDEX('Points team et quota finales'!$C$5:$C$34,W104),0,0,COUNTIF($W$6:$W$105,W104))),0)","v":21.222222222222221}]
[4,null,null,null,null,null,0,4,52,null,null,0,4,52,52,null,null,0,null,null,0,1.9230769230769232E-2,4,{"$f":"IF(W105<31,AVERAGE(OFFSET(INDEX('Points team et quota finales'!$C$5:$C$34,W105),0,0,COUNTIF($W$6:$W$105,W105))),0)","v":21.222222222222221}]
[]
[]
[null,null,null,null,"Top =",24,null,null,null,"Top = ",36,null,null,null,null,"Top =",36,null,"Top ="]
[null,{"$f":"CONCATENATE(\"Jury President: \",General!$B$6)","v":"Jury President: Lieven Vlassenroot"}]
[]
[null,"Appeal until :"]

{"sheet":"DM","index":7,"n_rows":110,"n_cols":24,"rows_kept":110,"cut":false,"hidden":false,"merged":[[1,0,1,22],[4,4,4,7],[4,9,4,12],[4,15,4,17],[4,18,4,20]]}
[]
[{"$f":"CONCATENATE(General!$B$5,\"  -  RESULTS D Male\")","v":"Youth Lead Championship 09-03-2013  -  RESULTS D Male"}]
[]
[]
["RANK","Nr","Name","Team","Route 1",null,null,null,"Ranking Points Route 1","Route 2",null,null,null,"Ranking Points Route 2","Root R1 x R2 ","Final ",null,null,"Super Final",null,null,"base pour calcul rang","RANK","Team points"]
[{"$f":"RANK(V6,$V$6:$V$104)","v":1},"DM08","VAN MALDEREN Jasper","KLI","TOP",null,{"$f":"IF(E6=\"TOP\",$F$107,IF(F6=\"-\",E6-0.01,IF(F6=\"+\",E6+0.01,E6)))","v":28},{"$f":"RANK(G6,$G$6:$G$104)","v":1},{"$f":"IF(COUNTIF($H$6:$H$104,H6)=1,H6,(H6*2+COUNTIF($H$6:$H$104,H6)-1)/2)","v":5.5},"TOP",null,{"$f":"IF(J6=\"TOP\",$K$107,IF(K6=\"-\",J6-0.01,IF(K6=\"+\",J6+0.01,J6)))","v":39},{"$f":"RANK(L6,$L$6:$L$104)","v":1},{"$f":"IF(COUNTIF($M$6:$M$104,M6)=1,M6,(M6*2+COUNTIF($M$6:$M$104,M6)-1)/2)","v":2},{"$f":"SQRT(I6*N6)","v":3.3166247903553998},27,null,{"$f":"IF(P6=\"TOP\",$Q$107,IF(Q6=\"-\",P6-0.01,IF(Q6=\"+\",P6+0.01,P6)))","v":27},null,null,{"$f":"IF($S6=\"TOP\",$T$107,IF($T6=\"-\",$S6-0.01,IF($T6=\"+\",$S6+0.01,$S6)))","v":0},{"$f":"IF(U6<>0,U6*1000+R6*100+1/O6,IF(R6<>0,R6*100+1/O6,1/O6))","v":2700.3015113445776},{"$f":"A6","v":1},{"$f":"IF(W6<31,AVERAGE(OFFSET(INDEX('Points team et quota finales'!$C$5:$C$34,W6),0,0,COUNTIF($W$6:$W$104,W6))),0)","v":100}]
[2,"DM11","FERRARI Luca","STC","TOP",null,28,1,5.5,"TOP",null,39,1,2,3.3166247903553998,14,"+",14.01,null,null,0,1401.3015113445779,2,{"$f":"IF(W7<31,AVERAGE(OFFSET(INDEX('Points team et quota finales'!$C$5:$C$34,W7),0,0,COUNTIF($W$6:$W$104,W7))),0)","v":80}]
[3,"DM06","VANCRAEYNEST Ties","KLI","TOP",null,28,1,5.5,"TOP",null,39,1,2,3.3166247903553998,14,null,14,null,null,0,1400.3015113445779,3,{"$f":"IF(W8<31,AVERAGE(OFFSET(INDEX('Points team et quota finales'!$C$5:$C$34,W8),0,0,COUNTIF($W$6:$W$104,W8))),0)","v":65}]
[4,"DM02","BOYEN Ian","SPR","TOP",null,28,1,5.5,30,"+",30.01,4,4,4.6904157598234297,13,"+",13.01,null,null,0,1301.2132007163557,4,{"$f":"IF(W9<31,AVERAGE(OFFSET(INDEX('Points team et quota finales'!$C$5:$C$34,W9),0,0,COUNTIF($W$6:$W$104,W9))),0)","v":55}]
[5,"DM05","STIJNS Mika","ECT","TOP",null,28,1,5.5,30,null,30,5,5.5,5.5,13,"+",13.01,null,null,0,1301.1818181818182,5,{"$f":"IF(W10<31,AVERAGE(OFFSET(INDEX('Points team et quota finales'!$C$5:$C$34,W10),0,0,COUNTIF($W$6:$W$104,W10))),0)","v":51}]
[6,"DM03","ODOBESCU William","ESC","TOP",null,28,1,5.5,30,null,30,5,5.5,5.5,10,"+",10.01,null,null,0,1001.1818181818181,6,{"$f":"IF(W11<31,AVERAGE(OFFSET(INDEX('Points team et quota finales'!$C$5:$C$34,W11),0,0,COUNTIF($W$6:$W$104,W11))),0)","v":47}]
[7,"DM10","VINK John-Alexandre","ECT","TOP",null,28,1,5.5,28,"+",28.01,7,7,6.2048368229954285,null,null,0,null,null,0,0.16116459280507606,7,{"$f":"IF(W12<31,AVERAGE(OFFSET(INDEX('Points team et quota finales'!$C$5:$C$34,W12),0,0,COUNTIF($W$6:$W$104,W12))),0)","v":43}]
[8,"DM07","MARCHAL Samuel","ECT","TOP",null,28,1,5.5,23,"+",23.01,8,8,6.6332495807107996,null,null,0,null,null,0,0.15075567228888181,8,{"$f":"IF(W13<31,AVERAGE(OFFSET(INDEX('Points team et quota finales'!$C$5:$C$34,W13),0,0,COUNTIF($W$6:$W$104,W13))),0)","v":40}]
[9,"DM09","BEDETTI Romain","CC","TOP",null,28,1,5.5,17,"+",17.010000000000002,9,9,7.0356236397351442,null,null,0,null,null,0,0.1421338109037403,9,{"$f":"IF(W14<31,AVERAGE(OFFSET(INDEX('Points team et quota finales'!$C$5:$C$34,W14),0,0,COUNTIF($W$6:$W$104,W14))),0)","v":37}]
[10,"DM04","BERGIERS Nathan","ECT","TOP",null,28,1,5.5,17,null,17,10,10,7.416198487095663,null,null,0,null,null,0,0.13483997249264842,10,{"$f":"IF(W15<31,AVERAGE(OFFSET(INDEX('Points team et quota finales'!$C$5:$C$34,W15),0,0,COUNTIF($W$6:$W$104,W15))),0)","v":34}]
[11,null,null,null,null,null,0,11,55,null,null,0,11,55,55,null,null,0,null,null,0,1.8181818181818181E-2,11,{"$f":"IF(W16<31,AVERAGE(OFFSET(INDEX('Points team et quota finales'!$C$5:$C$34,W16),0,0,COUNTIF($W$6:$W$104,W16))),0)","v":13.3}]
[11,null,null,null,null,null,0,11,55,null,null,0,11,55,55,null,null,0,null,null,0,1.8181818181818181E-2,11,{"$f":"IF(W17<31,AVERAGE(OFFSET(INDEX('Points team et quota finales'!$C$5:$C$34,W17),0,0,COUNTIF($W$6:$W$104,W17))),0)","v":13.3}]
[11,null,null,null,null,null,0,11,55,null,null,0,11,55,55,null,null,0,null,null,0,1.8181818181818181E-2,11,{"$f":"IF(W18<31,AVERAGE(OFFSET(INDEX('Points team et quota finales'!$C$5:$C$34,W18),0,0,COUNTIF($W$6:$W$104,W18))),0)","v":13.3}]
[11,null,null,null,null,null,0,11,55,null,null,0,11,55,55,null,null,0,null,null,0,1.8181818181818181E-2,11,{"$f":"IF(W19<31,AVERAGE(OFFSET(INDEX('Points team et quota finales'!$C$5:$C$34,W19),0,0,COUNTIF($W$6:$W$104,W19))),0)","v":13.3}]
[11,null,null,null,null,null,0,11,55,null,null,0,11,55,55,null,null,0,null,null,0,1.8181818181818181E-2,11,{"$f":"IF(W20<31,AVERAGE(OFFSET(INDEX('Points team et quota finales'!$C$5:$C$34,W20),0,0,COUNTIF($W$6:$W$104,W20))),0)","v":13.3}]
[11,null,null,null,null,null,0,11,55,null,null,0,11,55,55,null,null,0,null,null,0,1.8181818181818181E-2,11,{"$f":"IF(W21<31,AVERAGE(OFFSET(INDEX('Points team et quota finales'!$C$5:$C$34,W21),0,0,COUNTIF($W$6:$W$104,W21))),0)","v":13.3}]
[11,null,null,null,null,null,0,11,55,null,null,0,11,55,55,null,null,0,null,null,0,1.8181818181818181E-2,11,{"$f":"IF(W22<31,AVERAGE(OFFSET(INDEX('Points team et quota finales'!$C$5:$C$34,W22),0,0,COUNTIF($W$6:$W$104,W22))),0)","v":13.3}]
[11,null,null,null,null,null,0,11,55,null,null,0,11,55,55,null,null,0,null,null,0,1.8181818181818181E-2,11,{"$f":"IF(W23<31,AVERAGE(OFFSET(INDEX('Points team et quota finales'!$C$5:$C$34,W23),0,0,COUNTIF($W$6:$W$104,W23))),0)","v":13.3}]
[11,null,null,null,null,null,0,11,55,null,null,0,11,55,55,null,null,0,null,null,0,1.8181818181818181E-2,11,{"$f":"IF(W24<31,AVERAGE(OFFSET(INDEX('Points team et quota finales'!$C$5:$C$34,W24),0,0,COUNTIF($W$6:$W$104,W24))),0)","v":13.3}]
[11,null,null,null,null,null,0,11,55,null,null,0,11,55,55,null,null,0,null,null,0,1.8181818181818181E-2,11,{"$f":"IF(W25<31,AVERAGE(OFFSET(INDEX('Points team et quota finales'!$C$5:$C$34,W25),0,0,COUNTIF($W$6:$W$104,W25))),0)","v":13.3}]
[11,null,null,null,null,null,0,11,55,null,null,0,11,55,55,null,null,0,null,null,0,1.8181818181818181E-2,11,{"$f":"IF(W26<31,AVERAGE(OFFSET(INDEX('Points team et quota finales'!$C$5:$C$34,W26),0,0,COUNTIF($W$6:$W$104,W26))),0)","v":13.3}]
[11,null,null,null,null,null,0,11,55,null,null,0,11,55,55,null,null,0,null,null,0,1.8181818181818181E-2,11,{"$f":"IF(W27<31,AVERAGE(OFFSET(INDEX('Points team et quota finales'!$C$5:$C$34,W27),0,0,COUNTIF($W$6:$W$104,W27))),0)","v":13.3}]
[11,null,null,null,null,null,0,11,55,null,null,0,11,55,55,null,null,0,null,null,0,1.8181818181818181E-2,11,{"$f":"IF(W28<31,AVERAGE(OFFSET(INDEX('Points team et quota finales'!$C$5:$C$34,W28),0,0,COUNTIF($W$6:$W$104,W28))),0)","v":13.3}]
[11,null,null,null,null,null,0,11,55,null,null,0,11,55,55,null,null,0,null,null,0,1.8181818181818181E-2,11,{"$f":"IF(W29<31,AVERAGE(OFFSET(INDEX('Points team et quota finales'!$C$5:$C$34,W29),0,0,COUNTIF($W$6:$W$104,W29))),0)","v":13.3}]
[11,null,null,null,null,null,0,11,55,null,null,0,11,55,55,null,null,0,null,null,0,1.8181818181818181E-2,11,{"$f":"IF(W30<31,AVERAGE(OFFSET(INDEX('Points team et quota finales'!$C$5:$C$34,W30),0,0,COUNTIF($W$6:$W$104,W30))),0)","v":13.3}]
[11,null,null,null,null,null,0,11,55,null,null,0,11,55,55,null,null,0,null,null,0,1.8181818181818181E-2,11,{"$f":"IF(W31<31,AVERAGE(OFFSET(INDEX('Points team et quota finales'!$C$5:$C$34,W31),0,0,COUNTIF($W$6:$W$104,W31))),0)","v":13.3}]
[11,null,null,null,null,null,0,11,55,null,null,0,11,55,55,null,null,0,null,null,0,1.8181818181818181E-2,11,{"$f":"IF(W32<31,AVERAGE(OFFSET(INDEX('Points team et quota finales'!$C$5:$C$34,W32),0,0,COUNTIF($W$6:$W$104,W32))),0)","v":13.3}]
[11,null,null,null,null,null,0,11,55,null,null,0,11,55,55,null,null,0,null,null,0,1.8181818181818181E-2,11,{"$f":"IF(W33<31,AVERAGE(OFFSET(INDEX('Points team et quota finales'!$C$5:$C$34,W33),0,0,COUNTIF($W$6:$W$104,W33))),0)","v":13.3}]
[11,null,null,null,null,null,0,11,55,null,null,0,11,55,55,null,null,0,null,null,0,1.8181818181818181E-2,11,{"$f":"IF(W34<31,AVERAGE(OFFSET(INDEX('Points team et quota finales'!$C$5:$C$34,W34),0,0,COUNTIF($W$6:$W$104,W34))),0)","v":13.3}]
[11,null,null,null,null,null,0,11,55,null,null,0,11,55,55,null,null,0,null,null,0,1.8181818181818181E-2,11,{"$f":"IF(W35<31,AVERAGE(OFFSET(INDEX('Points team et quota finales'!$C$5:$C$34,W35),0,0,COUNTIF($W$6:$W$104,W35))),0)","v":13.3}]
[11,null,null,null,null,null,0,11,55,null,null,0,11,55,55,null,null,0,null,null,0,1.8181818181818181E-2,11,{"$f":"IF(W36<31,AVERAGE(OFFSET(INDEX('Points team et quota finales'!$C$5:$C$34,W36),0,0,COUNTIF($W$6:$W$104,W36))),0)","v":13.3}]
[11,null,null,null,null,null,0,11,55,null,null,0,11,55,55,null,null,0,null,null,0,1.8181818181818181E-2,11,{"$f":"IF(W37<31,AVERAGE(OFFSET(INDEX('Points team et quota finales'!$C$5:$C$34,W37),0,0,COUNTIF($W$6:$W$104,W37))),0)","v":13.3}]
[{"$f":"RANK(V38,$V$6:$V$104)","v":11},null,null,null,null,null,{"$f":"IF(E38=\"TOP\",$F$107,IF(F38=\"-\",E38-0.01,IF(F38=\"+\",E38+0.01,E38)))","v":0},{"$f":"RANK(G38,$G$6:$G$104)","v":11},{"$f":"IF(COUNTIF($H$6:$H$104,H38)=1,H38,(H38*2+COUNTIF($H$6:$H$104,H38)-1)/2)","v":55},null,null,{"$f":"IF(J38=\"TOP\",$K$107,IF(K38=\"-\",J38-0.01,IF(K38=\"+\",J38+0.01,J38)))","v":0},{"$f":"RANK(L38,$L$6:$L$104)","v":11},{"$f":"IF(COUNTIF($M$6:$M$104,M38)=1,M38,(M38*2+COUNTIF($M$6:$M$104,M38)-1)/2)","v":55},{"$f":"SQRT(I38*N38)","v":55},null,null,{"$f":"IF(P38=\"TOP\",$Q$107,IF(Q38=\"-\",P38-0.01,IF(Q38=\"+\",P38+0.01,P38)))","v":0},null,null,{"$f":"IF($S38=\"TOP\",$T$107,IF($T38=\"-\",$S38-0.01,IF($T38=\"+\",$S38+0.01,$S38)))","v":0},{"$f":"IF(U38<>0,U38*1000+R38*100+1/O38,IF(R38<>0,R38*100+1/O38,1/O38))","v":1.8181818181818181E-2},11,{"$f":"IF(W38<31,AVERAGE(OFFSET(INDEX('Points team et quota finales'!$C$5:$C$34,W38),0,0,COUNTIF($W$6:$W$104,W38))),0)","v":13.3}]
[11,null,null,null,null,null,0,11,55,null,null,0,11,55,55,null,null,0,null,null,0,1.8181818181818181E-2,11,{"$f":"IF(W39<31,AVERAGE(OFFSET(INDEX('Points team et quota finales'!$C$5:$C$34,W39),0,0,COUNTIF($W$6:$W$104,W39))),0)","v":13.3}]
[11,null,null,null,null,null,0,11,55,null,null,0,11,55,55,null,null,0,null,null,0,1.8181818181818181E-2,11,{"$f":"IF(W40<31,AVERAGE(OFFSET(INDEX('Points team et quota finales'!$C$5:$C$34,W40),0,0,COUNTIF($W$6:$W$104,W40))),0)","v":13.3}]
[11,null,null,null,null,null,0,11,55,null,null,0,11,55,55,null,null,0,null,null,0,1.8181818181818181E-2,11,{"$f":"IF(W41<31,AVERAGE(OFFSET(INDEX('Points team et quota finales'!$C$5:$C$34,W41),0,0,COUNTIF($W$6:$W$104,W41))),0)","v":13.3}]
[11,null,null,null,null,null,0,11,55,null,null,0,11,55,55,null,null,0,null,null,0,1.8181818181818181E-2,11,{"$f":"IF(W42<31,AVERAGE(OFFSET(INDEX('Points team et quota finales'!$C$5:$C$34,W42),0,0,COUNTIF($W$6:$W$104,W42))),0)","v":13.3}]
[11,null,null,null,null,null,0,11,55,null,null,0,11,55,55,null,null,0,null,null,0,1.8181818181818181E-2,11,{"$f":"IF(W43<31,AVERAGE(OFFSET(INDEX('Points team et quota finales'!$C$5:$C$34,W43),0,0,COUNTIF($W$6:$W$104,W43))),0)","v":13.3}]
[11,null,null,null,null,null,0,11,55,null,null,0,11,55,55,null,null,0,null,null,0,1.8181818181818181E-2,11,{"$f":"IF(W44<31,AVERAGE(OFFSET(INDEX('Points team et quota finales'!$C$5:$C$34,W44),0,0,COUNTIF($W$6:$W$104,W44))),0)","v":13.3}]
[11,null,null,null,null,null,0,11,55,null,null,0,11,55,55,null,null,0,null,null,0,1.8181818181818181E-2,11,{"$f":"IF(W45<31,AVERAGE(OFFSET(INDEX('Points team et quota finales'!$C$5:$C$34,W45),0,0,COUNTIF($W$6:$W$104,W45))),0)","v":13.3}]
[11,null,null,null,null,null,0,11,55,null,null,0,11,55,55,null,null,0,null,null,0,1.8181818181818181E-2,11,{"$f":"IF(W46<31,AVERAGE(OFFSET(INDEX('Points team et quota finales'!$C$5:$C$34,W46),0,0,COUNTIF($W$6:$W$104,W46))),0)","v":13.3}]
[11,null,null,null,null,null,0,11,55,null,null,0,11,55,55,null,null,0,null,null,0,1.8181818181818181E-2,11,{"$f":"IF(W47<31,AVERAGE(OFFSET(INDEX('Points team et quota finales'!$C$5:$C$34,W47),0,0,COUNTIF($W$6:$W$104,W47))),0)","v":13.3}]
[11,null,null,null,null,null,0,11,55,null,null,0,11,55,55,null,null,0,null,null,0,1.8181818181818181E-2,11,{"$f":"IF(W48<31,AVERAGE(OFFSET(INDEX('Points team et quota finales'!$C$5:$C$34,W48),0,0,COUNTIF($W$6:$W$104,W48))),0)","v":13.3}]
[11,null,null,null,null,null,0,11,55,null,null,0,11,55,55,null,null,0,null,null,0,1.8181818181818181E-2,11,{"$f":"IF(W49<31,AVERAGE(OFFSET(INDEX('Points team et quota finales'!$C$5:$C$34,W49),0,0,COUNTIF($W$6:$W$104,W49))),0)","v":13.3}]
[11,null,null,null,null,null,0,11,55,null,null,0,11,55,55,null,null,0,null,null,0,1.8181818181818181E-2,11,{"$f":"IF(W50<31,AVERAGE(OFFSET(INDEX('Points team et quota finales'!$C$5:$C$34,W50),0,0,COUNTIF($W$6:$W$104,W50))),0)","v":13.3}]
[11,null,null,null,null,null,0,11,55,null,null,0,11,55,55,null,null,0,null,null,0,1.8181818181818181E-2,11,{"$f":"IF(W51<31,AVERAGE(OFFSET(INDEX('Points team et quota finales'!$C$5:$C$34,W51),0,0,COUNTIF($W$6:$W$104,W51))),0)","v":13.3}]
[11,null,null,null,null,null,0,11,55,null,null,0,11,55,55,null,null,0,null,null,0,1.8181818181818181E-2,11,{"$f":"IF(W52<31,AVERAGE(OFFSET(INDEX('Points team et quota finales'!$C$5:$C$34,W52),0,0,COUNTIF($W$6:$W$104,W52))),0)","v":13.3}]
[11,null,null,null,null,null,0,11,55,null,null,0,11,55,55,null,null,0,null,null,0,1.8181818181818181E-2,11,{"$f":"IF(W53<31,AVERAGE(OFFSET(INDEX('Points team et quota finales'!$C$5:$C$34,W53),0,0,COUNTIF($W$6:$W$104,W53))),0)","v":13.3}]
[11,null,null,null,null,null,0,11,55,null,null,0,11,55,55,null,null,0,null,null,0,1.8181818181818181E-2,11,{"$f":"IF(W54<31,AVERAGE(OFFSET(INDEX('Points team et quota finales'!$C$5:$C$34,W54),0,0,COUNTIF($W$6:$W$104,W54))),0)","v":13.3}]
[11,null,null,null,null,null,0,11,55,null,null,0,11,55,55,null,null,0,null,null,0,1.8181818181818181E-2,11,{"$f":"IF(W55<31,AVERAGE(OFFSET(INDEX('Points team et quota finales'!$C$5:$C$34,W55),0,0,COUNTIF($W$6:$W$104,W55))),0)","v":13.3}]
[11,null,null,null,null,null,0,11,55,null,null,0,11,55,55,null,null,0,null,null,0,1.8181818181818181E-2,11,{"$f":"IF(W56<31,AVERAGE(OFFSET(INDEX('Points team et quota finales'!$C$5:$C$34,W56),0,0,COUNTIF($W$6:$W$104,W56))),0)","v":13.3}]
[11,null,null,null,null,null,0,11,55,null,null,0,11,55,55,null,null,0,null,null,0,1.8181818181818181E-2,11,{"$f":"IF(W57<31,AVERAGE(OFFSET(INDEX('Points team et quota finales'!$C$5:$C$34,W57),0,0,COUNTIF($W$6:$W$104,W57))),0)","v":13.3}]
[11,null,null,null,null,null,0,11,55,null,null,0,11,55,55,null,null,0,null,null,0,1.8181818181818181E-2,11,{"$f":"IF(W58<31,AVERAGE(OFFSET(INDEX('Points team et quota finales'!$C$5:$C$34,W58),0,0,COUNTIF($W$6:$W$104,W58))),0)","v":13.3}]
[11,null,null,null,null,null,0,11,55,null,null,0,11,55,55,null,null,0,null,null,0,1.8181818181818181E-2,11,{"$f":"IF(W59<31,AVERAGE(OFFSET(INDEX('Points team et quota finales'!$C$5:$C$34,W59),0,0,COUNTIF($W$6:$W$104,W59))),0)","v":13.3}]
[11,null,null,null,null,null,0,11,55,null,null,0,11,55,55,null,null,0,null,null,0,1.8181818181818181E-2,11,{"$f":"IF(W60<31,AVERAGE(OFFSET(INDEX('Points team et quota finales'!$C$5:$C$34,W60),0,0,COUNTIF($W$6:$W$104,W60))),0)","v":13.3}]
[11,null,null,null,null,null,0,11,55,null,null,0,11,55,55,null,null,0,null,null,0,1.8181818181818181E-2,11,{"$f":"IF(W61<31,AVERAGE(OFFSET(INDEX('Points team et quota finales'!$C$5:$C$34,W61),0,0,COUNTIF($W$6:$W$104,W61))),0)","v":13.3}]
[11,null,null,null,null,null,0,11,55,null,null,0,11,55,55,null,null,0,null,null,0,1.8181818181818181E-2,11,{"$f":"IF(W62<31,AVERAGE(OFFSET(INDEX('Points team et quota finales'!$C$5:$C$34,W62),0,0,COUNTIF($W$6:$W$104,W62))),0)","v":13.3}]
[11,null,null,null,null,null,0,11,55,null,null,0,11,55,55,null,null,0,null,null,0,1.8181818181818181E-2,11,{"$f":"IF(W63<31,AVERAGE(OFFSET(INDEX('Points team et quota finales'!$C$5:$C$34,W63),0,0,COUNTIF($W$6:$W$104,W63))),0)","v":13.3}]
[11,null,null,null,null,null,0,11,55,null,null,0,11,55,55,null,null,0,null,null,0,1.8181818181818181E-2,11,{"$f":"IF(W64<31,AVERAGE(OFFSET(INDEX('Points team et quota finales'!$C$5:$C$34,W64),0,0,COUNTIF($W$6:$W$104,W64))),0)","v":13.3}]
[11,null,null,null,null,null,0,11,55,null,null,0,11,55,55,null,null,0,null,null,0,1.8181818181818181E-2,11,{"$f":"IF(W65<31,AVERAGE(OFFSET(INDEX('Points team et quota finales'!$C$5:$C$34,W65),0,0,COUNTIF($W$6:$W$104,W65))),0)","v":13.3}]
[11,null,null,null,null,null,0,11,55,null,null,0,11,55,55,null,null,0,null,null,0,1.8181818181818181E-2,11,{"$f":"IF(W66<31,AVERAGE(OFFSET(INDEX('Points team et quota finales'!$C$5:$C$34,W66),0,0,COUNTIF($W$6:$W$104,W66))),0)","v":13.3}]
[11,null,null,null,null,null,0,11,55,null,null,0,11,55,55,null,null,0,null,null,0,1.8181818181818181E-2,11,{"$f":"IF(W67<31,AVERAGE(OFFSET(INDEX('Points team et quota finales'!$C$5:$C$34,W67),0,0,COUNTIF($W$6:$W$104,W67))),0)","v":13.3}]
[11,null,null,null,null,null,0,11,55,null,null,0,11,55,55,null,null,0,null,null,0,1.8181818181818181E-2,11,{"$f":"IF(W68<31,AVERAGE(OFFSET(INDEX('Points team et quota finales'!$C$5:$C$34,W68),0,0,COUNTIF($W$6:$W$104,W68))),0)","v":13.3}]
[11,null,null,null,null,null,0,11,55,null,null,0,11,55,55,null,null,0,null,null,0,1.8181818181818181E-2,{"$f":"A69","v":11},{"$f":"IF(W69<31,AVERAGE(OFFSET(INDEX('Points team et quota finales'!$C$5:$C$34,W69),0,0,COUNTIF($W$6:$W$104,W69))),0)","v":13.3}]
[{"$f":"RANK(V70,$V$6:$V$104)","v":11},null,null,null,null,null,{"$f":"IF(E70=\"TOP\",$F$107,IF(F70=\"-\",E70-0.01,IF(F70=\"+\",E70+0.01,E70)))","v":0},{"$f":"RANK(G70,$G$6:$G$104)","v":11},{"$f":"IF(COUNTIF($H$6:$H$104,H70)=1,H70,(H70*2+COUNTIF($H$6:$H$104,H70)-1)/2)","v":55},null,null,{"$f":"IF(J70=\"TOP\",$K$107,IF(K70=\"-\",J70-0.01,IF(K70=\"+\",J70+0.01,J70)))","v":0},{"$f":"RANK(L70,$L$6:$L$104)","v":11},{"$f":"IF(COUNTIF($M$6:$M$104,M70)=1,M70,(M70*2+COUNTIF($M$6:$M$104,M70)-1)/2)","v":55},{"$f":"SQRT(I70*N70)","v":55},null,null,{"$f":"IF(P70=\"TOP\",$Q$107,IF(Q70=\"-\",P70-0.01,IF(Q70=\"+\",P70+0.01,P70)))","v":0},null,null,{"$f":"IF($S70=\"TOP\",$T$107,IF($T70=\"-\",$S70-0.01,IF($T70=\"+\",$S70+0.01,$S70)))","v":0},{"$f":"IF(U70<>0,U70*1000+R70*100+1/O70,IF(R70<>0,R70*100+1/O70,1/O70))","v":1.8181818181818181E-2},11,{"$f":"IF(W70<31,AVERAGE(OFFSET(INDEX('Points team et quota finales'!$C$5:$C$34,W70),0,0,COUNTIF($W$6:$W$104,W70))),0)","v":13.3}]
[11,null,null,null,null,null,0,11,55,null,null,0,11,55,55,null,null,0,null,null,0,1.8181818181818181E-2,11,{"$f":"IF(W71<31,AVERAGE(OFFSET(INDEX('Points team et quota finales'!$C$5:$C$34,W71),0,0,COUNTIF($W$6:$W$104,W71))),0)","v":13.3}]
[11,null,null,null,null,null,0,11,55,null,null,0,11,55,55,null,null,0,null,null,0,1.8181818181818181E-2,11,{"$f":"IF(W72<31,AVERAGE(OFFSET(INDEX('Points team et quota finales'!$C$5:$C$34,W72),0,0,COUNTIF($W$6:$W$104,W72))),0)","v":13.3}]
[11,null,null,null,null,null,0,11,55,null,null,0,11,55,55,null,null,0,null,null,0,1.8181818181818181E-2,11,{"$f":"IF(W73<31,AVERAGE(OFFSET(INDEX('Points team et quota finales'!$C$5:$C$34,W73),0,0,COUNTIF($W$6:$W$104,W73))),0)","v":13.3}]
[11,null,null,null,null,null,0,11,55,null,null,0,11,55,55,null,null,0,null,null,0,1.8181818181818181E-2,11,{"$f":"IF(W74<31,AVERAGE(OFFSET(INDEX('Points team et quota finales'!$C$5:$C$34,W74),0,0,COUNTIF($W$6:$W$104,W74))),0)","v":13.3}]
[11,null,null,null,null,null,0,11,55,null,null,0,11,55,55,null,null,0,null,null,0,1.8181818181818181E-2,11,{"$f":"IF(W75<31,AVERAGE(OFFSET(INDEX('Points team et quota finales'!$C$5:$C$34,W75),0,0,COUNTIF($W$6:$W$104,W75))),0)","v":13.3}]
[11,null,null,null,null,null,0,11,55,null,null,0,11,55,55,null,null,0,null,null,0,1.8181818181818181E-2,11,{"$f":"IF(W76<31,AVERAGE(OFFSET(INDEX('Points team et quota finales'!$C$5:$C$34,W76),0,0,COUNTIF($W$6:$W$104,W76))),0)","v":13.3}]
[11,null,null,null,null,null,0,11,55,null,null,0,11,55,55,null,null,0,null,null,0,1.8181818181818181E-2,11,{"$f":"IF(W77<31,AVERAGE(OFFSET(INDEX('Points team et quota finales'!$C$5:$C$34,W77),0,0,COUNTIF($W$6:$W$104,W77))),0)","v":13.3}]
[11,null,null,null,null,null,0,11,55,null,null,0,11,55,55,null,null,0,null,null,0,1.8181818181818181E-2,11,{"$f":"IF(W78<31,AVERAGE(OFFSET(INDEX('Points team et quota finales'!$C$5:$C$34,W78),0,0,COUNTIF($W$6:$W$104,W78))),0)","v":13.3}]
[11,null,null,null,null,null,0,11,55,null,null,0,11,55,55,null,null,0,null,null,0,1.8181818181818181E-2,11,{"$f":"IF(W79<31,AVERAGE(OFFSET(INDEX('Points team et quota finales'!$C$5:$C$34,W79),0,0,COUNTIF($W$6:$W$104,W79))),0)","v":13.3}]
[11,null,null,null,null,null,0,11,55,null,null,0,11,55,55,null,null,0,null,null,0,1.8181818181818181E-2,11,{"$f":"IF(W80<31,AVERAGE(OFFSET(INDEX('Points team et quota finales'!$C$5:$C$34,W80),0,0,COUNTIF($W$6:$W$104,W80))),0)","v":13.3}]
[11,null,null,null,null,null,0,11,55,null,null,0,11,55,55,null,null,0,null,null,0,1.8181818181818181E-2,11,{"$f":"IF(W81<31,AVERAGE(OFFSET(INDEX('Points team et quota finales'!$C$5:$C$34,W81),0,0,COUNTIF($W$6:$W$104,W81))),0)","v":13.3}]
[11,null,null,null,null,null,0,11,55,null,null,0,11,55,55,null,null,0,null,null,0,1.8181818181818181E-2,11,{"$f":"IF(W82<31,AVERAGE(OFFSET(INDEX('Points team et quota finales'!$C$5:$C$34,W82),0,0,COUNTIF($W$6:$W$104,W82))),0)","v":13.3}]
[11,null,null,null,null,null,0,11,55,null,null,0,11,55,55,null,null,0,null,null,0,1.8181818181818181E-2,11,{"$f":"IF(W83<31,AVERAGE(OFFSET(INDEX('Points team et quota finales'!$C$5:$C$34,W83),0,0,COUNTIF($W$6:$W$104,W83))),0)","v":13.3}]
[11,null,null,null,null,null,0,11,55,null,null,0,11,55,55,null,null,0,null,null,0,1.8181818181818181E-2,11,{"$f":"IF(W84<31,AVERAGE(OFFSET(INDEX('Points team et quota finales'!$C$5:$C$34,W84),0,0,COUNTIF($W$6:$W$104,W84))),0)","v":13.3}]
[11,null,null,null,null,null,0,11,55,null,null,0,11,55,55,null,null,0,null,null,0,1.8181818181818181E-2,11,{"$f":"IF(W85<31,AVERAGE(OFFSET(INDEX('Points team et quota finales'!$C$5:$C$34,W85),0,0,COUNTIF($W$6:$W$104,W85))),0)","v":13.3}]
[11,null,null,null,null,null,0,11,55,null,null,0,11,55,55,null,null,0,null,null,0,1.8181818181818181E-2,11,{"$f":"IF(W86<31,AVERAGE(OFFSET(INDEX('Points team et quota finales'!$C$5:$C$34,W86),0,0,COUNTIF($W$6:$W$104,W86))),0)","v":13.3}]
[11,null,null,null,null,null,0,11,55,null,null,0,11,55,55,null,null,0,null,null,0,1.8181818181818181E-2,11,{"$f":"IF(W87<31,AVERAGE(OFFSET(INDEX('Points team et quota finales'!$C$5:$C$34,W87),0,0,COUNTIF($W$6:$W$104,W87))),0)","v":13.3}]
[11,null,null,null,null,null,0,11,55,null,null,0,11,55,55,null,null,0,null,null,0,1.8181818181818181E-2,11,{"$f":"IF(W88<31,AVERAGE(OFFSET(INDEX('Points team et quota finales'!$C$5:$C$34,W88),0,0,COUNTIF($W$6:$W$104,W88))),0)","v":13.3}]
[11,null,null,null,null,null,0,11,55,null,null,0,11,55,55,null,null,0,null,null,0,1.8181818181818181E-2,11,{"$f":"IF(W89<31,AVERAGE(OFFSET(INDEX('Points team et quota finales'!$C$5:$C$34,W89),0,0,COUNTIF($W$6:$W$104,W89))),0)","v":13.3}]
[11,null,null,null,null,null,0,11,55,null,null,0,11,55,55,null,null,0,null,null,0,1.8181818181818181E-2,11,{"$f":"IF(W90<31,AVERAGE(OFFSET(INDEX('Points team et quota finales'!$C$5:$C$34,W90),0,0,COUNTIF($W$6:$W$104,W90))),0)","v":13.3}]
[11,null,null,null,null,null,0,11,55,null,null,0,11,55,55,null,null,0,null,null,0,1.8181818181818181E-2,11,{"$f":"IF(W91<31,AVERAGE(OFFSET(INDEX('Points team et quota finales'!$C$5:$C$34,W91),0,0,COUNTIF($W$6:$W$104,W91))),0)","v":13.3}]
[11,null,null,null,null,null,0,11,55,null,null,0,11,55,55,null,null,0,null,null,0,1.8181818181818181E-2,11,{"$f":"IF(W92<31,AVERAGE(OFFSET(INDEX('Points team et quota finales'!$C$5:$C$34,W92),0,0,COUNTIF($W$6:$W$104,W92))),0)","v":13.3}]
[11,null,null,null,null,null,0,11,55,null,null,0,11,55,55,null,null,0,null,null,0,1.8181818181818181E-2,11,{"$f":"IF(W93<31,AVERAGE(OFFSET(INDEX('Points team et quota finales'!$C$5:$C$34,W93),0,0,COUNTIF($W$6:$W$104,W93))),0)","v":13.3}]
[11,null,null,null,null,null,0,11,55,null,null,0,11,55,55,null,null,0,null,null,0,1.8181818181818181E-2,11,{"$f":"IF(W94<31,AVERAGE(OFFSET(INDEX('Points team et quota finales'!$C$5:$C$34,W94),0,0,COUNTIF($W$6:$W$104,W94))),0)","v":13.3}]
[11,null,null,null,null,null,0,11,55,null,null,0,11,55,55,null,null,0,null,null,0,1.8181818181818181E-2,11,{"$f":"IF(W95<31,AVERAGE(OFFSET(INDEX('Points team et quota finales'!$C$5:$C$34,W95),0,0,COUNTIF($W$6:$W$104,W95))),0)","v":13.3}]
[11,null,null,null,null,null,0,11,55,null,null,0,11,55,55,null,null,0,null,null,0,1.8181818181818181E-2,11,{"$f":"IF(W96<31,AVERAGE(OFFSET(INDEX('Points team et quota finales'!$C$5:$C$34,W96),0,0,COUNTIF($W$6:$W$104,W96))),0)","v":13.3}]
[11,null,null,null,null,null,0,11,55,null,null,0,11,55,55,null,null,0,null,null,0,1.8181818181818181E-2,11,{"$f":"IF(W97<31,AVERAGE(OFFSET(INDEX('Points team et quota finales'!$C$5:$C$34,W97),0,0,COUNTIF($W$6:$W$104,W97))),0)","v":13.3}]
[11,null,null,null,null,null,0,11,55,null,null,0,11,55,55,null,null,0,null,null,0,1.8181818181818181E-2,11,{"$f":"IF(W98<31,AVERAGE(OFFSET(INDEX('Points team et quota finales'!$C$5:$C$34,W98),0,0,COUNTIF($W$6:$W$104,W98))),0)","v":13.3}]
[11,null,null,null,null,null,0,11,55,null,null,0,11,55,55,null,null,0,null,null,0,1.8181818181818181E-2,11,{"$f":"IF(W99<31,AVERAGE(OFFSET(INDEX('Points team et quota finales'!$C$5:$C$34,W99),0,0,COUNTIF($W$6:$W$104,W99))),0)","v":13.3}]
[11,null,null,null,null,null,0,11,55,null,null,0,11,55,55,null,null,0,null,null,0,1.8181818181818181E-2,11,{"$f":"IF(W100<31,AVERAGE(OFFSET(INDEX('Points team et quota finales'!$C$5:$C$34,W100),0,0,COUNTIF($W$6:$W$104,W100))),0)","v":13.3}]
[11,null,null,null,null,null,0,11,55,null,null,0,11,55,55,null,null,0,null,null,0,1.8181818181818181E-2,11,{"$f":"IF(W101<31,AVERAGE(OFFSET(INDEX('Points team et quota finales'!$C$5:$C$34,W101),0,0,COUNTIF($W$6:$W$104,W101))),0)","v":13.3}]
[11,null,null,null,null,null,{"$f":"IF(E102=\"TOP\",$F$107,IF(F102=\"-\",E102-0.01,IF(F102=\"+\",E102+0.01,E102)))","v":0},{"$f":"RANK(G102,$G$6:$G$104)","v":11},{"$f":"IF(COUNTIF($H$6:$H$104,H102)=1,H102,(H102*2+COUNTIF($H$6:$H$104,H102)-1)/2)","v":55},null,null,{"$f":"IF(J102=\"TOP\",$K$107,IF(K102=\"-\",J102-0.01,IF(K102=\"+\",J102+0.01,J102)))","v":0},{"$f":"RANK(L102,$L$6:$L$104)","v":11},{"$f":"IF(COUNTIF($M$6:$M$104,M102)=1,M102,(M102*2+COUNTIF($M$6:$M$104,M102)-1)/2)","v":55},{"$f":"SQRT(I102*N102)","v":55},null,null,{"$f":"IF(P102=\"TOP\",$Q$107,IF(Q102=\"-\",P102-0.01,IF(Q102=\"+\",P102+0.01,P102)))","v":0},null,null,0,{"$f":"IF(U102<>0,U102*1000+R102*100+1/O102,IF(R102<>0,R102*100+1/O102,1/O102))","v":1.8181818181818181E-2},11,{"$f":"IF(W102<31,AVERAGE(OFFSET(INDEX('Points team et quota finales'!$C$5:$C$34,W102),0,0,COUNTIF($W$6:$W$104,W102))),0)","v":13.3}]
[11,null,null,null,null,null,0,11,55,null,null,0,11,55,55,null,null,0,null,null,0,1.8181818181818181E-2,11,{"$f":"IF(W103<31,AVERAGE(OFFSET(INDEX('Points team et quota finales'!$C$5:$C$34,W103),0,0,COUNTIF($W$6:$W$104,W103))),0)","v":13.3}]
[11,null,null,null,null,null,0,11,55,null,null,0,11,55,55,null,null,0,null,null,0,1.8181818181818181E-2,11,{"$f":"IF(W104<31,AVERAGE(OFFSET(INDEX('Points team et quota finales'!$C$5:$C$34,W104),0,0,COUNTIF($W$6:$W$104,W104))),0)","v":13.3}]
[]
[]
[null,null,null,null,"Top =",28,null,null,null,"Top = ",39,null,null,null,null,"Top =",30,null,"Top ="]
[null,{"$f":"CONCATENATE(\"Jury President: \",General!$B$6)","v":"Jury President: Lieven Vlassenroot"}]
[]
[null,"Appeal until :"]

{"sheet":"CM","index":8,"n_rows":108,"n_cols":24,"rows_kept":108,"cut":false,"hidden":false,"merged":[[1,0,1,22],[4,4,4,7],[4,9,4,12],[4,15,4,17],[4,18,4,20]]}
[]
[{"$f":"CONCATENATE(General!$B$5,\"  -  RESULTS C Male\")","v":"Youth Lead Championship 09-03-2013  -  RESULTS C Male"}]
[]
[]
["RANK","Nr","Name","Team","Route 1",null,null,null,"Ranking Points Route 1","Route 2",null,null,null,"Ranking Points Route 2","Root R1 x R2 ","Final ",null,null,"Super Final",null,null,"base pour calcul rang","RANK","Team points"]
[{"$f":"RANK(V6,$V$6:$V$102)","v":1},"CM06","PEETERS Harold","CC","TOP",null,{"$f":"IF(E6=\"TOP\",$F$105,IF(F6=\"-\",E6-0.01,IF(F6=\"+\",E6+0.01,E6)))","v":38},{"$f":"RANK(G6,$G$6:$G$102)","v":1},{"$f":"IF(COUNTIF($H$6:$H$102,H6)=1,H6,(H6*2+COUNTIF($H$6:$H$102,H6)-1)/2)","v":5},"TOP",null,{"$f":"IF(J6=\"TOP\",$K$105,IF(K6=\"-\",J6-0.01,IF(K6=\"+\",J6+0.01,J6)))","v":42},{"$f":"RANK(L6,$L$6:$L$102)","v":1},{"$f":"IF(COUNTIF($M$6:$M$102,M6)=1,M6,(M6*2+COUNTIF($M$6:$M$102,M6)-1)/2)","v":1.5},{"$f":"SQRT(I6*N6)","v":2.7386127875258306},"TOP",null,{"$f":"IF(P6=\"TOP\",$Q$105,IF(Q6=\"-\",P6-0.01,IF(Q6=\"+\",P6+0.01,P6)))","v":49},null,null,{"$f":"IF($S6=\"TOP\",$T$105,IF($T6=\"-\",$S6-0.01,IF($T6=\"+\",$S6+0.01,$S6)))","v":0},{"$f":"IF(U6<>0,U6*1000+R6*100+1/O6,IF(R6<>0,R6*100+1/O6,1/O6))","v":4900.3651483716703},{"$f":"A6","v":1},{"$f":"IF(W6<31,AVERAGE(OFFSET(INDEX('Points team et quota finales'!$C$5:$C$34,W6),0,0,COUNTIF($W$6:$W$102,W6))),0)","v":100}]
[2,"CM14","DEBRULLE Louis","STC","TOP",null,38,1,5,"TOP",null,42,1,1.5,2.7386127875258306,39,null,39,null,null,0,3900.3651483716703,2,{"$f":"IF(W7<31,AVERAGE(OFFSET(INDEX('Points team et quota finales'!$C$5:$C$34,W7),0,0,COUNTIF($W$6:$W$102,W7))),0)","v":80}]
[3,"CM03","BAUDOUIN Lionel","BMC","TOP",null,38,1,5,37,"+",37.01,3,3,3.872983346207417,35,"+",35.01,null,null,0,3501.2581988897473,3,{"$f":"IF(W8<31,AVERAGE(OFFSET(INDEX('Points team et quota finales'!$C$5:$C$34,W8),0,0,COUNTIF($W$6:$W$102,W8))),0)","v":65}]
[4,"CM07","RASIR Denis","ARE","TOP",null,38,1,5,30,"+",30.01,5,5.5,5.2440442408507577,30,"+",30.01,null,null,0,3001.1906925178491,4,{"$f":"IF(W9<31,AVERAGE(OFFSET(INDEX('Points team et quota finales'!$C$5:$C$34,W9),0,0,COUNTIF($W$6:$W$102,W9))),0)","v":55}]
[5,"CM11","VAN DEUREN Bram","KLI","TOP",null,38,1,5,17,"+",17.010000000000002,7,7,5.9160797830996161,29,"+",29.01,null,null,0,2901.1690308509455,5,{"$f":"IF(W10<31,AVERAGE(OFFSET(INDEX('Points team et quota finales'!$C$5:$C$34,W10),0,0,COUNTIF($W$6:$W$102,W10))),0)","v":51}]
[6,"CM04","PERILLEUX Hannes","OLY","TOP",null,38,1,5,30,"+",30.01,5,5.5,5.2440442408507577,29,null,29,null,null,0,2900.1906925178491,6,{"$f":"IF(W11<31,AVERAGE(OFFSET(INDEX('Points team et quota finales'!$C$5:$C$34,W11),0,0,COUNTIF($W$6:$W$102,W11))),0)","v":47}]
[7,"CM15","VANDERBEECK Michel","STC","TOP",null,38,1,5,31,null,31,4,4,4.4721359549995796,23,null,23,null,null,0,2300.2236067977501,7,{"$f":"IF(W12<31,AVERAGE(OFFSET(INDEX('Points team et quota finales'!$C$5:$C$34,W12),0,0,COUNTIF($W$6:$W$102,W12))),0)","v":43}]
[8,"CM08","VANCRAEYNEST Mats","KLI","TOP",null,38,1,5,13,"+",13.01,8,8.5,6.5192024052026492,22,"+",22.01,null,null,0,2201.1533929977695,8,{"$f":"IF(W13<31,AVERAGE(OFFSET(INDEX('Points team et quota finales'!$C$5:$C$34,W13),0,0,COUNTIF($W$6:$W$102,W13))),0)","v":40}]
[9,"CM02","HERBOS Aiko","KLI","TOP",null,38,1,5,11,null,11,13,13,8.0622577482985491,null,null,0,null,null,0,0.12403473458920847,9,{"$f":"IF(W14<31,AVERAGE(OFFSET(INDEX('Points team et quota finales'!$C$5:$C$34,W14),0,0,COUNTIF($W$6:$W$102,W14))),0)","v":37}]
[10,"CM01","TAMINE Mattéo","CC",28,"+",28.01,11,11.5,13,"+",13.01,8,8.5,9.8868599666425947,null,null,0,null,null,0,0.10114434748483472,10,{"$f":"IF(W15<31,AVERAGE(OFFSET(INDEX('Points team et quota finales'!$C$5:$C$34,W15),0,0,COUNTIF($W$6:$W$102,W15))),0)","v":34}]
[11,"CM10","GALLE Arend","HUN",36,null,36,10,10,12,"+",12.01,11,11,10.488088481701515,null,null,0,null,null,0,9.5346258924559238E-2,11,{"$f":"IF(W16<31,AVERAGE(OFFSET(INDEX('Points team et quota finales'!$C$5:$C$34,W16),0,0,COUNTIF($W$6:$W$102,W16))),0)","v":31}]
[12,"CM05","WITTOEK Brecht","HUN",28,"+",28.01,11,11.5,13,null,13,10,10,10.723805294763608,null,null,0,null,null,0,9.3250480824031381E-2,12,{"$f":"IF(W17<31,AVERAGE(OFFSET(INDEX('Points team et quota finales'!$C$5:$C$34,W17),0,0,COUNTIF($W$6:$W$102,W17))),0)","v":28}]
[13,"CM13","DU BOIS D'ENGHIEN Victor","ECT",28,null,28,13,13,12,null,12,12,12,12.489995996796797,null,null,0,null,null,0,8.0064076902543566E-2,13,{"$f":"IF(W18<31,AVERAGE(OFFSET(INDEX('Points team et quota finales'!$C$5:$C$34,W18),0,0,COUNTIF($W$6:$W$102,W18))),0)","v":26}]
[14,null,null,null,null,null,0,14,55.5,null,null,0,14,55.5,55.5,null,null,0,null,null,0,1.8018018018018018E-2,14,{"$f":"IF(W19<31,AVERAGE(OFFSET(INDEX('Points team et quota finales'!$C$5:$C$34,W19),0,0,COUNTIF($W$6:$W$102,W19))),0)","v":10.647058823529411}]
[14,null,null,null,null,null,0,14,55.5,null,null,0,14,55.5,55.5,null,null,0,null,null,0,1.8018018018018018E-2,14,{"$f":"IF(W20<31,AVERAGE(OFFSET(INDEX('Points team et quota finales'!$C$5:$C$34,W20),0,0,COUNTIF($W$6:$W$102,W20))),0)","v":10.647058823529411}]
[14,null,null,null,null,null,0,14,55.5,null,null,0,14,55.5,55.5,null,null,0,null,null,0,1.8018018018018018E-2,14,{"$f":"IF(W21<31,AVERAGE(OFFSET(INDEX('Points team et quota finales'!$C$5:$C$34,W21),0,0,COUNTIF($W$6:$W$102,W21))),0)","v":10.647058823529411}]
[14,null,null,null,null,null,0,14,55.5,null,null,0,14,55.5,55.5,null,null,0,null,null,0,1.8018018018018018E-2,14,{"$f":"IF(W22<31,AVERAGE(OFFSET(INDEX('Points team et quota finales'!$C$5:$C$34,W22),0,0,COUNTIF($W$6:$W$102,W22))),0)","v":10.647058823529411}]
[14,null,null,null,null,null,0,14,55.5,null,null,0,14,55.5,55.5,null,null,0,null,null,0,1.8018018018018018E-2,14,{"$f":"IF(W23<31,AVERAGE(OFFSET(INDEX('Points team et quota finales'!$C$5:$C$34,W23),0,0,COUNTIF($W$6:$W$102,W23))),0)","v":10.647058823529411}]
[14,null,null,null,null,null,0,14,55.5,null,null,0,14,55.5,55.5,null,null,0,null,null,0,1.8018018018018018E-2,14,{"$f":"IF(W24<31,AVERAGE(OFFSET(INDEX('Points team et quota finales'!$C$5:$C$34,W24),0,0,COUNTIF($W$6:$W$102,W24))),0)","v":10.647058823529411}]
[14,null,null,null,null,null,0,14,55.5,null,null,0,14,55.5,55.5,null,null,0,null,null,0,1.8018018018018018E-2,14,{"$f":"IF(W25<31,AVERAGE(OFFSET(INDEX('Points team et quota finales'!$C$5:$C$34,W25),0,0,COUNTIF($W$6:$W$102,W25))),0)","v":10.647058823529411}]
[14,null,null,null,null,null,0,14,55.5,null,null,0,14,55.5,55.5,null,null,0,null,null,0,1.8018018018018018E-2,14,{"$f":"IF(W26<31,AVERAGE(OFFSET(INDEX('Points team et quota finales'!$C$5:$C$34,W26),0,0,COUNTIF($W$6:$W$102,W26))),0)","v":10.647058823529411}]
[14,null,null,null,null,null,0,14,55.5,null,null,0,14,55.5,55.5,null,null,0,null,null,0,1.8018018018018018E-2,14,{"$f":"IF(W27<31,AVERAGE(OFFSET(INDEX('Points team et quota finales'!$C$5:$C$34,W27),0,0,COUNTIF($W$6:$W$102,W27))),0)","v":10.647058823529411}]
[14,null,null,null,null,null,0,14,55.5,null,null,0,14,55.5,55.5,null,null,0,null,null,0,1.8018018018018018E-2,14,{"$f":"IF(W28<31,AVERAGE(OFFSET(INDEX('Points team et quota finales'!$C$5:$C$34,W28),0,0,COUNTIF($W$6:$W$102,W28))),0)","v":10.647058823529411}]
[14,null,null,null,null,null,0,14,55.5,null,null,0,14,55.5,55.5,null,null,0,null,null,0,1.8018018018018018E-2,14,{"$f":"IF(W29<31,AVERAGE(OFFSET(INDEX('Points team et quota finales'!$C$5:$C$34,W29),0,0,COUNTIF($W$6:$W$102,W29))),0)","v":10.647058823529411}]
[14,null,null,null,null,null,0,14,55.5,null,null,0,14,55.5,55.5,null,null,0,null,null,0,1.8018018018018018E-2,14,{"$f":"IF(W30<31,AVERAGE(OFFSET(INDEX('Points team et quota finales'!$C$5:$C$34,W30),0,0,COUNTIF($W$6:$W$102,W30))),0)","v":10.647058823529411}]
[14,null,null,null,null,null,0,14,55.5,null,null,0,14,55.5,55.5,null,null,0,null,null,0,1.8018018018018018E-2,14,{"$f":"IF(W31<31,AVERAGE(OFFSET(INDEX('Points team et quota finales'!$C$5:$C$34,W31),0,0,COUNTIF($W$6:$W$102,W31))),0)","v":10.647058823529411}]
[14,null,null,null,null,null,0,14,55.5,null,null,0,14,55.5,55.5,null,null,0,null,null,0,1.8018018018018018E-2,14,{"$f":"IF(W32<31,AVERAGE(OFFSET(INDEX('Points team et quota finales'!$C$5:$C$34,W32),0,0,COUNTIF($W$6:$W$102,W32))),0)","v":10.647058823529411}]
[14,null,null,null,null,null,0,14,55.5,null,null,0,14,55.5,55.5,null,null,0,null,null,0,1.8018018018018018E-2,14,{"$f":"IF(W33<31,AVERAGE(OFFSET(INDEX('Points team et quota finales'!$C$5:$C$34,W33),0,0,COUNTIF($W$6:$W$102,W33))),0)","v":10.647058823529411}]
[14,null,null,null,null,null,0,14,55.5,null,null,0,14,55.5,55.5,null,null,0,null,null,0,1.8018018018018018E-2,14,{"$f":"IF(W34<31,AVERAGE(OFFSET(INDEX('Points team et quota finales'!$C$5:$C$34,W34),0,0,COUNTIF($W$6:$W$102,W34))),0)","v":10.647058823529411}]
[14,null,null,null,null,null,0,14,55.5,null,null,0,14,55.5,55.5,null,null,0,null,null,0,1.8018018018018018E-2,14,{"$f":"IF(W35<31,AVERAGE(OFFSET(INDEX('Points team et quota finales'!$C$5:$C$34,W35),0,0,COUNTIF($W$6:$W$102,W35))),0)","v":10.647058823529411}]
[14,null,null,null,null,null,0,14,55.5,null,null,0,14,55.5,55.5,null,null,0,null,null,0,1.8018018018018018E-2,14,{"$f":"IF(W36<31,AVERAGE(OFFSET(INDEX('Points team et quota finales'!$C$5:$C$34,W36),0,0,COUNTIF($W$6:$W$102,W36))),0)","v":10.647058823529411}]
[14,null,null,null,null,null,0,14,55.5,null,null,0,14,55.5,55.5,null,null,0,null,null,0,1.8018018018018018E-2,14,{"$f":"IF(W37<31,AVERAGE(OFFSET(INDEX('Points team et quota finales'!$C$5:$C$34,W37),0,0,COUNTIF($W$6:$W$102,W37))),0)","v":10.647058823529411}]
[{"$f":"RANK(V38,$V$6:$V$102)","v":14},null,null,null,null,null,{"$f":"IF(E38=\"TOP\",$F$105,IF(F38=\"-\",E38-0.01,IF(F38=\"+\",E38+0.01,E38)))","v":0},{"$f":"RANK(G38,$G$6:$G$102)","v":14},{"$f":"IF(COUNTIF($H$6:$H$102,H38)=1,H38,(H38*2+COUNTIF($H$6:$H$102,H38)-1)/2)","v":55.5},null,null,{"$f":"IF(J38=\"TOP\",$K$105,IF(K38=\"-\",J38-0.01,IF(K38=\"+\",J38+0.01,J38)))","v":0},{"$f":"RANK(L38,$L$6:$L$102)","v":14},{"$f":"IF(COUNTIF($M$6:$M$102,M38)=1,M38,(M38*2+COUNTIF($M$6:$M$102,M38)-1)/2)","v":55.5},{"$f":"SQRT(I38*N38)","v":55.5},null,null,{"$f":"IF(P38=\"TOP\",$Q$105,IF(Q38=\"-\",P38-0.01,IF(Q38=\"+\",P38+0.01,P38)))","v":0},null,null,{"$f":"IF($S38=\"TOP\",$T$105,IF($T38=\"-\",$S38-0.01,IF($T38=\"+\",$S38+0.01,$S38)))","v":0},{"$f":"IF(U38<>0,U38*1000+R38*100+1/O38,IF(R38<>0,R38*100+1/O38,1/O38))","v":1.8018018018018018E-2},14,{"$f":"IF(W38<31,AVERAGE(OFFSET(INDEX('Points team et quota finales'!$C$5:$C$34,W38),0,0,COUNTIF($W$6:$W$102,W38))),0)","v":10.647058823529411}]
[14,null,null,null,null,null,0,14,55.5,null,null,0,14,55.5,55.5,null,null,0,null,null,0,1.8018018018018018E-2,14,{"$f":"IF(W39<31,AVERAGE(OFFSET(INDEX('Points team et quota finales'!$C$5:$C$34,W39),0,0,COUNTIF($W$6:$W$102,W39))),0)","v":10.647058823529411}]
[14,null,null,null,null,null,0,14,55.5,null,null,0,14,55.5,55.5,null,null,0,null,null,0,1.8018018018018018E-2,14,{"$f":"IF(W40<31,AVERAGE(OFFSET(INDEX('Points team et quota finales'!$C$5:$C$34,W40),0,0,COUNTIF($W$6:$W$102,W40))),0)","v":10.647058823529411}]
[14,null,null,null,null,null,0,14,55.5,null,null,0,14,55.5,55.5,null,null,0,null,null,0,1.8018018018018018E-2,14,{"$f":"IF(W41<31,AVERAGE(OFFSET(INDEX('Points team et quota finales'!$C$5:$C$34,W41),0,0,COUNTIF($W$6:$W$102,W41))),0)","v":10.647058823529411}]
[14,null,null,null,null,null,0,14,55.5,null,null,0,14,55.5,55.5,null,null,0,null,null,0,1.8018018018018018E-2,14,{"$f":"IF(W42<31,AVERAGE(OFFSET(INDEX('Points team et quota finales'!$C$5:$C$34,W42),0,0,COUNTIF($W$6:$W$102,W42))),0)","v":10.647058823529411}]
[14,null,null,null,null,null,0,14,55.5,null,null,0,14,55.5,55.5,null,null,0,null,null,0,1.8018018018018018E-2,14,{"$f":"IF(W43<31,AVERAGE(OFFSET(INDEX('Points team et quota finales'!$C$5:$C$34,W43),0,0,COUNTIF($W$6:$W$102,W43))),0)","v":10.647058823529411}]
[14,null,null,null,null,null,0,14,55.5,null,null,0,14,55.5,55.5,null,null,0,null,null,0,1.8018018018018018E-2,14,{"$f":"IF(W44<31,AVERAGE(OFFSET(INDEX('Points team et quota finales'!$C$5:$C$34,W44),0,0,COUNTIF($W$6:$W$102,W44))),0)","v":10.647058823529411}]
[14,null,null,null,null,null,0,14,55.5,null,null,0,14,55.5,55.5,null,null,0,null,null,0,1.8018018018018018E-2,14,{"$f":"IF(W45<31,AVERAGE(OFFSET(INDEX('Points team et quota finales'!$C$5:$C$34,W45),0,0,COUNTIF($W$6:$W$102,W45))),0)","v":10.647058823529411}]
[14,null,null,null,null,null,0,14,55.5,null,null,0,14,55.5,55.5,null,null,0,null,null,0,1.8018018018018018E-2,14,{"$f":"IF(W46<31,AVERAGE(OFFSET(INDEX('Points team et quota finales'!$C$5:$C$34,W46),0,0,COUNTIF($W$6:$W$102,W46))),0)","v":10.647058823529411}]
[14,null,null,null,null,null,0,14,55.5,null,null,0,14,55.5,55.5,null,null,0,null,null,0,1.8018018018018018E-2,14,{"$f":"IF(W47<31,AVERAGE(OFFSET(INDEX('Points team et quota finales'!$C$5:$C$34,W47),0,0,COUNTIF($W$6:$W$102,W47))),0)","v":10.647058823529411}]
[14,null,null,null,null,null,0,14,55.5,null,null,0,14,55.5,55.5,null,null,0,null,null,0,1.8018018018018018E-2,14,{"$f":"IF(W48<31,AVERAGE(OFFSET(INDEX('Points team et quota finales'!$C$5:$C$34,W48),0,0,COUNTIF($W$6:$W$102,W48))),0)","v":10.647058823529411}]
[14,null,null,null,null,null,0,14,55.5,null,null,0,14,55.5,55.5,null,null,0,null,null,0,1.8018018018018018E-2,14,{"$f":"IF(W49<31,AVERAGE(OFFSET(INDEX('Points team et quota finales'!$C$5:$C$34,W49),0,0,COUNTIF($W$6:$W$102,W49))),0)","v":10.647058823529411}]
[14,null,null,null,null,null,0,14,55.5,null,null,0,14,55.5,55.5,null,null,0,null,null,0,1.8018018018018018E-2,14,{"$f":"IF(W50<31,AVERAGE(OFFSET(INDEX('Points team et quota finales'!$C$5:$C$34,W50),0,0,COUNTIF($W$6:$W$102,W50))),0)","v":10.647058823529411}]
[14,null,null,null,null,null,0,14,55.5,null,null,0,14,55.5,55.5,null,null,0,null,null,0,1.8018018018018018E-2,14,{"$f":"IF(W51<31,AVERAGE(OFFSET(INDEX('Points team et quota finales'!$C$5:$C$34,W51),0,0,COUNTIF($W$6:$W$102,W51))),0)","v":10.647058823529411}]
[14,null,null,null,null,null,0,14,55.5,null,null,0,14,55.5,55.5,null,null,0,null,null,0,1.8018018018018018E-2,14,{"$f":"IF(W52<31,AVERAGE(OFFSET(INDEX('Points team et quota finales'!$C$5:$C$34,W52),0,0,COUNTIF($W$6:$W$102,W52))),0)","v":10.647058823529411}]
[14,null,null,null,null,null,0,14,55.5,null,null,0,14,55.5,55.5,null,null,0,null,null,0,1.8018018018018018E-2,14,{"$f":"IF(W53<31,AVERAGE(OFFSET(INDEX('Points team et quota finales'!$C$5:$C$34,W53),0,0,COUNTIF($W$6:$W$102,W53))),0)","v":10.647058823529411}]
[14,null,null,null,null,null,0,14,55.5,null,null,0,14,55.5,55.5,null,null,0,null,null,0,1.8018018018018018E-2,14,{"$f":"IF(W54<31,AVERAGE(OFFSET(INDEX('Points team et quota finales'!$C$5:$C$34,W54),0,0,COUNTIF($W$6:$W$102,W54))),0)","v":10.647058823529411}]
[14,null,null,null,null,null,0,14,55.5,null,null,0,14,55.5,55.5,null,null,0,null,null,0,1.8018018018018018E-2,14,{"$f":"IF(W55<31,AVERAGE(OFFSET(INDEX('Points team et quota finales'!$C$5:$C$34,W55),0,0,COUNTIF($W$6:$W$102,W55))),0)","v":10.647058823529411}]
[14,null,null,null,null,null,0,14,55.5,null,null,0,14,55.5,55.5,null,null,0,null,null,0,1.8018018018018018E-2,14,{"$f":"IF(W56<31,AVERAGE(OFFSET(INDEX('Points team et quota finales'!$C$5:$C$34,W56),0,0,COUNTIF($W$6:$W$102,W56))),0)","v":10.647058823529411}]
[14,null,null,null,null,null,0,14,55.5,null,null,0,14,55.5,55.5,null,null,0,null,null,0,1.8018018018018018E-2,14,{"$f":"IF(W57<31,AVERAGE(OFFSET(INDEX('Points team et quota finales'!$C$5:$C$34,W57),0,0,COUNTIF($W$6:$W$102,W57))),0)","v":10.647058823529411}]
[14,null,null,null,null,null,0,14,55.5,null,null,0,14,55.5,55.5,null,null,0,null,null,0,1.8018018018018018E-2,14,{"$f":"IF(W58<31,AVERAGE(OFFSET(INDEX('Points team et quota finales'!$C$5:$C$34,W58),0,0,COUNTIF($W$6:$W$102,W58))),0)","v":10.647058823529411}]
[14,null,null,null,null,null,0,14,55.5,null,null,0,14,55.5,55.5,null,null,0,null,null,0,1.8018018018018018E-2,14,{"$f":"IF(W59<31,AVERAGE(OFFSET(INDEX('Points team et quota finales'!$C$5:$C$34,W59),0,0,COUNTIF($W$6:$W$102,W59))),0)","v":10.647058823529411}]
[14,null,null,null,null,null,0,14,55.5,null,null,0,14,55.5,55.5,null,null,0,null,null,0,1.8018018018018018E-2,14,{"$f":"IF(W60<31,AVERAGE(OFFSET(INDEX('Points team et quota finales'!$C$5:$C$34,W60),0,0,COUNTIF($W$6:$W$102,W60))),0)","v":10.647058823529411}]
[14,null,null,null,null,null,0,14,55.5,null,null,0,14,55.5,55.5,null,null,0,null,null,0,1.8018018018018018E-2,14,{"$f":"IF(W61<31,AVERAGE(OFFSET(INDEX('Points team et quota finales'!$C$5:$C$34,W61),0,0,COUNTIF($W$6:$W$102,W61))),0)","v":10.647058823529411}]
[14,null,null,null,null,null,0,14,55.5,null,null,0,14,55.5,55.5,null,null,0,null,null,0,1.8018018018018018E-2,14,{"$f":"IF(W62<31,AVERAGE(OFFSET(INDEX('Points team et quota finales'!$C$5:$C$34,W62),0,0,COUNTIF($W$6:$W$102,W62))),0)","v":10.647058823529411}]
[14,null,null,null,null,null,0,14,55.5,null,null,0,14,55.5,55.5,null,null,0,null,null,0,1.8018018018018018E-2,14,{"$f":"IF(W63<31,AVERAGE(OFFSET(INDEX('Points team et quota finales'!$C$5:$C$34,W63),0,0,COUNTIF($W$6:$W$102,W63))),0)","v":10.647058823529411}]
[14,null,null,null,null,null,0,14,55.5,null,null,0,14,55.5,55.5,null,null,0,null,null,0,1.8018018018018018E-2,14,{"$f":"IF(W64<31,AVERAGE(OFFSET(INDEX('Points team et quota finales'!$C$5:$C$34,W64),0,0,COUNTIF($W$6:$W$102,W64))),0)","v":10.647058823529411}]
[14,null,null,null,null,null,0,14,55.5,null,null,0,14,55.5,55.5,null,null,0,null,null,0,1.8018018018018018E-2,14,{"$f":"IF(W65<31,AVERAGE(OFFSET(INDEX('Points team et quota finales'!$C$5:$C$34,W65),0,0,COUNTIF($W$6:$W$102,W65))),0)","v":10.647058823529411}]
[14,null,null,null,null,null,0,14,55.5,null,null,0,14,55.5,55.5,null,null,0,null,null,0,1.8018018018018018E-2,14,{"$f":"IF(W66<31,AVERAGE(OFFSET(INDEX('Points team et quota finales'!$C$5:$C$34,W66),0,0,COUNTIF($W$6:$W$102,W66))),0)","v":10.647058823529411}]
[14,null,null,null,null,null,0,14,55.5,null,null,0,14,55.5,55.5,null,null,0,null,null,0,1.8018018018018018E-2,{"$f":"A67","v":14},{"$f":"IF(W67<31,AVERAGE(OFFSET(INDEX('Points team et quota finales'!$C$5:$C$34,W67),0,0,COUNTIF($W$6:$W$102,W67))),0)","v":10.647058823529411}]
[14,null,null,null,null,null,0,14,55.5,null,null,0,14,55.5,55.5,null,null,0,null,null,0,1.8018018018018018E-2,14,{"$f":"IF(W68<31,AVERAGE(OFFSET(INDEX('Points team et quota finales'!$C$5:$C$34,W68),0,0,COUNTIF($W$6:$W$102,W68))),0)","v":10.647058823529411}]
[14,null,null,null,null,null,0,14,55.5,null,null,0,14,55.5,55.5,null,null,0,null,null,0,1.8018018018018018E-2,14,{"$f":"IF(W69<31,AVERAGE(OFFSET(INDEX('Points team et quota finales'!$C$5:$C$34,W69),0,0,COUNTIF($W$6:$W$102,W69))),0)","v":10.647058823529411}]
[{"$f":"RANK(V70,$V$6:$V$102)","v":14},null,null,null,null,null,{"$f":"IF(E70=\"TOP\",$F$105,IF(F70=\"-\",E70-0.01,IF(F70=\"+\",E70+0.01,E70)))","v":0},{"$f":"RANK(G70,$G$6:$G$102)","v":14},{"$f":"IF(COUNTIF($H$6:$H$102,H70)=1,H70,(H70*2+COUNTIF($H$6:$H$102,H70)-1)/2)","v":55.5},null,null,{"$f":"IF(J70=\"TOP\",$K$105,IF(K70=\"-\",J70-0.01,IF(K70=\"+\",J70+0.01,J70)))","v":0},{"$f":"RANK(L70,$L$6:$L$102)","v":14},{"$f":"IF(COUNTIF($M$6:$M$102,M70)=1,M70,(M70*2+COUNTIF($M$6:$M$102,M70)-1)/2)","v":55.5},{"$f":"SQRT(I70*N70)","v":55.5},null,null,{"$f":"IF(P70=\"TOP\",$Q$105,IF(Q70=\"-\",P70-0.01,IF(Q70=\"+\",P70+0.01,P70)))","v":0},null,null,{"$f":"IF($S70=\"TOP\",$T$105,IF($T70=\"-\",$S70-0.01,IF($T70=\"+\",$S70+0.01,$S70)))","v":0},{"$f":"IF(U70<>0,U70*1000+R70*100+1/O70,IF(R70<>0,R70*100+1/O70,1/O70))","v":1.8018018018018018E-2},14,{"$f":"IF(W70<31,AVERAGE(OFFSET(INDEX('Points team et quota finales'!$C$5:$C$34,W70),0,0,COUNTIF($W$6:$W$102,W70))),0)","v":10.647058823529411}]
[14,null,null,null,null,null,0,14,55.5,null,null,0,14,55.5,55.5,null,null,0,null,null,0,1.8018018018018018E-2,14,{"$f":"IF(W71<31,AVERAGE(OFFSET(INDEX('Points team et quota finales'!$C$5:$C$34,W71),0,0,COUNTIF($W$6:$W$102,W71))),0)","v":10.647058823529411}]
[14,null,null,null,null,null,0,14,55.5,null,null,0,14,55.5,55.5,null,null,0,null,null,0,1.8018018018018018E-2,14,{"$f":"IF(W72<31,AVERAGE(OFFSET(INDEX('Points team et quota finales'!$C$5:$C$34,W72),0,0,COUNTIF($W$6:$W$102,W72))),0)","v":10.647058823529411}]
[14,null,null,null,null,null,0,14,55.5,null,null,0,14,55.5,55.5,null,null,0,null,null,0,1.8018018018018018E-2,14,{"$f":"IF(W73<31,AVERAGE(OFFSET(INDEX('Points team et quota finales'!$C$5:$C$34,W73),0,0,COUNTIF($W$6:$W$102,W73))),0)","v":10.647058823529411}]
[14,null,null,null,null,null,0,14,55.5,null,null,0,14,55.5,55.5,null,null,0,null,null,0,1.8018018018018018E-2,14,{"$f":"IF(W74<31,AVERAGE(OFFSET(INDEX('Points team et quota finales'!$C$5:$C$34,W74),0,0,COUNTIF($W$6:$W$102,W74))),0)","v":10.647058823529411}]
[14,null,null,null,null,null,0,14,55.5,null,null,0,14,55.5,55.5,null,null,0,null,null,0,1.8018018018018018E-2,14,{"$f":"IF(W75<31,AVERAGE(OFFSET(INDEX('Points team et quota finales'!$C$5:$C$34,W75),0,0,COUNTIF($W$6:$W$102,W75))),0)","v":10.647058823529411}]
[14,null,null,null,null,null,0,14,55.5,null,null,0,14,55.5,55.5,null,null,0,null,null,0,1.8018018018018018E-2,14,{"$f":"IF(W76<31,AVERAGE(OFFSET(INDEX('Points team et quota finales'!$C$5:$C$34,W76),0,0,COUNTIF($W$6:$W$102,W76))),0)","v":10.647058823529411}]
[14,null,null,null,null,null,0,14,55.5,null,null,0,14,55.5,55.5,null,null,0,null,null,0,1.8018018018018018E-2,14,{"$f":"IF(W77<31,AVERAGE(OFFSET(INDEX('Points team et quota finales'!$C$5:$C$34,W77),0,0,COUNTIF($W$6:$W$102,W77))),0)","v":10.647058823529411}]
[14,null,null,null,null,null,0,14,55.5,null,null,0,14,55.5,55.5,null,null,0,null,null,0,1.8018018018018018E-2,14,{"$f":"IF(W78<31,AVERAGE(OFFSET(INDEX('Points team et quota finales'!$C$5:$C$34,W78),0,0,COUNTIF($W$6:$W$102,W78))),0)","v":10.647058823529411}]
[14,null,null,null,null,null,0,14,55.5,null,null,0,14,55.5,55.5,null,null,0,null,null,0,1.8018018018018018E-2,14,{"$f":"IF(W79<31,AVERAGE(OFFSET(INDEX('Points team et quota finales'!$C$5:$C$34,W79),0,0,COUNTIF($W$6:$W$102,W79))),0)","v":10.647058823529411}]
[14,null,null,null,null,null,0,14,55.5,null,null,0,14,55.5,55.5,null,null,0,null,null,0,1.8018018018018018E-2,14,{"$f":"IF(W80<31,AVERAGE(OFFSET(INDEX('Points team et quota finales'!$C$5:$C$34,W80),0,0,COUNTIF($W$6:$W$102,W80))),0)","v":10.647058823529411}]
[14,null,null,null,null,null,0,14,55.5,null,null,0,14,55.5,55.5,null,null,0,null,null,0,1.8018018018018018E-2,14,{"$f":"IF(W81<31,AVERAGE(OFFSET(INDEX('Points team et quota finales'!$C$5:$C$34,W81),0,0,COUNTIF($W$6:$W$102,W81))),0)","v":10.647058823529411}]
[14,null,null,null,null,null,0,14,55.5,null,null,0,14,55.5,55.5,null,null,0,null,null,0,1.8018018018018018E-2,14,{"$f":"IF(W82<31,AVERAGE(OFFSET(INDEX('Points team et quota finales'!$C$5:$C$34,W82),0,0,COUNTIF($W$6:$W$102,W82))),0)","v":10.647058823529411}]
[14,null,null,null,null,null,0,14,55.5,null,null,0,14,55.5,55.5,null,null,0,null,null,0,1.8018018018018018E-2,14,{"$f":"IF(W83<31,AVERAGE(OFFSET(INDEX('Points team et quota finales'!$C$5:$C$34,W83),0,0,COUNTIF($W$6:$W$102,W83))),0)","v":10.647058823529411}]
[14,null,null,null,null,null,0,14,55.5,null,null,0,14,55.5,55.5,null,null,0,null,null,0,1.8018018018018018E-2,14,{"$f":"IF(W84<31,AVERAGE(OFFSET(INDEX('Points team et quota finales'!$C$5:$C$34,W84),0,0,COUNTIF($W$6:$W$102,W84))),0)","v":10.647058823529411}]
[14,null,null,null,null,null,0,14,55.5,null,null,0,14,55.5,55.5,null,null,0,null,null,0,1.8018018018018018E-2,14,{"$f":"IF(W85<31,AVERAGE(OFFSET(INDEX('Points team et quota finales'!$C$5:$C$34,W85),0,0,COUNTIF($W$6:$W$102,W85))),0)","v":10.647058823529411}]
[14,null,null,null,null,null,0,14,55.5,null,null,0,14,55.5,55.5,null,null,0,null,null,0,1.8018018018018018E-2,14,{"$f":"IF(W86<31,AVERAGE(OFFSET(INDEX('Points team et quota finales'!$C$5:$C$34,W86),0,0,COUNTIF($W$6:$W$102,W86))),0)","v":10.647058823529411}]
[14,null,null,null,null,null,0,14,55.5,null,null,0,14,55.5,55.5,null,null,0,null,null,0,1.8018018018018018E-2,14,{"$f":"IF(W87<31,AVERAGE(OFFSET(INDEX('Points team et quota finales'!$C$5:$C$34,W87),0,0,COUNTIF($W$6:$W$102,W87))),0)","v":10.647058823529411}]
[14,null,null,null,null,null,0,14,55.5,null,null,0,14,55.5,55.5,null,null,0,null,null,0,1.8018018018018018E-2,14,{"$f":"IF(W88<31,AVERAGE(OFFSET(INDEX('Points team et quota finales'!$C$5:$C$34,W88),0,0,COUNTIF($W$6:$W$102,W88))),0)","v":10.647058823529411}]
[14,null,null,null,null,null,0,14,55.5,null,null,0,14,55.5,55.5,null,null,0,null,null,0,1.8018018018018018E-2,14,{"$f":"IF(W89<31,AVERAGE(OFFSET(INDEX('Points team et quota finales'!$C$5:$C$34,W89),0,0,COUNTIF($W$6:$W$102,W89))),0)","v":10.647058823529411}]
[14,null,null,null,null,null,0,14,55.5,null,null,0,14,55.5,55.5,null,null,0,null,null,0,1.8018018018018018E-2,14,{"$f":"IF(W90<31,AVERAGE(OFFSET(INDEX('Points team et quota finales'!$C$5:$C$34,W90),0,0,COUNTIF($W$6:$W$102,W90))),0)","v":10.647058823529411}]
[14,null,null,null,null,null,0,14,55.5,null,null,0,14,55.5,55.5,null,null,0,null,null,0,1.8018018018018018E-2,14,{"$f":"IF(W91<31,AVERAGE(OFFSET(INDEX('Points team et quota finales'!$C$5:$C$34,W91),0,0,COUNTIF($W$6:$W$102,W91))),0)","v":10.647058823529411}]
[14,null,null,null,null,null,0,14,55.5,null,null,0,14,55.5,55.5,null,null,0,null,null,0,1.8018018018018018E-2,14,{"$f":"IF(W92<31,AVERAGE(OFFSET(INDEX('Points team et quota finales'!$C$5:$C$34,W92),0,0,COUNTIF($W$6:$W$102,W92))),0)","v":10.647058823529411}]
[14,null,null,null,null,null,0,14,55.5,null,null,0,14,55.5,55.5,null,null,0,null,null,0,1.8018018018018018E-2,14,{"$f":"IF(W93<31,AVERAGE(OFFSET(INDEX('Points team et quota finales'!$C$5:$C$34,W93),0,0,COUNTIF($W$6:$W$102,W93))),0)","v":10.647058823529411}]
[14,null,null,null,null,null,0,14,55.5,null,null,0,14,55.5,55.5,null,null,0,null,null,0,1.8018018018018018E-2,14,{"$f":"IF(W94<31,AVERAGE(OFFSET(INDEX('Points team et quota finales'!$C$5:$C$34,W94),0,0,COUNTIF($W$6:$W$102,W94))),0)","v":10.647058823529411}]
[14,null,null,null,null,null,0,14,55.5,null,null,0,14,55.5,55.5,null,null,0,null,null,0,1.8018018018018018E-2,14,{"$f":"IF(W95<31,AVERAGE(OFFSET(INDEX('Points team et quota finales'!$C$5:$C$34,W95),0,0,COUNTIF($W$6:$W$102,W95))),0)","v":10.647058823529411}]
[14,null,null,null,null,null,0,14,55.5,null,null,0,14,55.5,55.5,null,null,0,null,null,0,1.8018018018018018E-2,14,{"$f":"IF(W96<31,AVERAGE(OFFSET(INDEX('Points team et quota finales'!$C$5:$C$34,W96),0,0,COUNTIF($W$6:$W$102,W96))),0)","v":10.647058823529411}]
[14,null,null,null,null,null,0,14,55.5,null,null,0,14,55.5,55.5,null,null,0,null,null,0,1.8018018018018018E-2,14,{"$f":"IF(W97<31,AVERAGE(OFFSET(INDEX('Points team et quota finales'!$C$5:$C$34,W97),0,0,COUNTIF($W$6:$W$102,W97))),0)","v":10.647058823529411}]
[14,null,null,null,null,null,0,14,55.5,null,null,0,14,55.5,55.5,null,null,0,null,null,0,1.8018018018018018E-2,14,{"$f":"IF(W98<31,AVERAGE(OFFSET(INDEX('Points team et quota finales'!$C$5:$C$34,W98),0,0,COUNTIF($W$6:$W$102,W98))),0)","v":10.647058823529411}]
[14,null,null,null,null,null,0,14,55.5,null,null,0,14,55.5,55.5,null,null,0,null,null,0,1.8018018018018018E-2,14,{"$f":"IF(W99<31,AVERAGE(OFFSET(INDEX('Points team et quota finales'!$C$5:$C$34,W99),0,0,COUNTIF($W$6:$W$102,W99))),0)","v":10.647058823529411}]
[14,null,null,null,null,null,0,14,55.5,null,null,0,14,55.5,55.5,null,null,0,null,null,0,1.8018018018018018E-2,14,{"$f":"IF(W100<31,AVERAGE(OFFSET(INDEX('Points team et quota finales'!$C$5:$C$34,W100),0,0,COUNTIF($W$6:$W$102,W100))),0)","v":10.647058823529411}]
[14,null,null,null,null,null,0,14,55.5,null,null,0,14,55.5,55.5,null,null,0,null,null,0,1.8018018018018018E-2,14,{"$f":"IF(W101<31,AVERAGE(OFFSET(INDEX('Points team et quota finales'!$C$5:$C$34,W101),0,0,COUNTIF($W$6:$W$102,W101))),0)","v":10.647058823529411}]
[14,null,null,null,null,null,{"$f":"IF(E102=\"TOP\",$F$105,IF(F102=\"-\",E102-0.01,IF(F102=\"+\",E102+0.01,E102)))","v":0},{"$f":"RANK(G102,$G$6:$G$102)","v":14},{"$f":"IF(COUNTIF($H$6:$H$102,H102)=1,H102,(H102*2+COUNTIF($H$6:$H$102,H102)-1)/2)","v":55.5},null,null,{"$f":"IF(J102=\"TOP\",$K$105,IF(K102=\"-\",J102-0.01,IF(K102=\"+\",J102+0.01,J102)))","v":0},{"$f":"RANK(L102,$L$6:$L$102)","v":14},{"$f":"IF(COUNTIF($M$6:$M$102,M102)=1,M102,(M102*2+COUNTIF($M$6:$M$102,M102)-1)/2)","v":55.5},{"$f":"SQRT(I102*N102)","v":55.5},null,null,{"$f":"IF(P102=\"TOP\",$Q$105,IF(Q102=\"-\",P102-0.01,IF(Q102=\"+\",P102+0.01,P102)))","v":0},null,null,0,{"$f":"IF(U102<>0,U102*1000+R102*100+1/O102,IF(R102<>0,R102*100+1/O102,1/O102))","v":1.8018018018018018E-2},14,{"$f":"IF(W102<31,AVERAGE(OFFSET(INDEX('Points team et quota finales'!$C$5:$C$34,W102),0,0,COUNTIF($W$6:$W$102,W102))),0)","v":10.647058823529411}]
[]
[]
[null,null,null,null,"Top =",38,null,null,null,"Top = ",42,null,null,null,null,"Top =",49,null,"Top ="]
[null,{"$f":"CONCATENATE(\"Jury President: \",General!$B$6)","v":"Jury President: Lieven Vlassenroot"}]
[]
[null,"Appeal until :"]

{"sheet":"BM","index":9,"n_rows":109,"n_cols":24,"rows_kept":109,"cut":false,"hidden":false,"merged":[[1,0,1,22],[4,4,4,7],[4,9,4,12],[4,15,4,17],[4,18,4,20]]}
[]
[{"$f":"CONCATENATE(General!$B$5,\"  -  RESULTS B Male\")","v":"Youth Lead Championship 09-03-2013  -  RESULTS B Male"}]
[]
[]
["RANK","Nr","Name","Team","Route 1",null,null,null,"Ranking Points Route 1","Route 2",null,null,null,"Ranking Points Route 2","Root R1 x R2 ","Final ",null,null,"Super Final",null,null,"base pour calcul rang","RANK","Team points"]
[{"$f":"RANK(V6,$V$6:$V$103)","v":1},"BM02","COLLIN Nicolas","STC","TOP",null,{"$f":"IF(E6=\"TOP\",$F$106,IF(F6=\"-\",E6-0.01,IF(F6=\"+\",E6+0.01,E6)))","v":42},{"$f":"RANK(G6,$G$6:$G$103)","v":1},{"$f":"IF(COUNTIF($H$6:$H$103,H6)=1,H6,(H6*2+COUNTIF($H$6:$H$103,H6)-1)/2)","v":3},27,null,{"$f":"IF(J6=\"TOP\",$K$106,IF(K6=\"-\",J6-0.01,IF(K6=\"+\",J6+0.01,J6)))","v":27},{"$f":"RANK(L6,$L$6:$L$103)","v":2},{"$f":"IF(COUNTIF($M$6:$M$103,M6)=1,M6,(M6*2+COUNTIF($M$6:$M$103,M6)-1)/2)","v":2.5},{"$f":"SQRT(I6*N6)","v":2.7386127875258306},"TOP",null,{"$f":"IF(P6=\"TOP\",$Q$106,IF(Q6=\"-\",P6-0.01,IF(Q6=\"+\",P6+0.01,P6)))","v":33},null,null,{"$f":"IF($S6=\"TOP\",$T$106,IF($T6=\"-\",$S6-0.01,IF($T6=\"+\",$S6+0.01,$S6)))","v":0},{"$f":"IF(U6<>0,U6*1000+R6*100+1/O6,IF(R6<>0,R6*100+1/O6,1/O6))","v":3300.3651483716703},{"$f":"A6","v":1},{"$f":"IF(W6<31,AVERAGE(OFFSET(INDEX('Points team et quota finales'!$C$5:$C$34,W6),0,0,COUNTIF($W$6:$W$103,W6))),0)","v":100}]
[2,"BM08","ANSION Arnaud","ESC","TOP",null,42,1,3,27,null,27,2,2.5,2.7386127875258306,31,null,31,null,null,0,3100.3651483716703,2,{"$f":"IF(W7<31,AVERAGE(OFFSET(INDEX('Points team et quota finales'!$C$5:$C$34,W7),0,0,COUNTIF($W$6:$W$103,W7))),0)","v":80}]
[3,"BM15","MATHEYS Merlin","ESC","TOP",null,42,1,3,"TOP",null,30,1,1,1.7320508075688772,29,"+",29.01,null,null,0,2901.5773502691895,3,{"$f":"IF(W8<31,AVERAGE(OFFSET(INDEX('Points team et quota finales'!$C$5:$C$34,W8),0,0,COUNTIF($W$6:$W$103,W8))),0)","v":65}]
[4,"BM05","LEMPEREUR Sven","REJ",39,null,39,7,7,21,null,21,9,9.5,8.1547532151500448,26,"+",26.01,null,null,0,2601.1226278678969,4,{"$f":"IF(W9<31,AVERAGE(OFFSET(INDEX('Points team et quota finales'!$C$5:$C$34,W9),0,0,COUNTIF($W$6:$W$103,W9))),0)","v":55}]
[5,"BM01","ANTOINE Dylan","ESC","TOP",null,42,1,3,26,null,26,4,4,3.4641016151377544,26,null,26,null,null,0,2600.288675134595,5,{"$f":"IF(W10<31,AVERAGE(OFFSET(INDEX('Points team et quota finales'!$C$5:$C$34,W10),0,0,COUNTIF($W$6:$W$103,W10))),0)","v":51}]
[6,"BM11","RAUCQ Benoit","ESC","TOP",null,42,1,3,23,"+",23.01,6,6,4.2426406871192848,21,"+",21.01,null,null,0,2101.2357022603956,6,{"$f":"IF(W11<31,AVERAGE(OFFSET(INDEX('Points team et quota finales'!$C$5:$C$34,W11),0,0,COUNTIF($W$6:$W$103,W11))),0)","v":47}]
[7,"BM10","LEMIERE Nils","KLI",37,"+",37.01,8,8,25,"+",25.01,5,5,6.324555320336759,16,"+",16.010000000000002,null,null,0,1601.1581138830086,7,{"$f":"IF(W12<31,AVERAGE(OFFSET(INDEX('Points team et quota finales'!$C$5:$C$34,W12),0,0,COUNTIF($W$6:$W$103,W12))),0)","v":43}]
[8,"BM12","CAVIOLA Sebastien","GT",39,"+",39.01,6,6,19,"+",19.010000000000002,12,12,8.4852813742385695,16,null,16,null,null,0,1600.1178511301978,8,{"$f":"IF(W13<31,AVERAGE(OFFSET(INDEX('Points team et quota finales'!$C$5:$C$34,W13),0,0,COUNTIF($W$6:$W$103,W13))),0)","v":40}]
[9,"BM09","LUYPAERT Arno","KLI",30,"+",30.01,9,10,23,null,23,7,7.5,8.6602540378443873,null,null,0,null,null,0,0.11547005383792514,9,{"$f":"IF(W14<31,AVERAGE(OFFSET(INDEX('Points team et quota finales'!$C$5:$C$34,W14),0,0,COUNTIF($W$6:$W$103,W14))),0)","v":37}]
[10,"BM18","STEVENS Nicolas","KLI",30,"+",30.01,9,10,21,null,21,9,9.5,9.7467943448089631,null,null,0,null,null,0,0.10259783520851541,10,{"$f":"IF(W15<31,AVERAGE(OFFSET(INDEX('Points team et quota finales'!$C$5:$C$34,W15),0,0,COUNTIF($W$6:$W$103,W15))),0)","v":34}]
[11,"BM03","LORENT Sam","CC",21,"+",21.01,14,14,23,null,23,7,7.5,10.246950765959598,null,null,0,null,null,0,9.7590007294853329E-2,11,{"$f":"IF(W16<31,AVERAGE(OFFSET(INDEX('Points team et quota finales'!$C$5:$C$34,W16),0,0,COUNTIF($W$6:$W$103,W16))),0)","v":31}]
[12,"BM17","ROSOUX Noé","GT",30,null,30,12,12.5,19.5,"+",19.510000000000002,11,11,11.726039399558575,null,null,0,null,null,0,8.5280286542244163E-2,12,{"$f":"IF(W17<31,AVERAGE(OFFSET(INDEX('Points team et quota finales'!$C$5:$C$34,W17),0,0,COUNTIF($W$6:$W$103,W17))),0)","v":28}]
[13,"BM16","INGHELRAM Lander","HUN",30,"+",30.01,9,10,9,"+",9.01,15,15.5,12.449899597988733,null,null,0,null,null,0,8.0321932890249886E-2,13,{"$f":"IF(W18<31,AVERAGE(OFFSET(INDEX('Points team et quota finales'!$C$5:$C$34,W18),0,0,COUNTIF($W$6:$W$103,W18))),0)","v":26}]
[14,"BM04","DALOZE Raphaël","CC",30,null,30,12,12.5,10,null,10,14,14,13.228756555322953,null,null,0,null,null,0,7.5592894601845442E-2,14,{"$f":"IF(W19<31,AVERAGE(OFFSET(INDEX('Points team et quota finales'!$C$5:$C$34,W19),0,0,COUNTIF($W$6:$W$103,W19))),0)","v":24}]
[15,"BM07","WINAND François","ARE",20,null,20,15,15,11,null,11,13,13,13.964240043768941,null,null,0,null,null,0,7.1611487403943297E-2,15,{"$f":"IF(W20<31,AVERAGE(OFFSET(INDEX('Points team et quota finales'!$C$5:$C$34,W20),0,0,COUNTIF($W$6:$W$103,W20))),0)","v":22}]
[16,"BM13","BOULLE Benjamin","STC",18,null,18,16,16,9,"+",9.01,15,15.5,15.748015748023622,null,null,0,null,null,0,6.3500063500095252E-2,16,{"$f":"IF(W21<31,AVERAGE(OFFSET(INDEX('Points team et quota finales'!$C$5:$C$34,W21),0,0,COUNTIF($W$6:$W$103,W21))),0)","v":20}]
[17,null,null,null,null,null,0,17,57.5,null,null,0,17,57.5,57.5,null,null,0,null,null,0,1.7391304347826087E-2,17,{"$f":"IF(W22<31,AVERAGE(OFFSET(INDEX('Points team et quota finales'!$C$5:$C$34,W22),0,0,COUNTIF($W$6:$W$103,W22))),0)","v":8.2142857142857135}]
[17,null,null,null,null,null,0,17,57.5,null,null,0,17,57.5,57.5,null,null,0,null,null,0,1.7391304347826087E-2,17,{"$f":"IF(W23<31,AVERAGE(OFFSET(INDEX('Points team et quota finales'!$C$5:$C$34,W23),0,0,COUNTIF($W$6:$W$103,W23))),0)","v":8.2142857142857135}]
[17,null,null,null,null,null,0,17,57.5,null,null,0,17,57.5,57.5,null,null,0,null,null,0,1.7391304347826087E-2,17,{"$f":"IF(W24<31,AVERAGE(OFFSET(INDEX('Points team et quota finales'!$C$5:$C$34,W24),0,0,COUNTIF($W$6:$W$103,W24))),0)","v":8.2142857142857135}]
[17,null,null,null,null,null,0,17,57.5,null,null,0,17,57.5,57.5,null,null,0,null,null,0,1.7391304347826087E-2,17,{"$f":"IF(W25<31,AVERAGE(OFFSET(INDEX('Points team et quota finales'!$C$5:$C$34,W25),0,0,COUNTIF($W$6:$W$103,W25))),0)","v":8.2142857142857135}]
[17,null,null,null,null,null,0,17,57.5,null,null,0,17,57.5,57.5,null,null,0,null,null,0,1.7391304347826087E-2,17,{"$f":"IF(W26<31,AVERAGE(OFFSET(INDEX('Points team et quota finales'!$C$5:$C$34,W26),0,0,COUNTIF($W$6:$W$103,W26))),0)","v":8.2142857142857135}]
[17,null,null,null,null,null,0,17,57.5,null,null,0,17,57.5,57.5,null,null,0,null,null,0,1.7391304347826087E-2,17,{"$f":"IF(W27<31,AVERAGE(OFFSET(INDEX('Points team et quota finales'!$C$5:$C$34,W27),0,0,COUNTIF($W$6:$W$103,W27))),0)","v":8.2142857142857135}]
[17,null,null,null,null,null,0,17,57.5,null,null,0,17,57.5,57.5,null,null,0,null,null,0,1.7391304347826087E-2,17,{"$f":"IF(W28<31,AVERAGE(OFFSET(INDEX('Points team et quota finales'!$C$5:$C$34,W28),0,0,COUNTIF($W$6:$W$103,W28))),0)","v":8.2142857142857135}]
[17,null,null,null,null,null,0,17,57.5,null,null,0,17,57.5,57.5,null,null,0,null,null,0,1.7391304347826087E-2,17,{"$f":"IF(W29<31,AVERAGE(OFFSET(INDEX('Points team et quota finales'!$C$5:$C$34,W29),0,0,COUNTIF($W$6:$W$103,W29))),0)","v":8.2142857142857135}]
[17,null,null,null,null,null,0,17,57.5,null,null,0,17,57.5,57.5,null,null,0,null,null,0,1.7391304347826087E-2,17,{"$f":"IF(W30<31,AVERAGE(OFFSET(INDEX('Points team et quota finales'!$C$5:$C$34,W30),0,0,COUNTIF($W$6:$W$103,W30))),0)","v":8.2142857142857135}]
[17,null,null,null,null,null,0,17,57.5,null,null,0,17,57.5,57.5,null,null,0,null,null,0,1.7391304347826087E-2,17,{"$f":"IF(W31<31,AVERAGE(OFFSET(INDEX('Points team et quota finales'!$C$5:$C$34,W31),0,0,COUNTIF($W$6:$W$103,W31))),0)","v":8.2142857142857135}]
[17,null,null,null,null,null,0,17,57.5,null,null,0,17,57.5,57.5,null,null,0,null,null,0,1.7391304347826087E-2,17,{"$f":"IF(W32<31,AVERAGE(OFFSET(INDEX('Points team et quota finales'!$C$5:$C$34,W32),0,0,COUNTIF($W$6:$W$103,W32))),0)","v":8.2142857142857135}]
[17,null,null,null,null,null,0,17,57.5,null,null,0,17,57.5,57.5,null,null,0,null,null,0,1.7391304347826087E-2,17,{"$f":"IF(W33<31,AVERAGE(OFFSET(INDEX('Points team et quota finales'!$C$5:$C$34,W33),0,0,COUNTIF($W$6:$W$103,W33))),0)","v":8.2142857142857135}]
[17,null,null,null,null,null,0,17,57.5,null,null,0,17,57.5,57.5,null,null,0,null,null,0,1.7391304347826087E-2,17,{"$f":"IF(W34<31,AVERAGE(OFFSET(INDEX('Points team et quota finales'!$C$5:$C$34,W34),0,0,COUNTIF($W$6:$W$103,W34))),0)","v":8.2142857142857135}]
[17,null,null,null,null,null,0,17,57.5,null,null,0,17,57.5,57.5,null,null,0,null,null,0,1.7391304347826087E-2,17,{"$f":"IF(W35<31,AVERAGE(OFFSET(INDEX('Points team et quota finales'!$C$5:$C$34,W35),0,0,COUNTIF($W$6:$W$103,W35))),0)","v":8.2142857142857135}]
[17,null,null,null,null,null,0,17,57.5,null,null,0,17,57.5,57.5,null,null,0,null,null,0,1.7391304347826087E-2,17,{"$f":"IF(W36<31,AVERAGE(OFFSET(INDEX('Points team et quota finales'!$C$5:$C$34,W36),0,0,COUNTIF($W$6:$W$103,W36))),0)","v":8.2142857142857135}]
[17,null,null,null,null,null,0,17,57.5,null,null,0,17,57.5,57.5,null,null,0,null,null,0,1.7391304347826087E-2,17,{"$f":"IF(W37<31,AVERAGE(OFFSET(INDEX('Points team et quota finales'!$C$5:$C$34,W37),0,0,COUNTIF($W$6:$W$103,W37))),0)","v":8.2142857142857135}]
[{"$f":"RANK(V38,$V$6:$V$103)","v":17},null,null,null,null,null,{"$f":"IF(E38=\"TOP\",$F$106,IF(F38=\"-\",E38-0.01,IF(F38=\"+\",E38+0.01,E38)))","v":0},{"$f":"RANK(G38,$G$6:$G$103)","v":17},{"$f":"IF(COUNTIF($H$6:$H$103,H38)=1,H38,(H38*2+COUNTIF($H$6:$H$103,H38)-1)/2)","v":57.5},null,null,{"$f":"IF(J38=\"TOP\",$K$106,IF(K38=\"-\",J38-0.01,IF(K38=\"+\",J38+0.01,J38)))","v":0},{"$f":"RANK(L38,$L$6:$L$103)","v":17},{"$f":"IF(COUNTIF($M$6:$M$103,M38)=1,M38,(M38*2+COUNTIF($M$6:$M$103,M38)-1)/2)","v":57.5},{"$f":"SQRT(I38*N38)","v":57.5},null,null,{"$f":"IF(P38=\"TOP\",$Q$106,IF(Q38=\"-\",P38-0.01,IF(Q38=\"+\",P38+0.01,P38)))","v":0},null,null,{"$f":"IF($S38=\"TOP\",$T$106,IF($T38=\"-\",$S38-0.01,IF($T38=\"+\",$S38+0.01,$S38)))","v":0},{"$f":"IF(U38<>0,U38*1000+R38*100+1/O38,IF(R38<>0,R38*100+1/O38,1/O38))","v":1.7391304347826087E-2},17,{"$f":"IF(W38<31,AVERAGE(OFFSET(INDEX('Points team et quota finales'!$C$5:$C$34,W38),0,0,COUNTIF($W$6:$W$103,W38))),0)","v":8.2142857142857135}]
[17,null,null,null,null,null,0,17,57.5,null,null,0,17,57.5,57.5,null,null,0,null,null,0,1.7391304347826087E-2,17,{"$f":"IF(W39<31,AVERAGE(OFFSET(INDEX('Points team et quota finales'!$C$5:$C$34,W39),0,0,COUNTIF($W$6:$W$103,W39))),0)","v":8.2142857142857135}]
[17,null,null,null,null,null,0,17,57.5,null,null,0,17,57.5,57.5,null,null,0,null,null,0,1.7391304347826087E-2,17,{"$f":"IF(W40<31,AVERAGE(OFFSET(INDEX('Points team et quota finales'!$C$5:$C$34,W40),0,0,COUNTIF($W$6:$W$103,W40))),0)","v":8.2142857142857135}]
[17,null,null,null,null,null,0,17,57.5,null,null,0,17,57.5,57.5,null,null,0,null,null,0,1.7391304347826087E-2,17,{"$f":"IF(W41<31,AVERAGE(OFFSET(INDEX('Points team et quota finales'!$C$5:$C$34,W41),0,0,COUNTIF($W$6:$W$103,W41))),0)","v":8.2142857142857135}]
[17,null,null,null,null,null,0,17,57.5,null,null,0,17,57.5,57.5,null,null,0,null,null,0,1.7391304347826087E-2,17,{"$f":"IF(W42<31,AVERAGE(OFFSET(INDEX('Points team et quota finales'!$C$5:$C$34,W42),0,0,COUNTIF($W$6:$W$103,W42))),0)","v":8.2142857142857135}]
[17,null,null,null,null,null,0,17,57.5,null,null,0,17,57.5,57.5,null,null,0,null,null,0,1.7391304347826087E-2,17,{"$f":"IF(W43<31,AVERAGE(OFFSET(INDEX('Points team et quota finales'!$C$5:$C$34,W43),0,0,COUNTIF($W$6:$W$103,W43))),0)","v":8.2142857142857135}]
[17,null,null,null,null,null,0,17,57.5,null,null,0,17,57.5,57.5,null,null,0,null,null,0,1.7391304347826087E-2,17,{"$f":"IF(W44<31,AVERAGE(OFFSET(INDEX('Points team et quota finales'!$C$5:$C$34,W44),0,0,COUNTIF($W$6:$W$103,W44))),0)","v":8.2142857142857135}]
[17,null,null,null,null,null,0,17,57.5,null,null,0,17,57.5,57.5,null,null,0,null,null,0,1.7391304347826087E-2,17,{"$f":"IF(W45<31,AVERAGE(OFFSET(INDEX('Points team et quota finales'!$C$5:$C$34,W45),0,0,COUNTIF($W$6:$W$103,W45))),0)","v":8.2142857142857135}]
[17,null,null,null,null,null,0,17,57.5,null,null,0,17,57.5,57.5,null,null,0,null,null,0,1.7391304347826087E-2,17,{"$f":"IF(W46<31,AVERAGE(OFFSET(INDEX('Points team et quota finales'!$C$5:$C$34,W46),0,0,COUNTIF($W$6:$W$103,W46))),0)","v":8.2142857142857135}]
[17,null,null,null,null,null,0,17,57.5,null,null,0,17,57.5,57.5,null,null,0,null,null,0,1.7391304347826087E-2,17,{"$f":"IF(W47<31,AVERAGE(OFFSET(INDEX('Points team et quota finales'!$C$5:$C$34,W47),0,0,COUNTIF($W$6:$W$103,W47))),0)","v":8.2142857142857135}]
[17,null,null,null,null,null,0,17,57.5,null,null,0,17,57.5,57.5,null,null,0,null,null,0,1.7391304347826087E-2,17,{"$f":"IF(W48<31,AVERAGE(OFFSET(INDEX('Points team et quota finales'!$C$5:$C$34,W48),0,0,COUNTIF($W$6:$W$103,W48))),0)","v":8.2142857142857135}]
[17,null,null,null,null,null,0,17,57.5,null,null,0,17,57.5,57.5,null,null,0,null,null,0,1.7391304347826087E-2,17,{"$f":"IF(W49<31,AVERAGE(OFFSET(INDEX('Points team et quota finales'!$C$5:$C$34,W49),0,0,COUNTIF($W$6:$W$103,W49))),0)","v":8.2142857142857135}]
[17,null,null,null,null,null,0,17,57.5,null,null,0,17,57.5,57.5,null,null,0,null,null,0,1.7391304347826087E-2,17,{"$f":"IF(W50<31,AVERAGE(OFFSET(INDEX('Points team et quota finales'!$C$5:$C$34,W50),0,0,COUNTIF($W$6:$W$103,W50))),0)","v":8.2142857142857135}]
[17,null,null,null,null,null,0,17,57.5,null,null,0,17,57.5,57.5,null,null,0,null,null,0,1.7391304347826087E-2,17,{"$f":"IF(W51<31,AVERAGE(OFFSET(INDEX('Points team et quota finales'!$C$5:$C$34,W51),0,0,COUNTIF($W$6:$W$103,W51))),0)","v":8.2142857142857135}]
[17,null,null,null,null,null,0,17,57.5,null,null,0,17,57.5,57.5,null,null,0,null,null,0,1.7391304347826087E-2,17,{"$f":"IF(W52<31,AVERAGE(OFFSET(INDEX('Points team et quota finales'!$C$5:$C$34,W52),0,0,COUNTIF($W$6:$W$103,W52))),0)","v":8.2142857142857135}]
[17,null,null,null,null,null,0,17,57.5,null,null,0,17,57.5,57.5,null,null,0,null,null,0,1.7391304347826087E-2,17,{"$f":"IF(W53<31,AVERAGE(OFFSET(INDEX('Points team et quota finales'!$C$5:$C$34,W53),0,0,COUNTIF($W$6:$W$103,W53))),0)","v":8.2142857142857135}]
[17,null,null,null,null,null,0,17,57.5,null,null,0,17,57.5,57.5,null,null,0,null,null,0,1.7391304347826087E-2,17,{"$f":"IF(W54<31,AVERAGE(OFFSET(INDEX('Points team et quota finales'!$C$5:$C$34,W54),0,0,COUNTIF($W$6:$W$103,W54))),0)","v":8.2142857142857135}]
[17,null,null,null,null,null,0,17,57.5,null,null,0,17,57.5,57.5,null,null,0,null,null,0,1.7391304347826087E-2,17,{"$f":"IF(W55<31,AVERAGE(OFFSET(INDEX('Points team et quota finales'!$C$5:$C$34,W55),0,0,COUNTIF($W$6:$W$103,W55))),0)","v":8.2142857142857135}]
[17,null,null,null,null,null,0,17,57.5,null,null,0,17,57.5,57.5,null,null,0,null,null,0,1.7391304347826087E-2,17,{"$f":"IF(W56<31,AVERAGE(OFFSET(INDEX('Points team et quota finales'!$C$5:$C$34,W56),0,0,COUNTIF($W$6:$W$103,W56))),0)","v":8.2142857142857135}]
[17,null,null,null,null,null,0,17,57.5,null,null,0,17,57.5,57.5,null,null,0,null,null,0,1.7391304347826087E-2,17,{"$f":"IF(W57<31,AVERAGE(OFFSET(INDEX('Points team et quota finales'!$C$5:$C$34,W57),0,0,COUNTIF($W$6:$W$103,W57))),0)","v":8.2142857142857135}]
[17,null,null,null,null,null,0,17,57.5,null,null,0,17,57.5,57.5,null,null,0,null,null,0,1.7391304347826087E-2,17,{"$f":"IF(W58<31,AVERAGE(OFFSET(INDEX('Points team et quota finales'!$C$5:$C$34,W58),0,0,COUNTIF($W$6:$W$103,W58))),0)","v":8.2142857142857135}]
[17,null,null,null,null,null,0,17,57.5,null,null,0,17,57.5,57.5,null,null,0,null,null,0,1.7391304347826087E-2,17,{"$f":"IF(W59<31,AVERAGE(OFFSET(INDEX('Points team et quota finales'!$C$5:$C$34,W59),0,0,COUNTIF($W$6:$W$103,W59))),0)","v":8.2142857142857135}]
[17,null,null,null,null,null,0,17,57.5,null,null,0,17,57.5,57.5,null,null,0,null,null,0,1.7391304347826087E-2,17,{"$f":"IF(W60<31,AVERAGE(OFFSET(INDEX('Points team et quota finales'!$C$5:$C$34,W60),0,0,COUNTIF($W$6:$W$103,W60))),0)","v":8.2142857142857135}]
[17,null,null,null,null,null,0,17,57.5,null,null,0,17,57.5,57.5,null,null,0,null,null,0,1.7391304347826087E-2,17,{"$f":"IF(W61<31,AVERAGE(OFFSET(INDEX('Points team et quota finales'!$C$5:$C$34,W61),0,0,COUNTIF($W$6:$W$103,W61))),0)","v":8.2142857142857135}]
[17,null,null,null,null,null,0,17,57.5,null,null,0,17,57.5,57.5,null,null,0,null,null,0,1.7391304347826087E-2,17,{"$f":"IF(W62<31,AVERAGE(OFFSET(INDEX('Points team et quota finales'!$C$5:$C$34,W62),0,0,COUNTIF($W$6:$W$103,W62))),0)","v":8.2142857142857135}]
[17,null,null,null,null,null,0,17,57.5,null,null,0,17,57.5,57.5,null,null,0,null,null,0,1.7391304347826087E-2,17,{"$f":"IF(W63<31,AVERAGE(OFFSET(INDEX('Points team et quota finales'!$C$5:$C$34,W63),0,0,COUNTIF($W$6:$W$103,W63))),0)","v":8.2142857142857135}]
[17,null,null,null,null,null,0,17,57.5,null,null,0,17,57.5,57.5,null,null,0,null,null,0,1.7391304347826087E-2,17,{"$f":"IF(W64<31,AVERAGE(OFFSET(INDEX('Points team et quota finales'!$C$5:$C$34,W64),0,0,COUNTIF($W$6:$W$103,W64))),0)","v":8.2142857142857135}]
[17,null,null,null,null,null,0,17,57.5,null,null,0,17,57.5,57.5,null,null,0,null,null,0,1.7391304347826087E-2,17,{"$f":"IF(W65<31,AVERAGE(OFFSET(INDEX('Points team et quota finales'!$C$5:$C$34,W65),0,0,COUNTIF($W$6:$W$103,W65))),0)","v":8.2142857142857135}]
[17,null,null,null,null,null,0,17,57.5,null,null,0,17,57.5,57.5,null,null,0,null,null,0,1.7391304347826087E-2,17,{"$f":"IF(W66<31,AVERAGE(OFFSET(INDEX('Points team et quota finales'!$C$5:$C$34,W66),0,0,COUNTIF($W$6:$W$103,W66))),0)","v":8.2142857142857135}]
[17,null,null,null,null,null,0,17,57.5,null,null,0,17,57.5,57.5,null,null,0,null,null,0,1.7391304347826087E-2,17,{"$f":"IF(W67<31,AVERAGE(OFFSET(INDEX('Points team et quota finales'!$C$5:$C$34,W67),0,0,COUNTIF($W$6:$W$103,W67))),0)","v":8.2142857142857135}]
[17,null,null,null,null,null,0,17,57.5,null,null,0,17,57.5,57.5,null,null,0,null,null,0,1.7391304347826087E-2,{"$f":"A68","v":17},{"$f":"IF(W68<31,AVERAGE(OFFSET(INDEX('Points team et quota finales'!$C$5:$C$34,W68),0,0,COUNTIF($W$6:$W$103,W68))),0)","v":8.2142857142857135}]
[17,null,null,null,null,null,0,17,57.5,null,null,0,17,57.5,57.5,null,null,0,null,null,0,1.7391304347826087E-2,17,{"$f":"IF(W69<31,AVERAGE(OFFSET(INDEX('Points team et quota finales'!$C$5:$C$34,W69),0,0,COUNTIF($W$6:$W$103,W69))),0)","v":8.2142857142857135}]
[{"$f":"RANK(V70,$V$6:$V$103)","v":17},null,null,null,null,null,{"$f":"IF(E70=\"TOP\",$F$106,IF(F70=\"-\",E70-0.01,IF(F70=\"+\",E70+0.01,E70)))","v":0},{"$f":"RANK(G70,$G$6:$G$103)","v":17},{"$f":"IF(COUNTIF($H$6:$H$103,H70)=1,H70,(H70*2+COUNTIF($H$6:$H$103,H70)-1)/2)","v":57.5},null,null,{"$f":"IF(J70=\"TOP\",$K$106,IF(K70=\"-\",J70-0.01,IF(K70=\"+\",J70+0.01,J70)))","v":0},{"$f":"RANK(L70,$L$6:$L$103)","v":17},{"$f":"IF(COUNTIF($M$6:$M$103,M70)=1,M70,(M70*2+COUNTIF($M$6:$M$103,M70)-1)/2)","v":57.5},{"$f":"SQRT(I70*N70)","v":57.5},null,null,{"$f":"IF(P70=\"TOP\",$Q$106,IF(Q70=\"-\",P70-0.01,IF(Q70=\"+\",P70+0.01,P70)))","v":0},null,null,{"$f":"IF($S70=\"TOP\",$T$106,IF($T70=\"-\",$S70-0.01,IF($T70=\"+\",$S70+0.01,$S70)))","v":0},{"$f":"IF(U70<>0,U70*1000+R70*100+1/O70,IF(R70<>0,R70*100+1/O70,1/O70))","v":1.7391304347826087E-2},17,{"$f":"IF(W70<31,AVERAGE(OFFSET(INDEX('Points team et quota finales'!$C$5:$C$34,W70),0,0,COUNTIF($W$6:$W$103,W70))),0)","v":8.2142857142857135}]
[17,null,null,null,null,null,0,17,57.5,null,null,0,17,57.5,57.5,null,null,0,null,null,0,1.7391304347826087E-2,17,{"$f":"IF(W71<31,AVERAGE(OFFSET(INDEX('Points team et quota finales'!$C$5:$C$34,W71),0,0,COUNTIF($W$6:$W$103,W71))),0)","v":8.2142857142857135}]
[17,null,null,null,null,null,0,17,57.5,null,null,0,17,57.5,57.5,null,null,0,null,null,0,1.7391304347826087E-2,17,{"$f":"IF(W72<31,AVERAGE(OFFSET(INDEX('Points team et quota finales'!$C$5:$C$34,W72),0,0,COUNTIF($W$6:$W$103,W72))),0)","v":8.2142857142857135}]
[17,null,null,null,null,null,0,17,57.5,null,null,0,17,57.5,57.5,null,null,0,null,null,0,1.7391304347826087E-2,17,{"$f":"IF(W73<31,AVERAGE(OFFSET(INDEX('Points team et quota finales'!$C$5:$C$34,W73),0,0,COUNTIF($W$6:$W$103,W73))),0)","v":8.2142857142857135}]
[17,null,null,null,null,null,0,17,57.5,null,null,0,17,57.5,57.5,null,null,0,null,null,0,1.7391304347826087E-2,17,{"$f":"IF(W74<31,AVERAGE(OFFSET(INDEX('Points team et quota finales'!$C$5:$C$34,W74),0,0,COUNTIF($W$6:$W$103,W74))),0)","v":8.2142857142857135}]
[17,null,null,null,null,null,0,17,57.5,null,null,0,17,57.5,57.5,null,null,0,null,null,0,1.7391304347826087E-2,17,{"$f":"IF(W75<31,AVERAGE(OFFSET(INDEX('Points team et quota finales'!$C$5:$C$34,W75),0,0,COUNTIF($W$6:$W$103,W75))),0)","v":8.2142857142857135}]
[17,null,null,null,null,null,0,17,57.5,null,null,0,17,57.5,57.5,null,null,0,null,null,0,1.7391304347826087E-2,17,{"$f":"IF(W76<31,AVERAGE(OFFSET(INDEX('Points team et quota finales'!$C$5:$C$34,W76),0,0,COUNTIF($W$6:$W$103,W76))),0)","v":8.2142857142857135}]
[17,null,null,null,null,null,0,17,57.5,null,null,0,17,57.5,57.5,null,null,0,null,null,0,1.7391304347826087E-2,17,{"$f":"IF(W77<31,AVERAGE(OFFSET(INDEX('Points team et quota finales'!$C$5:$C$34,W77),0,0,COUNTIF($W$6:$W$103,W77))),0)","v":8.2142857142857135}]
[17,null,null,null,null,null,0,17,57.5,null,null,0,17,57.5,57.5,null,null,0,null,null,0,1.7391304347826087E-2,17,{"$f":"IF(W78<31,AVERAGE(OFFSET(INDEX('Points team et quota finales'!$C$5:$C$34,W78),0,0,COUNTIF($W$6:$W$103,W78))),0)","v":8.2142857142857135}]
[17,null,null,null,null,null,0,17,57.5,null,null,0,17,57.5,57.5,null,null,0,null,null,0,1.7391304347826087E-2,17,{"$f":"IF(W79<31,AVERAGE(OFFSET(INDEX('Points team et quota finales'!$C$5:$C$34,W79),0,0,COUNTIF($W$6:$W$103,W79))),0)","v":8.2142857142857135}]
[17,null,null,null,null,null,0,17,57.5,null,null,0,17,57.5,57.5,null,null,0,null,null,0,1.7391304347826087E-2,17,{"$f":"IF(W80<31,AVERAGE(OFFSET(INDEX('Points team et quota finales'!$C$5:$C$34,W80),0,0,COUNTIF($W$6:$W$103,W80))),0)","v":8.2142857142857135}]
[17,null,null,null,null,null,0,17,57.5,null,null,0,17,57.5,57.5,null,null,0,null,null,0,1.7391304347826087E-2,17,{"$f":"IF(W81<31,AVERAGE(OFFSET(INDEX('Points team et quota finales'!$C$5:$C$34,W81),0,0,COUNTIF($W$6:$W$103,W81))),0)","v":8.2142857142857135}]
[17,null,null,null,null,null,0,17,57.5,null,null,0,17,57.5,57.5,null,null,0,null,null,0,1.7391304347826087E-2,17,{"$f":"IF(W82<31,AVERAGE(OFFSET(INDEX('Points team et quota finales'!$C$5:$C$34,W82),0,0,COUNTIF($W$6:$W$103,W82))),0)","v":8.2142857142857135}]
[17,null,null,null,null,null,0,17,57.5,null,null,0,17,57.5,57.5,null,null,0,null,null,0,1.7391304347826087E-2,17,{"$f":"IF(W83<31,AVERAGE(OFFSET(INDEX('Points team et quota finales'!$C$5:$C$34,W83),0,0,COUNTIF($W$6:$W$103,W83))),0)","v":8.2142857142857135}]
[17,null,null,null,null,null,0,17,57.5,null,null,0,17,57.5,57.5,null,null,0,null,null,0,1.7391304347826087E-2,17,{"$f":"IF(W84<31,AVERAGE(OFFSET(INDEX('Points team et quota finales'!$C$5:$C$34,W84),0,0,COUNTIF($W$6:$W$103,W84))),0)","v":8.2142857142857135}]
[17,null,null,null,null,null,0,17,57.5,null,null,0,17,57.5,57.5,null,null,0,null,null,0,1.7391304347826087E-2,17,{"$f":"IF(W85<31,AVERAGE(OFFSET(INDEX('Points team et quota finales'!$C$5:$C$34,W85),0,0,COUNTIF($W$6:$W$103,W85))),0)","v":8.2142857142857135}]
[17,null,null,null,null,null,0,17,57.5,null,null,0,17,57.5,57.5,null,null,0,null,null,0,1.7391304347826087E-2,17,{"$f":"IF(W86<31,AVERAGE(OFFSET(INDEX('Points team et quota finales'!$C$5:$C$34,W86),0,0,COUNTIF($W$6:$W$103,W86))),0)","v":8.2142857142857135}]
[17,null,null,null,null,null,0,17,57.5,null,null,0,17,57.5,57.5,null,null,0,null,null,0,1.7391304347826087E-2,17,{"$f":"IF(W87<31,AVERAGE(OFFSET(INDEX('Points team et quota finales'!$C$5:$C$34,W87),0,0,COUNTIF($W$6:$W$103,W87))),0)","v":8.2142857142857135}]
[17,null,null,null,null,null,0,17,57.5,null,null,0,17,57.5,57.5,null,null,0,null,null,0,1.7391304347826087E-2,17,{"$f":"IF(W88<31,AVERAGE(OFFSET(INDEX('Points team et quota finales'!$C$5:$C$34,W88),0,0,COUNTIF($W$6:$W$103,W88))),0)","v":8.2142857142857135}]
[17,null,null,null,null,null,0,17,57.5,null,null,0,17,57.5,57.5,null,null,0,null,null,0,1.7391304347826087E-2,17,{"$f":"IF(W89<31,AVERAGE(OFFSET(INDEX('Points team et quota finales'!$C$5:$C$34,W89),0,0,COUNTIF($W$6:$W$103,W89))),0)","v":8.2142857142857135}]
[17,null,null,null,null,null,0,17,57.5,null,null,0,17,57.5,57.5,null,null,0,null,null,0,1.7391304347826087E-2,17,{"$f":"IF(W90<31,AVERAGE(OFFSET(INDEX('Points team et quota finales'!$C$5:$C$34,W90),0,0,COUNTIF($W$6:$W$103,W90))),0)","v":8.2142857142857135}]
[17,null,null,null,null,null,0,17,57.5,null,null,0,17,57.5,57.5,null,null,0,null,null,0,1.7391304347826087E-2,17,{"$f":"IF(W91<31,AVERAGE(OFFSET(INDEX('Points team et quota finales'!$C$5:$C$34,W91),0,0,COUNTIF($W$6:$W$103,W91))),0)","v":8.2142857142857135}]
[17,null,null,null,null,null,0,17,57.5,null,null,0,17,57.5,57.5,null,null,0,null,null,0,1.7391304347826087E-2,17,{"$f":"IF(W92<31,AVERAGE(OFFSET(INDEX('Points team et quota finales'!$C$5:$C$34,W92),0,0,COUNTIF($W$6:$W$103,W92))),0)","v":8.2142857142857135}]
[17,null,null,null,null,null,0,17,57.5,null,null,0,17,57.5,57.5,null,null,0,null,null,0,1.7391304347826087E-2,17,{"$f":"IF(W93<31,AVERAGE(OFFSET(INDEX('Points team et quota finales'!$C$5:$C$34,W93),0,0,COUNTIF($W$6:$W$103,W93))),0)","v":8.2142857142857135}]
[17,null,null,null,null,null,0,17,57.5,null,null,0,17,57.5,57.5,null,null,0,null,null,0,1.7391304347826087E-2,17,{"$f":"IF(W94<31,AVERAGE(OFFSET(INDEX('Points team et quota finales'!$C$5:$C$34,W94),0,0,COUNTIF($W$6:$W$103,W94))),0)","v":8.2142857142857135}]
[17,null,null,null,null,null,0,17,57.5,null,null,0,17,57.5,57.5,null,null,0,null,null,0,1.7391304347826087E-2,17,{"$f":"IF(W95<31,AVERAGE(OFFSET(INDEX('Points team et quota finales'!$C$5:$C$34,W95),0,0,COUNTIF($W$6:$W$103,W95))),0)","v":8.2142857142857135}]
[17,null,null,null,null,null,0,17,57.5,null,null,0,17,57.5,57.5,null,null,0,null,null,0,1.7391304347826087E-2,17,{"$f":"IF(W96<31,AVERAGE(OFFSET(INDEX('Points team et quota finales'!$C$5:$C$34,W96),0,0,COUNTIF($W$6:$W$103,W96))),0)","v":8.2142857142857135}]
[17,null,null,null,null,null,0,17,57.5,null,null,0,17,57.5,57.5,null,null,0,null,null,0,1.7391304347826087E-2,17,{"$f":"IF(W97<31,AVERAGE(OFFSET(INDEX('Points team et quota finales'!$C$5:$C$34,W97),0,0,COUNTIF($W$6:$W$103,W97))),0)","v":8.2142857142857135}]
[17,null,null,null,null,null,0,17,57.5,null,null,0,17,57.5,57.5,null,null,0,null,null,0,1.7391304347826087E-2,17,{"$f":"IF(W98<31,AVERAGE(OFFSET(INDEX('Points team et quota finales'!$C$5:$C$34,W98),0,0,COUNTIF($W$6:$W$103,W98))),0)","v":8.2142857142857135}]
[17,null,null,null,null,null,0,17,57.5,null,null,0,17,57.5,57.5,null,null,0,null,null,0,1.7391304347826087E-2,17,{"$f":"IF(W99<31,AVERAGE(OFFSET(INDEX('Points team et quota finales'!$C$5:$C$34,W99),0,0,COUNTIF($W$6:$W$103,W99))),0)","v":8.2142857142857135}]
[17,null,null,null,null,null,0,17,57.5,null,null,0,17,57.5,57.5,null,null,0,null,null,0,1.7391304347826087E-2,17,{"$f":"IF(W100<31,AVERAGE(OFFSET(INDEX('Points team et quota finales'!$C$5:$C$34,W100),0,0,COUNTIF($W$6:$W$103,W100))),0)","v":8.2142857142857135}]
[17,null,null,null,null,null,0,17,57.5,null,null,0,17,57.5,57.5,null,null,0,null,null,0,1.7391304347826087E-2,17,{"$f":"IF(W101<31,AVERAGE(OFFSET(INDEX('Points team et quota finales'!$C$5:$C$34,W101),0,0,COUNTIF($W$6:$W$103,W101))),0)","v":8.2142857142857135}]
[17,null,null,null,null,null,{"$f":"IF(E102=\"TOP\",$F$106,IF(F102=\"-\",E102-0.01,IF(F102=\"+\",E102+0.01,E102)))","v":0},{"$f":"RANK(G102,$G$6:$G$103)","v":17},{"$f":"IF(COUNTIF($H$6:$H$103,H102)=1,H102,(H102*2+COUNTIF($H$6:$H$103,H102)-1)/2)","v":57.5},null,null,{"$f":"IF(J102=\"TOP\",$K$106,IF(K102=\"-\",J102-0.01,IF(K102=\"+\",J102+0.01,J102)))","v":0},{"$f":"RANK(L102,$L$6:$L$103)","v":17},{"$f":"IF(COUNTIF($M$6:$M$103,M102)=1,M102,(M102*2+COUNTIF($M$6:$M$103,M102)-1)/2)","v":57.5},{"$f":"SQRT(I102*N102)","v":57.5},null,null,{"$f":"IF(P102=\"TOP\",$Q$106,IF(Q102=\"-\",P102-0.01,IF(Q102=\"+\",P102+0.01,P102)))","v":0},null,null,0,{"$f":"IF(U102<>0,U102*1000+R102*100+1/O102,IF(R102<>0,R102*100+1/O102,1/O102))","v":1.7391304347826087E-2},17,{"$f":"IF(W102<31,AVERAGE(OFFSET(INDEX('Points team et quota finales'!$C$5:$C$34,W102),0,0,COUNTIF($W$6:$W$103,W102))),0)","v":8.2142857142857135}]
[17,null,null,null,null,null,0,17,57.5,null,null,0,17,57.5,57.5,null,null,0,null,null,0,1.7391304347826087E-2,17,{"$f":"IF(W103<31,AVERAGE(OFFSET(INDEX('Points team et quota finales'!$C$5:$C$34,W103),0,0,COUNTIF($W$6:$W$103,W103))),0)","v":8.2142857142857135}]
[]
[]
[null,null,null,null,"Top =",42,null,null,null,"Top = ",30,null,null,null,null,"Top =",33,null,"Top ="]
[null,{"$f":"CONCATENATE(\"Jury President: \",General!$B$6)","v":"Jury President: Lieven Vlassenroot"}]
[]
[null,"Appeal until :"]

{"sheet":"AM","index":10,"n_rows":111,"n_cols":24,"rows_kept":111,"cut":false,"hidden":false,"merged":[[1,0,1,22],[4,4,4,7],[4,9,4,12],[4,15,4,17],[4,18,4,20]]}
[]
[{"$f":"CONCATENATE(General!$B$5,\"  -  RESULTS A Male\")","v":"Youth Lead Championship 09-03-2013  -  RESULTS A Male"}]
[]
[]
["RANK","Nr","Name","Team","Route 1",null,null,null,"Ranking Points Route 1","Route 2",null,null,null,"Ranking Points Route 2","Root R1 x R2 ","Final ",null,null,"Super Final",null,null,"base pour calcul rang","RANK","Team points"]
[{"$f":"RANK(V6,$V$6:$V$105)","v":1},"AM08","VANCAYZEELE Nicolas","CC","TOP",null,{"$f":"IF(E6=\"TOP\",$F$108,IF(F6=\"-\",E6-0.01,IF(F6=\"+\",E6+0.01,E6)))","v":28},{"$f":"RANK(G6,$G$6:$G$105)","v":1},{"$f":"IF(COUNTIF($H$6:$H$105,H6)=1,H6,(H6*2+COUNTIF($H$6:$H$105,H6)-1)/2)","v":1.5},27,"+",{"$f":"IF(J6=\"TOP\",$K$108,IF(K6=\"-\",J6-0.01,IF(K6=\"+\",J6+0.01,J6)))","v":27.01},{"$f":"RANK(L6,$L$6:$L$105)","v":1},{"$f":"IF(COUNTIF($M$6:$M$105,M6)=1,M6,(M6*2+COUNTIF($M$6:$M$105,M6)-1)/2)","v":1.5},{"$f":"SQRT(I6*N6)","v":1.5},34,"+",{"$f":"IF(P6=\"TOP\",$Q$108,IF(Q6=\"-\",P6-0.01,IF(Q6=\"+\",P6+0.01,P6)))","v":34.01},null,null,{"$f":"IF($S6=\"TOP\",$T$108,IF($T6=\"-\",$S6-0.01,IF($T6=\"+\",$S6+0.01,$S6)))","v":0},{"$f":"IF(U6<>0,U6*1000+R6*100+1/O6,IF(R6<>0,R6*100+1/O6,1/O6))","v":3401.6666666666665},{"$f":"A6","v":1},{"$f":"IF(W6<31,AVERAGE(OFFSET(INDEX('Points team et quota finales'!$C$5:$C$34,W6),0,0,COUNTIF($W$6:$W$105,W6))),0)","v":100}]
[{"$f":"RANK(V7,$V$6:$V$105)","v":2},"AM04","KLASSEN Jacques","ESC",12,null,12,10,10,25,"+",25.01,4,4,6.324555320336759,31,"+",31.01,null,null,0,3101.1581138830084,2,{"$f":"IF(W7<31,AVERAGE(OFFSET(INDEX('Points team et quota finales'!$C$5:$C$34,W7),0,0,COUNTIF($W$6:$W$105,W7))),0)","v":80}]
[3,"AM01","LORENZI Simon","CC",26,"+",26.01,3,3,27,"+",27.01,1,1.5,2.1213203435596424,29,null,29,null,null,0,2900.4714045207911,3,{"$f":"IF(W8<31,AVERAGE(OFFSET(INDEX('Points team et quota finales'!$C$5:$C$34,W8),0,0,COUNTIF($W$6:$W$105,W8))),0)","v":65}]
[4,"AM10","FRIMOUT William","KLI","TOP",null,28,1,1.5,27,null,27,3,3,2.1213203435596424,28,"+",28.01,null,null,0,2801.4714045207911,4,{"$f":"IF(W9<31,AVERAGE(OFFSET(INDEX('Points team et quota finales'!$C$5:$C$34,W9),0,0,COUNTIF($W$6:$W$105,W9))),0)","v":55}]
[5,"AM02","DAL MASO Léon","CC",23,null,23,4,4,25,null,25,5,5,4.4721359549995796,28,"+",28.01,null,null,0,2801.2236067977501,5,{"$f":"IF(W10<31,AVERAGE(OFFSET(INDEX('Points team et quota finales'!$C$5:$C$34,W10),0,0,COUNTIF($W$6:$W$105,W10))),0)","v":51}]
[6,"AM07","MATHEYS Antoine","ESC",13,null,13,6,6.5,23,null,23,6,6,6.2449979983983983,22,"+",22.01,null,null,0,2201.1601281538051,6,{"$f":"IF(W11<31,AVERAGE(OFFSET(INDEX('Points team et quota finales'!$C$5:$C$34,W11),0,0,COUNTIF($W$6:$W$105,W11))),0)","v":47}]
[7,"AM11","GOURGUE Florian","STC",19,null,19,5,5,13,"+",13.01,8,9.5,6.8920243760451108,17,null,17,null,null,0,1700.145095250022,7,{"$f":"IF(W12<31,AVERAGE(OFFSET(INDEX('Points team et quota finales'!$C$5:$C$34,W12),0,0,COUNTIF($W$6:$W$105,W12))),0)","v":43}]
[8,"AM12","PAREIN Guillaume","CC",13,null,13,6,6.5,14,"+",14.01,7,7,6.7453687816160208,13,"+",13.01,null,null,0,1301.1482498633322,8,{"$f":"IF(W13<31,AVERAGE(OFFSET(INDEX('Points team et quota finales'!$C$5:$C$34,W13),0,0,COUNTIF($W$6:$W$105,W13))),0)","v":40}]
[9,"AM05","DAVISTER Guillaume","STC",12,"+",12.01,8,8.5,13,"+",13.01,8,9.5,8.9861003778057142,null,null,0,null,null,0,0.11128297681493145,9,{"$f":"IF(W14<31,AVERAGE(OFFSET(INDEX('Points team et quota finales'!$C$5:$C$34,W14),0,0,COUNTIF($W$6:$W$105,W14))),0)","v":35.5}]
[9,"AM09","ANDRÉ Guillaume","ESC",12,"+",12.01,8,8.5,13,"+",13.01,8,9.5,8.9861003778057142,null,null,0,null,null,0,0.11128297681493145,9,{"$f":"IF(W15<31,AVERAGE(OFFSET(INDEX('Points team et quota finales'!$C$5:$C$34,W15),0,0,COUNTIF($W$6:$W$105,W15))),0)","v":35.5}]
[11,"AM13","GIELEN Seppe","HUN",9,null,9,12,12,13,"+",13.01,8,9.5,10.677078252031311,null,null,0,null,null,0,9.3658581158169399E-2,11,{"$f":"IF(W16<31,AVERAGE(OFFSET(INDEX('Points team et quota finales'!$C$5:$C$34,W16),0,0,COUNTIF($W$6:$W$105,W16))),0)","v":31}]
[12,"AM06","GERARD Simon","STC",11,null,11,11,11,7,null,7,13,13,11.958260743101398,null,null,0,null,null,0,8.3624201000709081E-2,12,{"$f":"IF(W17<31,AVERAGE(OFFSET(INDEX('Points team et quota finales'!$C$5:$C$34,W17),0,0,COUNTIF($W$6:$W$105,W17))),0)","v":28}]
[13,"AM03","MARGRAFF Nicolas","STC",7,"+",7.01,13,13,13,null,13,12,12,12.489995996796797,null,null,0,null,null,0,8.0064076902543566E-2,13,{"$f":"IF(W18<31,AVERAGE(OFFSET(INDEX('Points team et quota finales'!$C$5:$C$34,W18),0,0,COUNTIF($W$6:$W$105,W18))),0)","v":26}]
[14,null,null,null,null,null,{"$f":"IF(E19=\"TOP\",$F$108,IF(F19=\"-\",E19-0.01,IF(F19=\"+\",E19+0.01,E19)))","v":0},{"$f":"RANK(G19,$G$6:$G$105)","v":14},{"$f":"IF(COUNTIF($H$6:$H$105,H19)=1,H19,(H19*2+COUNTIF($H$6:$H$105,H19)-1)/2)","v":57},null,null,{"$f":"IF(J19=\"TOP\",$K$108,IF(K19=\"-\",J19-0.01,IF(K19=\"+\",J19+0.01,J19)))","v":0},{"$f":"RANK(L19,$L$6:$L$105)","v":14},{"$f":"IF(COUNTIF($M$6:$M$105,M19)=1,M19,(M19*2+COUNTIF($M$6:$M$105,M19)-1)/2)","v":57},{"$f":"SQRT(I19*N19)","v":57},null,null,{"$f":"IF(P19=\"TOP\",$Q$108,IF(Q19=\"-\",P19-0.01,IF(Q19=\"+\",P19+0.01,P19)))","v":0},null,null,{"$f":"IF($S19=\"TOP\",$T$108,IF($T19=\"-\",$S19-0.01,IF($T19=\"+\",$S19+0.01,$S19)))","v":0},{"$f":"IF(U19<>0,U19*1000+R19*100+1/O19,IF(R19<>0,R19*100+1/O19,1/O19))","v":1.7543859649122806E-2},14,{"$f":"IF(W19<31,AVERAGE(OFFSET(INDEX('Points team et quota finales'!$C$5:$C$34,W19),0,0,COUNTIF($W$6:$W$105,W19))),0)","v":10.647058823529411}]
[14,null,null,null,null,null,0,14,57,null,null,0,14,57,57,null,null,0,null,null,0,1.7543859649122806E-2,14,{"$f":"IF(W20<31,AVERAGE(OFFSET(INDEX('Points team et quota finales'!$C$5:$C$34,W20),0,0,COUNTIF($W$6:$W$105,W20))),0)","v":10.647058823529411}]
[14,null,null,null,null,null,0,14,57,null,null,0,14,57,57,null,null,0,null,null,0,1.7543859649122806E-2,14,{"$f":"IF(W21<31,AVERAGE(OFFSET(INDEX('Points team et quota finales'!$C$5:$C$34,W21),0,0,COUNTIF($W$6:$W$105,W21))),0)","v":10.647058823529411}]
[14,null,null,null,null,null,0,14,57,null,null,0,14,57,57,null,null,0,null,null,0,1.7543859649122806E-2,14,{"$f":"IF(W22<31,AVERAGE(OFFSET(INDEX('Points team et quota finales'!$C$5:$C$34,W22),0,0,COUNTIF($W$6:$W$105,W22))),0)","v":10.647058823529411}]
[14,null,null,null,null,null,0,14,57,null,null,0,14,57,57,null,null,0,null,null,0,1.7543859649122806E-2,14,{"$f":"IF(W23<31,AVERAGE(OFFSET(INDEX('Points team et quota finales'!$C$5:$C$34,W23),0,0,COUNTIF($W$6:$W$105,W23))),0)","v":10.647058823529411}]
[14,null,null,null,null,null,0,14,57,null,null,0,14,57,57,null,null,0,null,null,0,1.7543859649122806E-2,14,{"$f":"IF(W24<31,AVERAGE(OFFSET(INDEX('Points team et quota finales'!$C$5:$C$34,W24),0,0,COUNTIF($W$6:$W$105,W24))),0)","v":10.647058823529411}]
[14,null,null,null,null,null,0,14,57,null,null,0,14,57,57,null,null,0,null,null,0,1.7543859649122806E-2,14,{"$f":"IF(W25<31,AVERAGE(OFFSET(INDEX('Points team et quota finales'!$C$5:$C$34,W25),0,0,COUNTIF($W$6:$W$105,W25))),0)","v":10.647058823529411}]
[14,null,null,null,null,null,0,14,57,null,null,0,14,57,57,null,null,0,null,null,0,1.7543859649122806E-2,14,{"$f":"IF(W26<31,AVERAGE(OFFSET(INDEX('Points team et quota finales'!$C$5:$C$34,W26),0,0,COUNTIF($W$6:$W$105,W26))),0)","v":10.647058823529411}]
[14,null,null,null,null,null,0,14,57,null,null,0,14,57,57,null,null,0,null,null,0,1.7543859649122806E-2,14,{"$f":"IF(W27<31,AVERAGE(OFFSET(INDEX('Points team et quota finales'!$C$5:$C$34,W27),0,0,COUNTIF($W$6:$W$105,W27))),0)","v":10.647058823529411}]
[14,null,null,null,null,null,0,14,57,null,null,0,14,57,57,null,null,0,null,null,0,1.7543859649122806E-2,14,{"$f":"IF(W28<31,AVERAGE(OFFSET(INDEX('Points team et quota finales'!$C$5:$C$34,W28),0,0,COUNTIF($W$6:$W$105,W28))),0)","v":10.647058823529411}]
[14,null,null,null,null,null,0,14,57,null,null,0,14,57,57,null,null,0,null,null,0,1.7543859649122806E-2,14,{"$f":"IF(W29<31,AVERAGE(OFFSET(INDEX('Points team et quota finales'!$C$5:$C$34,W29),0,0,COUNTIF($W$6:$W$105,W29))),0)","v":10.647058823529411}]
[14,null,null,null,null,null,0,14,57,null,null,0,14,57,57,null,null,0,null,null,0,1.7543859649122806E-2,14,{"$f":"IF(W30<31,AVERAGE(OFFSET(INDEX('Points team et quota finales'!$C$5:$C$34,W30),0,0,COUNTIF($W$6:$W$105,W30))),0)","v":10.647058823529411}]
[14,null,null,null,null,null,0,14,57,null,null,0,14,57,57,null,null,0,null,null,0,1.7543859649122806E-2,14,{"$f":"IF(W31<31,AVERAGE(OFFSET(INDEX('Points team et quota finales'!$C$5:$C$34,W31),0,0,COUNTIF($W$6:$W$105,W31))),0)","v":10.647058823529411}]
[14,null,null,null,null,null,0,14,57,null,null,0,14,57,57,null,null,0,null,null,0,1.7543859649122806E-2,14,{"$f":"IF(W32<31,AVERAGE(OFFSET(INDEX('Points team et quota finales'!$C$5:$C$34,W32),0,0,COUNTIF($W$6:$W$105,W32))),0)","v":10.647058823529411}]
[14,null,null,null,null,null,0,14,57,null,null,0,14,57,57,null,null,0,null,null,0,1.7543859649122806E-2,14,{"$f":"IF(W33<31,AVERAGE(OFFSET(INDEX('Points team et quota finales'!$C$5:$C$34,W33),0,0,COUNTIF($W$6:$W$105,W33))),0)","v":10.647058823529411}]
[14,null,null,null,null,null,0,14,57,null,null,0,14,57,57,null,null,0,null,null,0,1.7543859649122806E-2,14,{"$f":"IF(W34<31,AVERAGE(OFFSET(INDEX('Points team et quota finales'!$C$5:$C$34,W34),0,0,COUNTIF($W$6:$W$105,W34))),0)","v":10.647058823529411}]
[14,null,null,null,null,null,0,14,57,null,null,0,14,57,57,null,null,0,null,null,0,1.7543859649122806E-2,14,{"$f":"IF(W35<31,AVERAGE(OFFSET(INDEX('Points team et quota finales'!$C$5:$C$34,W35),0,0,COUNTIF($W$6:$W$105,W35))),0)","v":10.647058823529411}]
[14,null,null,null,null,null,0,14,57,null,null,0,14,57,57,null,null,0,null,null,0,1.7543859649122806E-2,14,{"$f":"IF(W36<31,AVERAGE(OFFSET(INDEX('Points team et quota finales'!$C$5:$C$34,W36),0,0,COUNTIF($W$6:$W$105,W36))),0)","v":10.647058823529411}]
[14,null,null,null,null,null,0,14,57,null,null,0,14,57,57,null,null,0,null,null,0,1.7543859649122806E-2,14,{"$f":"IF(W37<31,AVERAGE(OFFSET(INDEX('Points team et quota finales'!$C$5:$C$34,W37),0,0,COUNTIF($W$6:$W$105,W37))),0)","v":10.647058823529411}]
[14,null,null,null,null,null,0,14,57,null,null,0,14,57,57,null,null,0,null,null,0,1.7543859649122806E-2,14,{"$f":"IF(W38<31,AVERAGE(OFFSET(INDEX('Points team et quota finales'!$C$5:$C$34,W38),0,0,COUNTIF($W$6:$W$105,W38))),0)","v":10.647058823529411}]
[14,null,null,null,null,null,0,14,57,null,null,0,14,57,57,null,null,0,null,null,0,1.7543859649122806E-2,14,{"$f":"IF(W39<31,AVERAGE(OFFSET(INDEX('Points team et quota finales'!$C$5:$C$34,W39),0,0,COUNTIF($W$6:$W$105,W39))),0)","v":10.647058823529411}]
[14,null,null,null,null,null,0,14,57,null,null,0,14,57,57,null,null,0,null,null,0,1.7543859649122806E-2,14,{"$f":"IF(W40<31,AVERAGE(OFFSET(INDEX('Points team et quota finales'!$C$5:$C$34,W40),0,0,COUNTIF($W$6:$W$105,W40))),0)","v":10.647058823529411}]
[14,null,null,null,null,null,0,14,57,null,null,0,14,57,57,null,null,0,null,null,0,1.7543859649122806E-2,14,{"$f":"IF(W41<31,AVERAGE(OFFSET(INDEX('Points team et quota finales'!$C$5:$C$34,W41),0,0,COUNTIF($W$6:$W$105,W41))),0)","v":10.647058823529411}]
[14,null,null,null,null,null,0,14,57,null,null,0,14,57,57,null,null,0,null,null,0,1.7543859649122806E-2,14,{"$f":"IF(W42<31,AVERAGE(OFFSET(INDEX('Points team et quota finales'!$C$5:$C$34,W42),0,0,COUNTIF($W$6:$W$105,W42))),0)","v":10.647058823529411}]
[14,null,null,null,null,null,0,14,57,null,null,0,14,57,57,null,null,0,null,null,0,1.7543859649122806E-2,14,{"$f":"IF(W43<31,AVERAGE(OFFSET(INDEX('Points team et quota finales'!$C$5:$C$34,W43),0,0,COUNTIF($W$6:$W$105,W43))),0)","v":10.647058823529411}]
[14,null,null,null,null,null,0,14,57,null,null,0,14,57,57,null,null,0,null,null,0,1.7543859649122806E-2,14,{"$f":"IF(W44<31,AVERAGE(OFFSET(INDEX('Points team et quota finales'!$C$5:$C$34,W44),0,0,COUNTIF($W$6:$W$105,W44))),0)","v":10.647058823529411}]
[14,null,null,null,null,null,0,14,57,null,null,0,14,57,57,null,null,0,null,null,0,1.7543859649122806E-2,14,{"$f":"IF(W45<31,AVERAGE(OFFSET(INDEX('Points team et quota finales'!$C$5:$C$34,W45),0,0,COUNTIF($W$6:$W$105,W45))),0)","v":10.647058823529411}]
[14,null,null,null,null,null,0,14,57,null,null,0,14,57,57,null,null,0,null,null,0,1.7543859649122806E-2,14,{"$f":"IF(W46<31,AVERAGE(OFFSET(INDEX('Points team et quota finales'!$C$5:$C$34,W46),0,0,COUNTIF($W$6:$W$105,W46))),0)","v":10.647058823529411}]
[14,null,null,null,null,null,0,14,57,null,null,0,14,57,57,null,null,0,null,null,0,1.7543859649122806E-2,14,{"$f":"IF(W47<31,AVERAGE(OFFSET(INDEX('Points team et quota finales'!$C$5:$C$34,W47),0,0,COUNTIF($W$6:$W$105,W47))),0)","v":10.647058823529411}]
[14,null,null,null,null,null,0,14,57,null,null,0,14,57,57,null,null,0,null,null,0,1.7543859649122806E-2,14,{"$f":"IF(W48<31,AVERAGE(OFFSET(INDEX('Points team et quota finales'!$C$5:$C$34,W48),0,0,COUNTIF($W$6:$W$105,W48))),0)","v":10.647058823529411}]
[14,null,null,null,null,null,0,14,57,null,null,0,14,57,57,null,null,0,null,null,0,1.7543859649122806E-2,14,{"$f":"IF(W49<31,AVERAGE(OFFSET(INDEX('Points team et quota finales'!$C$5:$C$34,W49),0,0,COUNTIF($W$6:$W$105,W49))),0)","v":10.647058823529411}]
[14,null,null,null,null,null,0,14,57,null,null,0,14,57,57,null,null,0,null,null,0,1.7543859649122806E-2,14,{"$f":"IF(W50<31,AVERAGE(OFFSET(INDEX('Points team et quota finales'!$C$5:$C$34,W50),0,0,COUNTIF($W$6:$W$105,W50))),0)","v":10.647058823529411}]
[14,null,null,null,null,null,0,14,57,null,null,0,14,57,57,null,null,0,null,null,0,1.7543859649122806E-2,14,{"$f":"IF(W51<31,AVERAGE(OFFSET(INDEX('Points team et quota finales'!$C$5:$C$34,W51),0,0,COUNTIF($W$6:$W$105,W51))),0)","v":10.647058823529411}]
[14,null,null,null,null,null,0,14,57,null,null,0,14,57,57,null,null,0,null,null,0,1.7543859649122806E-2,14,{"$f":"IF(W52<31,AVERAGE(OFFSET(INDEX('Points team et quota finales'!$C$5:$C$34,W52),0,0,COUNTIF($W$6:$W$105,W52))),0)","v":10.647058823529411}]
[14,null,null,null,null,null,0,14,57,null,null,0,14,57,57,null,null,0,null,null,0,1.7543859649122806E-2,14,{"$f":"IF(W53<31,AVERAGE(OFFSET(INDEX('Points team et quota finales'!$C$5:$C$34,W53),0,0,COUNTIF($W$6:$W$105,W53))),0)","v":10.647058823529411}]
[14,null,null,null,null,null,0,14,57,null,null,0,14,57,57,null,null,0,null,null,0,1.7543859649122806E-2,14,{"$f":"IF(W54<31,AVERAGE(OFFSET(INDEX('Points team et quota finales'!$C$5:$C$34,W54),0,0,COUNTIF($W$6:$W$105,W54))),0)","v":10.647058823529411}]
[14,null,null,null,null,null,0,14,57,null,null,0,14,57,57,null,null,0,null,null,0,1.7543859649122806E-2,14,{"$f":"IF(W55<31,AVERAGE(OFFSET(INDEX('Points team et quota finales'!$C$5:$C$34,W55),0,0,COUNTIF($W$6:$W$105,W55))),0)","v":10.647058823529411}]
[14,null,null,null,null,null,0,14,57,null,null,0,14,57,57,null,null,0,null,null,0,1.7543859649122806E-2,14,{"$f":"IF(W56<31,AVERAGE(OFFSET(INDEX('Points team et quota finales'!$C$5:$C$34,W56),0,0,COUNTIF($W$6:$W$105,W56))),0)","v":10.647058823529411}]
[14,null,null,null,null,null,0,14,57,null,null,0,14,57,57,null,null,0,null,null,0,1.7543859649122806E-2,14,{"$f":"IF(W57<31,AVERAGE(OFFSET(INDEX('Points team et quota finales'!$C$5:$C$34,W57),0,0,COUNTIF($W$6:$W$105,W57))),0)","v":10.647058823529411}]
[14,null,null,null,null,null,0,14,57,null,null,0,14,57,57,null,null,0,null,null,0,1.7543859649122806E-2,14,{"$f":"IF(W58<31,AVERAGE(OFFSET(INDEX('Points team et quota finales'!$C$5:$C$34,W58),0,0,COUNTIF($W$6:$W$105,W58))),0)","v":10.647058823529411}]
[14,null,null,null,null,null,0,14,57,null,null,0,14,57,57,null,null,0,null,null,0,1.7543859649122806E-2,14,{"$f":"IF(W59<31,AVERAGE(OFFSET(INDEX('Points team et quota finales'!$C$5:$C$34,W59),0,0,COUNTIF($W$6:$W$105,W59))),0)","v":10.647058823529411}]
[14,null,null,null,null,null,0,14,57,null,null,0,14,57,57,null,null,0,null,null,0,1.7543859649122806E-2,14,{"$f":"IF(W60<31,AVERAGE(OFFSET(INDEX('Points team et quota finales'!$C$5:$C$34,W60),0,0,COUNTIF($W$6:$W$105,W60))),0)","v":10.647058823529411}]
[14,null,null,null,null,null,0,14,57,null,null,0,14,57,57,null,null,0,null,null,0,1.7543859649122806E-2,14,{"$f":"IF(W61<31,AVERAGE(OFFSET(INDEX('Points team et quota finales'!$C$5:$C$34,W61),0,0,COUNTIF($W$6:$W$105,W61))),0)","v":10.647058823529411}]
[14,null,null,null,null,null,0,14,57,null,null,0,14,57,57,null,null,0,null,null,0,1.7543859649122806E-2,14,{"$f":"IF(W62<31,AVERAGE(OFFSET(INDEX('Points team et quota finales'!$C$5:$C$34,W62),0,0,COUNTIF($W$6:$W$105,W62))),0)","v":10.647058823529411}]
[14,null,null,null,null,null,0,14,57,null,null,0,14,57,57,null,null,0,null,null,0,1.7543859649122806E-2,14,{"$f":"IF(W63<31,AVERAGE(OFFSET(INDEX('Points team et quota finales'!$C$5:$C$34,W63),0,0,COUNTIF($W$6:$W$105,W63))),0)","v":10.647058823529411}]
[14,null,null,null,null,null,0,14,57,null,null,0,14,57,57,null,null,0,null,null,0,1.7543859649122806E-2,14,{"$f":"IF(W64<31,AVERAGE(OFFSET(INDEX('Points team et quota finales'!$C$5:$C$34,W64),0,0,COUNTIF($W$6:$W$105,W64))),0)","v":10.647058823529411}]
[14,null,null,null,null,null,0,14,57,null,null,0,14,57,57,null,null,0,null,null,0,1.7543859649122806E-2,14,{"$f":"IF(W65<31,AVERAGE(OFFSET(INDEX('Points team et quota finales'!$C$5:$C$34,W65),0,0,COUNTIF($W$6:$W$105,W65))),0)","v":10.647058823529411}]
[14,null,null,null,null,null,0,14,57,null,null,0,14,57,57,null,null,0,null,null,0,1.7543859649122806E-2,14,{"$f":"IF(W66<31,AVERAGE(OFFSET(INDEX('Points team et quota finales'!$C$5:$C$34,W66),0,0,COUNTIF($W$6:$W$105,W66))),0)","v":10.647058823529411}]
[14,null,null,null,null,null,0,14,57,null,null,0,14,57,57,null,null,0,null,null,0,1.7543859649122806E-2,14,{"$f":"IF(W67<31,AVERAGE(OFFSET(INDEX('Points team et quota finales'!$C$5:$C$34,W67),0,0,COUNTIF($W$6:$W$105,W67))),0)","v":10.647058823529411}]
[14,null,null,null,null,null,0,14,57,null,null,0,14,57,57,null,null,0,null,null,0,1.7543859649122806E-2,14,{"$f":"IF(W68<31,AVERAGE(OFFSET(INDEX('Points team et quota finales'!$C$5:$C$34,W68),0,0,COUNTIF($W$6:$W$105,W68))),0)","v":10.647058823529411}]
[14,null,null,null,null,null,0,14,57,null,null,0,14,57,57,null,null,0,null,null,0,1.7543859649122806E-2,14,{"$f":"IF(W69<31,AVERAGE(OFFSET(INDEX('Points team et quota finales'!$C$5:$C$34,W69),0,0,COUNTIF($W$6:$W$105,W69))),0)","v":10.647058823529411}]
[14,null,null,null,null,null,{"$f":"IF(E70=\"TOP\",$F$108,IF(F70=\"-\",E70-0.01,IF(F70=\"+\",E70+0.01,E70)))","v":0},{"$f":"RANK(G70,$G$6:$G$105)","v":14},{"$f":"IF(COUNTIF($H$6:$H$105,H70)=1,H70,(H70*2+COUNTIF($H$6:$H$105,H70)-1)/2)","v":57},null,null,{"$f":"IF(J70=\"TOP\",$K$108,IF(K70=\"-\",J70-0.01,IF(K70=\"+\",J70+0.01,J70)))","v":0},{"$f":"RANK(L70,$L$6:$L$105)","v":14},{"$f":"IF(COUNTIF($M$6:$M$105,M70)=1,M70,(M70*2+COUNTIF($M$6:$M$105,M70)-1)/2)","v":57},{"$f":"SQRT(I70*N70)","v":57},null,null,{"$f":"IF(P70=\"TOP\",$Q$108,IF(Q70=\"-\",P70-0.01,IF(Q70=\"+\",P70+0.01,P70)))","v":0},null,null,{"$f":"IF($S70=\"TOP\",$T$108,IF($T70=\"-\",$S70-0.01,IF($T70=\"+\",$S70+0.01,$S70)))","v":0},{"$f":"IF(U70<>0,U70*1000+R70*100+1/O70,IF(R70<>0,R70*100+1/O70,1/O70))","v":1.7543859649122806E-2},{"$f":"A70","v":14},{"$f":"IF(W70<31,AVERAGE(OFFSET(INDEX('Points team et quota finales'!$C$5:$C$34,W70),0,0,COUNTIF($W$6:$W$105,W70))),0)","v":10.647058823529411}]
[{"$f":"RANK(V71,$V$6:$V$105)","v":14},null,null,null,null,null,0,14,57,null,null,0,14,57,57,null,null,0,null,null,0,1.7543859649122806E-2,14,{"$f":"IF(W71<31,AVERAGE(OFFSET(INDEX('Points team et quota finales'!$C$5:$C$34,W71),0,0,COUNTIF($W$6:$W$105,W71))),0)","v":10.647058823529411}]
[14,null,null,null,null,null,0,14,57,null,null,0,14,57,57,null,null,0,null,null,0,1.7543859649122806E-2,14,{"$f":"IF(W72<31,AVERAGE(OFFSET(INDEX('Points team et quota finales'!$C$5:$C$34,W72),0,0,COUNTIF($W$6:$W$105,W72))),0)","v":10.647058823529411}]
[14,null,null,null,null,null,0,14,57,null,null,0,14,57,57,null,null,0,null,null,0,1.7543859649122806E-2,14,{"$f":"IF(W73<31,AVERAGE(OFFSET(INDEX('Points team et quota finales'!$C$5:$C$34,W73),0,0,COUNTIF($W$6:$W$105,W73))),0)","v":10.647058823529411}]
[14,null,null,null,null,null,0,14,57,null,null,0,14,57,57,null,null,0,null,null,0,1.7543859649122806E-2,14,{"$f":"IF(W74<31,AVERAGE(OFFSET(INDEX('Points team et quota finales'!$C$5:$C$34,W74),0,0,COUNTIF($W$6:$W$105,W74))),0)","v":10.647058823529411}]
[14,null,null,null,null,null,0,14,57,null,null,0,14,57,57,null,null,0,null,null,0,1.7543859649122806E-2,14,{"$f":"IF(W75<31,AVERAGE(OFFSET(INDEX('Points team et quota finales'!$C$5:$C$34,W75),0,0,COUNTIF($W$6:$W$105,W75))),0)","v":10.647058823529411}]
[14,null,null,null,null,null,0,14,57,null,null,0,14,57,57,null,null,0,null,null,0,1.7543859649122806E-2,14,{"$f":"IF(W76<31,AVERAGE(OFFSET(INDEX('Points team et quota finales'!$C$5:$C$34,W76),0,0,COUNTIF($W$6:$W$105,W76))),0)","v":10.647058823529411}]
[14,null,null,null,null,null,0,14,57,null,null,0,14,57,57,null,null,0,null,null,0,1.7543859649122806E-2,14,{"$f":"IF(W77<31,AVERAGE(OFFSET(INDEX('Points team et quota finales'!$C$5:$C$34,W77),0,0,COUNTIF($W$6:$W$105,W77))),0)","v":10.647058823529411}]
[14,null,null,null,null,null,0,14,57,null,null,0,14,57,57,null,null,0,null,null,0,1.7543859649122806E-2,14,{"$f":"IF(W78<31,AVERAGE(OFFSET(INDEX('Points team et quota finales'!$C$5:$C$34,W78),0,0,COUNTIF($W$6:$W$105,W78))),0)","v":10.647058823529411}]
[14,null,null,null,null,null,0,14,57,null,null,0,14,57,57,null,null,0,null,null,0,1.7543859649122806E-2,14,{"$f":"IF(W79<31,AVERAGE(OFFSET(INDEX('Points team et quota finales'!$C$5:$C$34,W79),0,0,COUNTIF($W$6:$W$105,W79))),0)","v":10.647058823529411}]
[14,null,null,null,null,null,0,14,57,null,null,0,14,57,57,null,null,0,null,null,0,1.7543859649122806E-2,14,{"$f":"IF(W80<31,AVERAGE(OFFSET(INDEX('Points team et quota finales'!$C$5:$C$34,W80),0,0,COUNTIF($W$6:$W$105,W80))),0)","v":10.647058823529411}]
[14,null,null,null,null,null,0,14,57,null,null,0,14,57,57,null,null,0,null,null,0,1.7543859649122806E-2,14,{"$f":"IF(W81<31,AVERAGE(OFFSET(INDEX('Points team et quota finales'!$C$5:$C$34,W81),0,0,COUNTIF($W$6:$W$105,W81))),0)","v":10.647058823529411}]
[14,null,null,null,null,null,0,14,57,null,null,0,14,57,57,null,null,0,null,null,0,1.7543859649122806E-2,14,{"$f":"IF(W82<31,AVERAGE(OFFSET(INDEX('Points team et quota finales'!$C$5:$C$34,W82),0,0,COUNTIF($W$6:$W$105,W82))),0)","v":10.647058823529411}]
[14,null,null,null,null,null,0,14,57,null,null,0,14,57,57,null,null,0,null,null,0,1.7543859649122806E-2,14,{"$f":"IF(W83<31,AVERAGE(OFFSET(INDEX('Points team et quota finales'!$C$5:$C$34,W83),0,0,COUNTIF($W$6:$W$105,W83))),0)","v":10.647058823529411}]
[14,null,null,null,null,null,0,14,57,null,null,0,14,57,57,null,null,0,null,null,0,1.7543859649122806E-2,14,{"$f":"IF(W84<31,AVERAGE(OFFSET(INDEX('Points team et quota finales'!$C$5:$C$34,W84),0,0,COUNTIF($W$6:$W$105,W84))),0)","v":10.647058823529411}]
[14,null,null,null,null,null,0,14,57,null,null,0,14,57,57,null,null,0,null,null,0,1.7543859649122806E-2,14,{"$f":"IF(W85<31,AVERAGE(OFFSET(INDEX('Points team et quota finales'!$C$5:$C$34,W85),0,0,COUNTIF($W$6:$W$105,W85))),0)","v":10.647058823529411}]
[14,null,null,null,null,null,0,14,57,null,null,0,14,57,57,null,null,0,null,null,0,1.7543859649122806E-2,14,{"$f":"IF(W86<31,AVERAGE(OFFSET(INDEX('Points team et quota finales'!$C$5:$C$34,W86),0,0,COUNTIF($W$6:$W$105,W86))),0)","v":10.647058823529411}]
[14,null,null,null,null,null,0,14,57,null,null,0,14,57,57,null,null,0,null,null,0,1.7543859649122806E-2,14,{"$f":"IF(W87<31,AVERAGE(OFFSET(INDEX('Points team et quota finales'!$C$5:$C$34,W87),0,0,COUNTIF($W$6:$W$105,W87))),0)","v":10.647058823529411}]
[14,null,null,null,null,null,0,14,57,null,null,0,14,57,57,null,null,0,null,null,0,1.7543859649122806E-2,14,{"$f":"IF(W88<31,AVERAGE(OFFSET(INDEX('Points team et quota finales'!$C$5:$C$34,W88),0,0,COUNTIF($W$6:$W$105,W88))),0)","v":10.647058823529411}]
[14,null,null,null,null,null,0,14,57,null,null,0,14,57,57,null,null,0,null,null,0,1.7543859649122806E-2,14,{"$f":"IF(W89<31,AVERAGE(OFFSET(INDEX('Points team et quota finales'!$C$5:$C$34,W89),0,0,COUNTIF($W$6:$W$105,W89))),0)","v":10.647058823529411}]
[14,null,null,null,null,null,0,14,57,null,null,0,14,57,57,null,null,0,null,null,0,1.7543859649122806E-2,14,{"$f":"IF(W90<31,AVERAGE(OFFSET(INDEX('Points team et quota finales'!$C$5:$C$34,W90),0,0,COUNTIF($W$6:$W$105,W90))),0)","v":10.647058823529411}]
[14,null,null,null,null,null,0,14,57,null,null,0,14,57,57,null,null,0,null,null,0,1.7543859649122806E-2,14,{"$f":"IF(W91<31,AVERAGE(OFFSET(INDEX('Points team et quota finales'!$C$5:$C$34,W91),0,0,COUNTIF($W$6:$W$105,W91))),0)","v":10.647058823529411}]
[14,null,null,null,null,null,0,14,57,null,null,0,14,57,57,null,null,0,null,null,0,1.7543859649122806E-2,14,{"$f":"IF(W92<31,AVERAGE(OFFSET(INDEX('Points team et quota finales'!$C$5:$C$34,W92),0,0,COUNTIF($W$6:$W$105,W92))),0)","v":10.647058823529411}]
[14,null,null,null,null,null,0,14,57,null,null,0,14,57,57,null,null,0,null,null,0,1.7543859649122806E-2,14,{"$f":"IF(W93<31,AVERAGE(OFFSET(INDEX('Points team et quota finales'!$C$5:$C$34,W93),0,0,COUNTIF($W$6:$W$105,W93))),0)","v":10.647058823529411}]
[14,null,null,null,null,null,0,14,57,null,null,0,14,57,57,null,null,0,null,null,0,1.7543859649122806E-2,14,{"$f":"IF(W94<31,AVERAGE(OFFSET(INDEX('Points team et quota finales'!$C$5:$C$34,W94),0,0,COUNTIF($W$6:$W$105,W94))),0)","v":10.647058823529411}]
[14,null,null,null,null,null,0,14,57,null,null,0,14,57,57,null,null,0,null,null,0,1.7543859649122806E-2,14,{"$f":"IF(W95<31,AVERAGE(OFFSET(INDEX('Points team et quota finales'!$C$5:$C$34,W95),0,0,COUNTIF($W$6:$W$105,W95))),0)","v":10.647058823529411}]
[14,null,null,null,null,null,0,14,57,null,null,0,14,57,57,null,null,0,null,null,0,1.7543859649122806E-2,14,{"$f":"IF(W96<31,AVERAGE(OFFSET(INDEX('Points team et quota finales'!$C$5:$C$34,W96),0,0,COUNTIF($W$6:$W$105,W96))),0)","v":10.647058823529411}]
[14,null,null,null,null,null,0,14,57,null,null,0,14,57,57,null,null,0,null,null,0,1.7543859649122806E-2,14,{"$f":"IF(W97<31,AVERAGE(OFFSET(INDEX('Points team et quota finales'!$C$5:$C$34,W97),0,0,COUNTIF($W$6:$W$105,W97))),0)","v":10.647058823529411}]
[14,null,null,null,null,null,0,14,57,null,null,0,14,57,57,null,null,0,null,null,0,1.7543859649122806E-2,14,{"$f":"IF(W98<31,AVERAGE(OFFSET(INDEX('Points team et quota finales'!$C$5:$C$34,W98),0,0,COUNTIF($W$6:$W$105,W98))),0)","v":10.647058823529411}]
[14,null,null,null,null,null,0,14,57,null,null,0,14,57,57,null,null,0,null,null,0,1.7543859649122806E-2,14,{"$f":"IF(W99<31,AVERAGE(OFFSET(INDEX('Points team et quota finales'!$C$5:$C$34,W99),0,0,COUNTIF($W$6:$W$105,W99))),0)","v":10.647058823529411}]
[14,null,null,null,null,null,0,14,57,null,null,0,14,57,57,null,null,0,null,null,0,1.7543859649122806E-2,14,{"$f":"IF(W100<31,AVERAGE(OFFSET(INDEX('Points team et quota finales'!$C$5:$C$34,W100),0,0,COUNTIF($W$6:$W$105,W100))),0)","v":10.647058823529411}]
[14,null,null,null,null,null,0,14,57,null,null,0,14,57,57,null,null,0,null,null,0,1.7543859649122806E-2,14,{"$f":"IF(W101<31,AVERAGE(OFFSET(INDEX('Points team et quota finales'!$C$5:$C$34,W101),0,0,COUNTIF($W$6:$W$105,W101))),0)","v":10.647058823529411}]
[14,null,null,null,null,null,0,14,57,null,null,0,14,57,57,null,null,0,null,null,0,1.7543859649122806E-2,14,{"$f":"IF(W102<31,AVERAGE(OFFSET(INDEX('Points team et quota finales'!$C$5:$C$34,W102),0,0,COUNTIF($W$6:$W$105,W102))),0)","v":10.647058823529411}]
[14,null,null,null,null,null,0,14,57,null,null,0,14,57,57,null,null,0,null,null,0,1.7543859649122806E-2,14,{"$f":"IF(W103<31,AVERAGE(OFFSET(INDEX('Points team et quota finales'!$C$5:$C$34,W103),0,0,COUNTIF($W$6:$W$105,W103))),0)","v":10.647058823529411}]
[14,null,null,null,null,null,0,14,57,null,null,0,14,57,57,null,null,0,null,null,0,1.7543859649122806E-2,14,{"$f":"IF(W104<31,AVERAGE(OFFSET(INDEX('Points team et quota finales'!$C$5:$C$34,W104),0,0,COUNTIF($W$6:$W$105,W104))),0)","v":10.647058823529411}]
[14,null,null,null,null,null,0,14,57,null,null,0,14,57,57,null,null,0,null,null,0,1.7543859649122806E-2,14,{"$f":"IF(W105<31,AVERAGE(OFFSET(INDEX('Points team et quota finales'!$C$5:$C$34,W105),0,0,COUNTIF($W$6:$W$105,W105))),0)","v":10.647058823529411}]
[]
[]
[null,null,null,null,"Top =",28,null,null,null,"Top = ",35,null,null,null,null,"Top =",41,null,"Top ="]
[null,{"$f":"CONCATENATE(\"Jury President: \",General!$B$6)","v":"Jury President: Lieven Vlassenroot"}]
[]
[null,"Appeal until :"]

{"sheet":"JM","index":11,"n_rows":111,"n_cols":24,"rows_kept":111,"cut":false,"hidden":false,"merged":[[1,0,1,22],[4,4,4,7],[4,9,4,12],[4,15,4,17],[4,18,4,20]]}
[]
[{"$f":"CONCATENATE(General!$B$5,\"  -  RESULTS Junior Male\")","v":"Youth Lead Championship 09-03-2013  -  RESULTS Junior Male"}]
[]
[]
["RANK","Nr","Name","Team","Route 1",null,null,null,"Ranking Points Route 1","Route 2",null,null,null,"Ranking Points Route 2","Root R1 x R2 ","Final ",null,null,"Super Final",null,null,"base pour calcul rang","RANK","Team points"]
[{"$f":"RANK(V6,$V$6:$V$105)","v":1},"JM05","TIMMERMANS Loïc","STC","TOP",null,{"$f":"IF(E6=\"TOP\",$F$108,IF(F6=\"-\",E6-0.01,IF(F6=\"+\",E6+0.01,E6)))","v":28},{"$f":"RANK(G6,$G$6:$G$105)","v":1},{"$f":"IF(COUNTIF($H$6:$H$105,H6)=1,H6,(H6*2+COUNTIF($H$6:$H$105,H6)-1)/2)","v":3},33,"+",{"$f":"IF(J6=\"TOP\",$K$108,IF(K6=\"-\",J6-0.01,IF(K6=\"+\",J6+0.01,J6)))","v":33.01},{"$f":"RANK(L6,$L$6:$L$105)","v":1},{"$f":"IF(COUNTIF($M$6:$M$105,M6)=1,M6,(M6*2+COUNTIF($M$6:$M$105,M6)-1)/2)","v":1},{"$f":"SQRT(I6*N6)","v":1.7320508075688772},"TOP",null,{"$f":"IF(P6=\"TOP\",$Q$108,IF(Q6=\"-\",P6-0.01,IF(Q6=\"+\",P6+0.01,P6)))","v":41},null,null,{"$f":"IF($S6=\"TOP\",$T$108,IF($T6=\"-\",$S6-0.01,IF($T6=\"+\",$S6+0.01,$S6)))","v":0},{"$f":"IF(U6<>0,U6*1000+R6*100+1/O6,IF(R6<>0,R6*100+1/O6,1/O6))","v":4100.57735026919},{"$f":"A6","v":1},{"$f":"IF(W6<31,AVERAGE(OFFSET(INDEX('Points team et quota finales'!$C$5:$C$34,W6),0,0,COUNTIF($W$6:$W$105,W6))),0)","v":100}]
[{"$f":"RANK(V7,$V$6:$V$105)","v":2},"JM04","GEUKENS Lukas","HUN","TOP",null,28,1,3,29,"+",29.01,2,2,2.4494897427831779,32,"+",32.01,null,null,0,3201.4082482904637,2,{"$f":"IF(W7<31,AVERAGE(OFFSET(INDEX('Points team et quota finales'!$C$5:$C$34,W7),0,0,COUNTIF($W$6:$W$105,W7))),0)","v":80}]
[3,"JM06","SALAKENOS Thomas","ECT",26,null,26,7,7,25,"+",25.01,3,3,4.5825756949558398,32,"+",32.01,null,null,0,3201.2182178902358,3,{"$f":"IF(W8<31,AVERAGE(OFFSET(INDEX('Points team et quota finales'!$C$5:$C$34,W8),0,0,COUNTIF($W$6:$W$105,W8))),0)","v":65}]
[4,"JM07","DEBREYNE Ignace","KLI","TOP",null,28,1,3,20,"+",20.010000000000002,7,7,4.5825756949558398,24,null,24,null,null,0,2400.2182178902358,4,{"$f":"IF(W9<31,AVERAGE(OFFSET(INDEX('Points team et quota finales'!$C$5:$C$34,W9),0,0,COUNTIF($W$6:$W$105,W9))),0)","v":55}]
[5,"JM01","BAEKELANDT Koen","BCT","TOP",null,28,1,3,22,"+",22.01,4,4,3.4641016151377544,23,null,23,null,null,0,2300.288675134595,5,{"$f":"IF(W10<31,AVERAGE(OFFSET(INDEX('Points team et quota finales'!$C$5:$C$34,W10),0,0,COUNTIF($W$6:$W$105,W10))),0)","v":51}]
[6,"JM08","DE KNOOP Alexis","ECT","TOP",null,28,1,3,21,"+",21.01,5,5,3.872983346207417,7,null,7,null,null,0,700.25819888974718,6,{"$f":"IF(W11<31,AVERAGE(OFFSET(INDEX('Points team et quota finales'!$C$5:$C$34,W11),0,0,COUNTIF($W$6:$W$105,W11))),0)","v":47}]
[7,"JM03","BERTHE Jonathan","ESC",19,null,19,9,9,21,null,21,6,6,7.3484692283495345,null,null,0,null,null,0,0.13608276348795434,7,{"$f":"IF(W12<31,AVERAGE(OFFSET(INDEX('Points team et quota finales'!$C$5:$C$34,W12),0,0,COUNTIF($W$6:$W$105,W12))),0)","v":41.5}]
[7,"JM09","HEMROULLE Sylvain","GT",26,"+",26.01,6,6,14,"+",14.01,9,9,7.3484692283495345,null,null,0,null,null,0,0.13608276348795434,7,{"$f":"IF(W13<31,AVERAGE(OFFSET(INDEX('Points team et quota finales'!$C$5:$C$34,W13),0,0,COUNTIF($W$6:$W$105,W13))),0)","v":41.5}]
[9,"JM02","MERTENS Pierre","ECT",21,"+",21.01,8,8,20,null,20,8,8,8,null,null,0,null,null,0,0.125,9,{"$f":"IF(W14<31,AVERAGE(OFFSET(INDEX('Points team et quota finales'!$C$5:$C$34,W14),0,0,COUNTIF($W$6:$W$105,W14))),0)","v":37}]
[10,null,null,null,null,null,{"$f":"IF(E15=\"TOP\",$F$108,IF(F15=\"-\",E15-0.01,IF(F15=\"+\",E15+0.01,E15)))","v":0},{"$f":"RANK(G15,$G$6:$G$105)","v":10},{"$f":"IF(COUNTIF($H$6:$H$105,H15)=1,H15,(H15*2+COUNTIF($H$6:$H$105,H15)-1)/2)","v":55},null,null,{"$f":"IF(J15=\"TOP\",$K$108,IF(K15=\"-\",J15-0.01,IF(K15=\"+\",J15+0.01,J15)))","v":0},{"$f":"RANK(L15,$L$6:$L$105)","v":10},{"$f":"IF(COUNTIF($M$6:$M$105,M15)=1,M15,(M15*2+COUNTIF($M$6:$M$105,M15)-1)/2)","v":55},{"$f":"SQRT(I15*N15)","v":55},null,null,{"$f":"IF(P15=\"TOP\",$Q$108,IF(Q15=\"-\",P15-0.01,IF(Q15=\"+\",P15+0.01,P15)))","v":0},null,null,{"$f":"IF($S15=\"TOP\",$T$108,IF($T15=\"-\",$S15-0.01,IF($T15=\"+\",$S15+0.01,$S15)))","v":0},{"$f":"IF(U15<>0,U15*1000+R15*100+1/O15,IF(R15<>0,R15*100+1/O15,1/O15))","v":1.8181818181818181E-2},10,{"$f":"IF(W15<31,AVERAGE(OFFSET(INDEX('Points team et quota finales'!$C$5:$C$34,W15),0,0,COUNTIF($W$6:$W$105,W15))),0)","v":14.285714285714286}]
[10,null,null,null,null,null,0,10,55,null,null,0,10,55,55,null,null,0,null,null,0,1.8181818181818181E-2,10,{"$f":"IF(W16<31,AVERAGE(OFFSET(INDEX('Points team et quota finales'!$C$5:$C$34,W16),0,0,COUNTIF($W$6:$W$105,W16))),0)","v":14.285714285714286}]
[10,null,null,null,null,null,0,10,55,null,null,0,10,55,55,null,null,0,null,null,0,1.8181818181818181E-2,10,{"$f":"IF(W17<31,AVERAGE(OFFSET(INDEX('Points team et quota finales'!$C$5:$C$34,W17),0,0,COUNTIF($W$6:$W$105,W17))),0)","v":14.285714285714286}]
[10,null,null,null,null,null,0,10,55,null,null,0,10,55,55,null,null,0,null,null,0,1.8181818181818181E-2,10,{"$f":"IF(W18<31,AVERAGE(OFFSET(INDEX('Points team et quota finales'!$C$5:$C$34,W18),0,0,COUNTIF($W$6:$W$105,W18))),0)","v":14.285714285714286}]
[10,null,null,null,null,null,0,10,55,null,null,0,10,55,55,null,null,0,null,null,0,1.8181818181818181E-2,10,{"$f":"IF(W19<31,AVERAGE(OFFSET(INDEX('Points team et quota finales'!$C$5:$C$34,W19),0,0,COUNTIF($W$6:$W$105,W19))),0)","v":14.285714285714286}]
[10,null,null,null,null,null,0,10,55,null,null,0,10,55,55,null,null,0,null,null,0,1.8181818181818181E-2,10,{"$f":"IF(W20<31,AVERAGE(OFFSET(INDEX('Points team et quota finales'!$C$5:$C$34,W20),0,0,COUNTIF($W$6:$W$105,W20))),0)","v":14.285714285714286}]
[10,null,null,null,null,null,0,10,55,null,null,0,10,55,55,null,null,0,null,null,0,1.8181818181818181E-2,10,{"$f":"IF(W21<31,AVERAGE(OFFSET(INDEX('Points team et quota finales'!$C$5:$C$34,W21),0,0,COUNTIF($W$6:$W$105,W21))),0)","v":14.285714285714286}]
[10,null,null,null,null,null,0,10,55,null,null,0,10,55,55,null,null,0,null,null,0,1.8181818181818181E-2,10,{"$f":"IF(W22<31,AVERAGE(OFFSET(INDEX('Points team et quota finales'!$C$5:$C$34,W22),0,0,COUNTIF($W$6:$W$105,W22))),0)","v":14.285714285714286}]
[10,null,null,null,null,null,0,10,55,null,null,0,10,55,55,null,null,0,null,null,0,1.8181818181818181E-2,10,{"$f":"IF(W23<31,AVERAGE(OFFSET(INDEX('Points team et quota finales'!$C$5:$C$34,W23),0,0,COUNTIF($W$6:$W$105,W23))),0)","v":14.285714285714286}]
[10,null,null,null,null,null,0,10,55,null,null,0,10,55,55,null,null,0,null,null,0,1.8181818181818181E-2,10,{"$f":"IF(W24<31,AVERAGE(OFFSET(INDEX('Points team et quota finales'!$C$5:$C$34,W24),0,0,COUNTIF($W$6:$W$105,W24))),0)","v":14.285714285714286}]
[10,null,null,null,null,null,0,10,55,null,null,0,10,55,55,null,null,0,null,null,0,1.8181818181818181E-2,10,{"$f":"IF(W25<31,AVERAGE(OFFSET(INDEX('Points team et quota finales'!$C$5:$C$34,W25),0,0,COUNTIF($W$6:$W$105,W25))),0)","v":14.285714285714286}]
[10,null,null,null,null,null,0,10,55,null,null,0,10,55,55,null,null,0,null,null,0,1.8181818181818181E-2,10,{"$f":"IF(W26<31,AVERAGE(OFFSET(INDEX('Points team et quota finales'!$C$5:$C$34,W26),0,0,COUNTIF($W$6:$W$105,W26))),0)","v":14.285714285714286}]
[10,null,null,null,null,null,0,10,55,null,null,0,10,55,55,null,null,0,null,null,0,1.8181818181818181E-2,10,{"$f":"IF(W27<31,AVERAGE(OFFSET(INDEX('Points team et quota finales'!$C$5:$C$34,W27),0,0,COUNTIF($W$6:$W$105,W27))),0)","v":14.285714285714286}]
[10,null,null,null,null,null,0,10,55,null,null,0,10,55,55,null,null,0,null,null,0,1.8181818181818181E-2,10,{"$f":"IF(W28<31,AVERAGE(OFFSET(INDEX('Points team et quota finales'!$C$5:$C$34,W28),0,0,COUNTIF($W$6:$W$105,W28))),0)","v":14.285714285714286}]
[10,null,null,null,null,null,0,10,55,null,null,0,10,55,55,null,null,0,null,null,0,1.8181818181818181E-2,10,{"$f":"IF(W29<31,AVERAGE(OFFSET(INDEX('Points team et quota finales'!$C$5:$C$34,W29),0,0,COUNTIF($W$6:$W$105,W29))),0)","v":14.285714285714286}]
[10,null,null,null,null,null,0,10,55,null,null,0,10,55,55,null,null,0,null,null,0,1.8181818181818181E-2,10,{"$f":"IF(W30<31,AVERAGE(OFFSET(INDEX('Points team et quota finales'!$C$5:$C$34,W30),0,0,COUNTIF($W$6:$W$105,W30))),0)","v":14.285714285714286}]
[10,null,null,null,null,null,0,10,55,null,null,0,10,55,55,null,null,0,null,null,0,1.8181818181818181E-2,10,{"$f":"IF(W31<31,AVERAGE(OFFSET(INDEX('Points team et quota finales'!$C$5:$C$34,W31),0,0,COUNTIF($W$6:$W$105,W31))),0)","v":14.285714285714286}]
[10,null,null,null,null,null,0,10,55,null,null,0,10,55,55,null,null,0,null,null,0,1.8181818181818181E-2,10,{"$f":"IF(W32<31,AVERAGE(OFFSET(INDEX('Points team et quota finales'!$C$5:$C$34,W32),0,0,COUNTIF($W$6:$W$105,W32))),0)","v":14.285714285714286}]
[10,null,null,null,null,null,0,10,55,null,null,0,10,55,55,null,null,0,null,null,0,1.8181818181818181E-2,10,{"$f":"IF(W33<31,AVERAGE(OFFSET(INDEX('Points team et quota finales'!$C$5:$C$34,W33),0,0,COUNTIF($W$6:$W$105,W33))),0)","v":14.285714285714286}]
[10,null,null,null,null,null,0,10,55,null,null,0,10,55,55,null,null,0,null,null,0,1.8181818181818181E-2,10,{"$f":"IF(W34<31,AVERAGE(OFFSET(INDEX('Points team et quota finales'!$C$5:$C$34,W34),0,0,COUNTIF($W$6:$W$105,W34))),0)","v":14.285714285714286}]
[10,null,null,null,null,null,0,10,55,null,null,0,10,55,55,null,null,0,null,null,0,1.8181818181818181E-2,10,{"$f":"IF(W35<31,AVERAGE(OFFSET(INDEX('Points team et quota finales'!$C$5:$C$34,W35),0,0,COUNTIF($W$6:$W$105,W35))),0)","v":14.285714285714286}]
[10,null,null,null,null,null,0,10,55,null,null,0,10,55,55,null,null,0,null,null,0,1.8181818181818181E-2,10,{"$f":"IF(W36<31,AVERAGE(OFFSET(INDEX('Points team et quota finales'!$C$5:$C$34,W36),0,0,COUNTIF($W$6:$W$105,W36))),0)","v":14.285714285714286}]
[10,null,null,null,null,null,0,10,55,null,null,0,10,55,55,null,null,0,null,null,0,1.8181818181818181E-2,10,{"$f":"IF(W37<31,AVERAGE(OFFSET(INDEX('Points team et quota finales'!$C$5:$C$34,W37),0,0,COUNTIF($W$6:$W$105,W37))),0)","v":14.285714285714286}]
[10,null,null,null,null,null,0,10,55,null,null,0,10,55,55,null,null,0,null,null,0,1.8181818181818181E-2,10,{"$f":"IF(W38<31,AVERAGE(OFFSET(INDEX('Points team et quota finales'!$C$5:$C$34,W38),0,0,COUNTIF($W$6:$W$105,W38))),0)","v":14.285714285714286}]
[10,null,null,null,null,null,0,10,55,null,null,0,10,55,55,null,null,0,null,null,0,1.8181818181818181E-2,10,{"$f":"IF(W39<31,AVERAGE(OFFSET(INDEX('Points team et quota finales'!$C$5:$C$34,W39),0,0,COUNTIF($W$6:$W$105,W39))),0)","v":14.285714285714286}]
[10,null,null,null,null,null,0,10,55,null,null,0,10,55,55,null,null,0,null,null,0,1.8181818181818181E-2,10,{"$f":"IF(W40<31,AVERAGE(OFFSET(INDEX('Points team et quota finales'!$C$5:$C$34,W40),0,0,COUNTIF($W$6:$W$105,W40))),0)","v":14.285714285714286}]
[10,null,null,null,null,null,0,10,55,null,null,0,10,55,55,null,null,0,null,null,0,1.8181818181818181E-2,10,{"$f":"IF(W41<31,AVERAGE(OFFSET(INDEX('Points team et quota finales'!$C$5:$C$34,W41),0,0,COUNTIF($W$6:$W$105,W41))),0)","v":14.285714285714286}]
[10,null,null,null,null,null,0,10,55,null,null,0,10,55,55,null,null,0,null,null,0,1.8181818181818181E-2,10,{"$f":"IF(W42<31,AVERAGE(OFFSET(INDEX('Points team et quota finales'!$C$5:$C$34,W42),0,0,COUNTIF($W$6:$W$105,W42))),0)","v":14.285714285714286}]
[10,null,null,null,null,null,0,10,55,null,null,0,10,55,55,null,null,0,null,null,0,1.8181818181818181E-2,10,{"$f":"IF(W43<31,AVERAGE(OFFSET(INDEX('Points team et quota finales'!$C$5:$C$34,W43),0,0,COUNTIF($W$6:$W$105,W43))),0)","v":14.285714285714286}]
[10,null,null,null,null,null,0,10,55,null,null,0,10,55,55,null,null,0,null,null,0,1.8181818181818181E-2,10,{"$f":"IF(W44<31,AVERAGE(OFFSET(INDEX('Points team et quota finales'!$C$5:$C$34,W44),0,0,COUNTIF($W$6:$W$105,W44))),0)","v":14.285714285714286}]
[10,null,null,null,null,null,0,10,55,null,null,0,10,55,55,null,null,0,null,null,0,1.8181818181818181E-2,10,{"$f":"IF(W45<31,AVERAGE(OFFSET(INDEX('Points team et quota finales'!$C$5:$C$34,W45),0,0,COUNTIF($W$6:$W$105,W45))),0)","v":14.285714285714286}]
[10,null,null,null,null,null,{"$f":"IF(E46=\"TOP\",$F$108,IF(F46=\"-\",E46-0.01,IF(F46=\"+\",E46+0.01,E46)))","v":0},{"$f":"RANK(G46,$G$6:$G$105)","v":10},{"$f":"IF(COUNTIF($H$6:$H$105,H46)=1,H46,(H46*2+COUNTIF($H$6:$H$105,H46)-1)/2)","v":55},null,null,{"$f":"IF(J46=\"TOP\",$K$108,IF(K46=\"-\",J46-0.01,IF(K46=\"+\",J46+0.01,J46)))","v":0},{"$f":"RANK(L46,$L$6:$L$105)","v":10},{"$f":"IF(COUNTIF($M$6:$M$105,M46)=1,M46,(M46*2+COUNTIF($M$6:$M$105,M46)-1)/2)","v":55},{"$f":"SQRT(I46*N46)","v":55},null,null,{"$f":"IF(P46=\"TOP\",$Q$108,IF(Q46=\"-\",P46-0.01,IF(Q46=\"+\",P46+0.01,P46)))","v":0},null,null,{"$f":"IF($S46=\"TOP\",$T$108,IF($T46=\"-\",$S46-0.01,IF($T46=\"+\",$S46+0.01,$S46)))","v":0},{"$f":"IF(U46<>0,U46*1000+R46*100+1/O46,IF(R46<>0,R46*100+1/O46,1/O46))","v":1.8181818181818181E-2},10,{"$f":"IF(W46<31,AVERAGE(OFFSET(INDEX('Points team et quota finales'!$C$5:$C$34,W46),0,0,COUNTIF($W$6:$W$105,W46))),0)","v":14.285714285714286}]
[10,null,null,null,null,null,0,10,55,null,null,0,10,55,55,null,null,0,null,null,0,1.8181818181818181E-2,10,{"$f":"IF(W47<31,AVERAGE(OFFSET(INDEX('Points team et quota finales'!$C$5:$C$34,W47),0,0,COUNTIF($W$6:$W$105,W47))),0)","v":14.285714285714286}]
[10,null,null,null,null,null,0,10,55,null,null,0,10,55,55,null,null,0,null,null,0,1.8181818181818181E-2,10,{"$f":"IF(W48<31,AVERAGE(OFFSET(INDEX('Points team et quota finales'!$C$5:$C$34,W48),0,0,COUNTIF($W$6:$W$105,W48))),0)","v":14.285714285714286}]
[10,null,null,null,null,null,0,10,55,null,null,0,10,55,55,null,null,0,null,null,0,1.8181818181818181E-2,10,{"$f":"IF(W49<31,AVERAGE(OFFSET(INDEX('Points team et quota finales'!$C$5:$C$34,W49),0,0,COUNTIF($W$6:$W$105,W49))),0)","v":14.285714285714286}]
[10,null,null,null,null,null,0,10,55,null,null,0,10,55,55,null,null,0,null,null,0,1.8181818181818181E-2,10,{"$f":"IF(W50<31,AVERAGE(OFFSET(INDEX('Points team et quota finales'!$C$5:$C$34,W50),0,0,COUNTIF($W$6:$W$105,W50))),0)","v":14.285714285714286}]
[10,null,null,null,null,null,0,10,55,null,null,0,10,55,55,null,null,0,null,null,0,1.8181818181818181E-2,10,{"$f":"IF(W51<31,AVERAGE(OFFSET(INDEX('Points team et quota finales'!$C$5:$C$34,W51),0,0,COUNTIF($W$6:$W$105,W51))),0)","v":14.285714285714286}]
[10,null,null,null,null,null,0,10,55,null,null,0,10,55,55,null,null,0,null,null,0,1.8181818181818181E-2,10,{"$f":"IF(W52<31,AVERAGE(OFFSET(INDEX('Points team et quota finales'!$C$5:$C$34,W52),0,0,COUNTIF($W$6:$W$105,W52))),0)","v":14.285714285714286}]
[10,null,null,null,null,null,0,10,55,null,null,0,10,55,55,null,null,0,null,null,0,1.8181818181818181E-2,10,{"$f":"IF(W53<31,AVERAGE(OFFSET(INDEX('Points team et quota finales'!$C$5:$C$34,W53),0,0,COUNTIF($W$6:$W$105,W53))),0)","v":14.285714285714286}]
[10,null,null,null,null,null,0,10,55,null,null,0,10,55,55,null,null,0,null,null,0,1.8181818181818181E-2,10,{"$f":"IF(W54<31,AVERAGE(OFFSET(INDEX('Points team et quota finales'!$C$5:$C$34,W54),0,0,COUNTIF($W$6:$W$105,W54))),0)","v":14.285714285714286}]
[10,null,null,null,null,null,0,10,55,null,null,0,10,55,55,null,null,0,null,null,0,1.8181818181818181E-2,10,{"$f":"IF(W55<31,AVERAGE(OFFSET(INDEX('Points team et quota finales'!$C$5:$C$34,W55),0,0,COUNTIF($W$6:$W$105,W55))),0)","v":14.285714285714286}]
[10,null,null,null,null,null,0,10,55,null,null,0,10,55,55,null,null,0,null,null,0,1.8181818181818181E-2,10,{"$f":"IF(W56<31,AVERAGE(OFFSET(INDEX('Points team et quota finales'!$C$5:$C$34,W56),0,0,COUNTIF($W$6:$W$105,W56))),0)","v":14.285714285714286}]
[10,null,null,null,null,null,0,10,55,null,null,0,10,55,55,null,null,0,null,null,0,1.8181818181818181E-2,10,{"$f":"IF(W57<31,AVERAGE(OFFSET(INDEX('Points team et quota finales'!$C$5:$C$34,W57),0,0,COUNTIF($W$6:$W$105,W57))),0)","v":14.285714285714286}]
[10,null,null,null,null,null,0,10,55,null,null,0,10,55,55,null,null,0,null,null,0,1.8181818181818181E-2,10,{"$f":"IF(W58<31,AVERAGE(OFFSET(INDEX('Points team et quota finales'!$C$5:$C$34,W58),0,0,COUNTIF($W$6:$W$105,W58))),0)","v":14.285714285714286}]
[10,null,null,null,null,null,0,10,55,null,null,0,10,55,55,null,null,0,null,null,0,1.8181818181818181E-2,10,{"$f":"IF(W59<31,AVERAGE(OFFSET(INDEX('Points team et quota finales'!$C$5:$C$34,W59),0,0,COUNTIF($W$6:$W$105,W59))),0)","v":14.285714285714286}]
[10,null,null,null,null,null,0,10,55,null,null,0,10,55,55,null,null,0,null,null,0,1.8181818181818181E-2,10,{"$f":"IF(W60<31,AVERAGE(OFFSET(INDEX('Points team et quota finales'!$C$5:$C$34,W60),0,0,COUNTIF($W$6:$W$105,W60))),0)","v":14.285714285714286}]
[10,null,null,null,null,null,0,10,55,null,null,0,10,55,55,null,null,0,null,null,0,1.8181818181818181E-2,10,{"$f":"IF(W61<31,AVERAGE(OFFSET(INDEX('Points team et quota finales'!$C$5:$C$34,W61),0,0,COUNTIF($W$6:$W$105,W61))),0)","v":14.285714285714286}]
[10,null,null,null,null,null,0,10,55,null,null,0,10,55,55,null,null,0,null,null,0,1.8181818181818181E-2,10,{"$f":"IF(W62<31,AVERAGE(OFFSET(INDEX('Points team et quota finales'!$C$5:$C$34,W62),0,0,COUNTIF($W$6:$W$105,W62))),0)","v":14.285714285714286}]
[10,null,null,null,null,null,0,10,55,null,null,0,10,55,55,null,null,0,null,null,0,1.8181818181818181E-2,10,{"$f":"IF(W63<31,AVERAGE(OFFSET(INDEX('Points team et quota finales'!$C$5:$C$34,W63),0,0,COUNTIF($W$6:$W$105,W63))),0)","v":14.285714285714286}]
[10,null,null,null,null,null,0,10,55,null,null,0,10,55,55,null,null,0,null,null,0,1.8181818181818181E-2,10,{"$f":"IF(W64<31,AVERAGE(OFFSET(INDEX('Points team et quota finales'!$C$5:$C$34,W64),0,0,COUNTIF($W$6:$W$105,W64))),0)","v":14.285714285714286}]
[10,null,null,null,null,null,0,10,55,null,null,0,10,55,55,null,null,0,null,null,0,1.8181818181818181E-2,10,{"$f":"IF(W65<31,AVERAGE(OFFSET(INDEX('Points team et quota finales'!$C$5:$C$34,W65),0,0,COUNTIF($W$6:$W$105,W65))),0)","v":14.285714285714286}]
[10,null,null,null,null,null,0,10,55,null,null,0,10,55,55,null,null,0,null,null,0,1.8181818181818181E-2,10,{"$f":"IF(W66<31,AVERAGE(OFFSET(INDEX('Points team et quota finales'!$C$5:$C$34,W66),0,0,COUNTIF($W$6:$W$105,W66))),0)","v":14.285714285714286}]
[10,null,null,null,null,null,0,10,55,null,null,0,10,55,55,null,null,0,null,null,0,1.8181818181818181E-2,10,{"$f":"IF(W67<31,AVERAGE(OFFSET(INDEX('Points team et quota finales'!$C$5:$C$34,W67),0,0,COUNTIF($W$6:$W$105,W67))),0)","v":14.285714285714286}]
[10,null,null,null,null,null,0,10,55,null,null,0,10,55,55,null,null,0,null,null,0,1.8181818181818181E-2,10,{"$f":"IF(W68<31,AVERAGE(OFFSET(INDEX('Points team et quota finales'!$C$5:$C$34,W68),0,0,COUNTIF($W$6:$W$105,W68))),0)","v":14.285714285714286}]
[10,null,null,null,null,null,0,10,55,null,null,0,10,55,55,null,null,0,null,null,0,1.8181818181818181E-2,10,{"$f":"IF(W69<31,AVERAGE(OFFSET(INDEX('Points team et quota finales'!$C$5:$C$34,W69),0,0,COUNTIF($W$6:$W$105,W69))),0)","v":14.285714285714286}]
[10,null,null,null,null,null,{"$f":"IF(E70=\"TOP\",$F$108,IF(F70=\"-\",E70-0.01,IF(F70=\"+\",E70+0.01,E70)))","v":0},{"$f":"RANK(G70,$G$6:$G$105)","v":10},{"$f":"IF(COUNTIF($H$6:$H$105,H70)=1,H70,(H70*2+COUNTIF($H$6:$H$105,H70)-1)/2)","v":55},null,null,{"$f":"IF(J70=\"TOP\",$K$108,IF(K70=\"-\",J70-0.01,IF(K70=\"+\",J70+0.01,J70)))","v":0},{"$f":"RANK(L70,$L$6:$L$105)","v":10},{"$f":"IF(COUNTIF($M$6:$M$105,M70)=1,M70,(M70*2+COUNTIF($M$6:$M$105,M70)-1)/2)","v":55},{"$f":"SQRT(I70*N70)","v":55},null,null,{"$f":"IF(P70=\"TOP\",$Q$108,IF(Q70=\"-\",P70-0.01,IF(Q70=\"+\",P70+0.01,P70)))","v":0},null,null,{"$f":"IF($S70=\"TOP\",$T$108,IF($T70=\"-\",$S70-0.01,IF($T70=\"+\",$S70+0.01,$S70)))","v":0},{"$f":"IF(U70<>0,U70*1000+R70*100+1/O70,IF(R70<>0,R70*100+1/O70,1/O70))","v":1.8181818181818181E-2},{"$f":"A70","v":10},{"$f":"IF(W70<31,AVERAGE(OFFSET(INDEX('Points team et quota finales'!$C$5:$C$34,W70),0,0,COUNTIF($W$6:$W$105,W70))),0)","v":14.285714285714286}]
[{"$f":"RANK(V71,$V$6:$V$105)","v":10},null,null,null,null,null,0,10,55,null,null,0,10,55,55,null,null,0,null,null,0,1.8181818181818181E-2,10,{"$f":"IF(W71<31,AVERAGE(OFFSET(INDEX('Points team et quota finales'!$C$5:$C$34,W71),0,0,COUNTIF($W$6:$W$105,W71))),0)","v":14.285714285714286}]
[10,null,null,null,null,null,0,10,55,null,null,0,10,55,55,null,null,0,null,null,0,1.8181818181818181E-2,10,{"$f":"IF(W72<31,AVERAGE(OFFSET(INDEX('Points team et quota finales'!$C$5:$C$34,W72),0,0,COUNTIF($W$6:$W$105,W72))),0)","v":14.285714285714286}]
[10,null,null,null,null,null,0,10,55,null,null,0,10,55,55,null,null,0,null,null,0,1.8181818181818181E-2,10,{"$f":"IF(W73<31,AVERAGE(OFFSET(INDEX('Points team et quota finales'!$C$5:$C$34,W73),0,0,COUNTIF($W$6:$W$105,W73))),0)","v":14.285714285714286}]
[10,null,null,null,null,null,0,10,55,null,null,0,10,55,55,null,null,0,null,null,0,1.8181818181818181E-2,10,{"$f":"IF(W74<31,AVERAGE(OFFSET(INDEX('Points team et quota finales'!$C$5:$C$34,W74),0,0,COUNTIF($W$6:$W$105,W74))),0)","v":14.285714285714286}]
[10,null,null,null,null,null,0,10,55,null,null,0,10,55,55,null,null,0,null,null,0,1.8181818181818181E-2,10,{"$f":"IF(W75<31,AVERAGE(OFFSET(INDEX('Points team et quota finales'!$C$5:$C$34,W75),0,0,COUNTIF($W$6:$W$105,W75))),0)","v":14.285714285714286}]
[10,null,null,null,null,null,0,10,55,null,null,0,10,55,55,null,null,0,null,null,0,1.8181818181818181E-2,10,{"$f":"IF(W76<31,AVERAGE(OFFSET(INDEX('Points team et quota finales'!$C$5:$C$34,W76),0,0,COUNTIF($W$6:$W$105,W76))),0)","v":14.285714285714286}]
[10,null,null,null,null,null,0,10,55,null,null,0,10,55,55,null,null,0,null,null,0,1.8181818181818181E-2,10,{"$f":"IF(W77<31,AVERAGE(OFFSET(INDEX('Points team et quota finales'!$C$5:$C$34,W77),0,0,COUNTIF($W$6:$W$105,W77))),0)","v":14.285714285714286}]
[10,null,null,null,null,null,0,10,55,null,null,0,10,55,55,null,null,0,null,null,0,1.8181818181818181E-2,10,{"$f":"IF(W78<31,AVERAGE(OFFSET(INDEX('Points team et quota finales'!$C$5:$C$34,W78),0,0,COUNTIF($W$6:$W$105,W78))),0)","v":14.285714285714286}]
[10,null,null,null,null,null,0,10,55,null,null,0,10,55,55,null,null,0,null,null,0,1.8181818181818181E-2,10,{"$f":"IF(W79<31,AVERAGE(OFFSET(INDEX('Points team et quota finales'!$C$5:$C$34,W79),0,0,COUNTIF($W$6:$W$105,W79))),0)","v":14.285714285714286}]
[10,null,null,null,null,null,0,10,55,null,null,0,10,55,55,null,null,0,null,null,0,1.8181818181818181E-2,10,{"$f":"IF(W80<31,AVERAGE(OFFSET(INDEX('Points team et quota finales'!$C$5:$C$34,W80),0,0,COUNTIF($W$6:$W$105,W80))),0)","v":14.285714285714286}]
[10,null,null,null,null,null,0,10,55,null,null,0,10,55,55,null,null,0,null,null,0,1.8181818181818181E-2,10,{"$f":"IF(W81<31,AVERAGE(OFFSET(INDEX('Points team et quota finales'!$C$5:$C$34,W81),0,0,COUNTIF($W$6:$W$105,W81))),0)","v":14.285714285714286}]
[10,null,null,null,null,null,0,10,55,null,null,0,10,55,55,null,null,0,null,null,0,1.8181818181818181E-2,10,{"$f":"IF(W82<31,AVERAGE(OFFSET(INDEX('Points team et quota finales'!$C$5:$C$34,W82),0,0,COUNTIF($W$6:$W$105,W82))),0)","v":14.285714285714286}]
[10,null,null,null,null,null,0,10,55,null,null,0,10,55,55,null,null,0,null,null,0,1.8181818181818181E-2,10,{"$f":"IF(W83<31,AVERAGE(OFFSET(INDEX('Points team et quota finales'!$C$5:$C$34,W83),0,0,COUNTIF($W$6:$W$105,W83))),0)","v":14.285714285714286}]
[10,null,null,null,null,null,0,10,55,null,null,0,10,55,55,null,null,0,null,null,0,1.8181818181818181E-2,10,{"$f":"IF(W84<31,AVERAGE(OFFSET(INDEX('Points team et quota finales'!$C$5:$C$34,W84),0,0,COUNTIF($W$6:$W$105,W84))),0)","v":14.285714285714286}]
[10,null,null,null,null,null,0,10,55,null,null,0,10,55,55,null,null,0,null,null,0,1.8181818181818181E-2,10,{"$f":"IF(W85<31,AVERAGE(OFFSET(INDEX('Points team et quota finales'!$C$5:$C$34,W85),0,0,COUNTIF($W$6:$W$105,W85))),0)","v":14.285714285714286}]
[10,null,null,null,null,null,0,10,55,null,null,0,10,55,55,null,null,0,null,null,0,1.8181818181818181E-2,10,{"$f":"IF(W86<31,AVERAGE(OFFSET(INDEX('Points team et quota finales'!$C$5:$C$34,W86),0,0,COUNTIF($W$6:$W$105,W86))),0)","v":14.285714285714286}]
[10,null,null,null,null,null,0,10,55,null,null,0,10,55,55,null,null,0,null,null,0,1.8181818181818181E-2,10,{"$f":"IF(W87<31,AVERAGE(OFFSET(INDEX('Points team et quota finales'!$C$5:$C$34,W87),0,0,COUNTIF($W$6:$W$105,W87))),0)","v":14.285714285714286}]
[10,null,null,null,null,null,0,10,55,null,null,0,10,55,55,null,null,0,null,null,0,1.8181818181818181E-2,10,{"$f":"IF(W88<31,AVERAGE(OFFSET(INDEX('Points team et quota finales'!$C$5:$C$34,W88),0,0,COUNTIF($W$6:$W$105,W88))),0)","v":14.285714285714286}]
[10,null,null,null,null,null,0,10,55,null,null,0,10,55,55,null,null,0,null,null,0,1.8181818181818181E-2,10,{"$f":"IF(W89<31,AVERAGE(OFFSET(INDEX('Points team et quota finales'!$C$5:$C$34,W89),0,0,COUNTIF($W$6:$W$105,W89))),0)","v":14.285714285714286}]
[10,null,null,null,null,null,0,10,55,null,null,0,10,55,55,null,null,0,null,null,0,1.8181818181818181E-2,10,{"$f":"IF(W90<31,AVERAGE(OFFSET(INDEX('Points team et quota finales'!$C$5:$C$34,W90),0,0,COUNTIF($W$6:$W$105,W90))),0)","v":14.285714285714286}]
[10,null,null,null,null,null,0,10,55,null,null,0,10,55,55,null,null,0,null,null,0,1.8181818181818181E-2,10,{"$f":"IF(W91<31,AVERAGE(OFFSET(INDEX('Points team et quota finales'!$C$5:$C$34,W91),0,0,COUNTIF($W$6:$W$105,W91))),0)","v":14.285714285714286}]
[10,null,null,null,null,null,0,10,55,null,null,0,10,55,55,null,null,0,null,null,0,1.8181818181818181E-2,10,{"$f":"IF(W92<31,AVERAGE(OFFSET(INDEX('Points team et quota finales'!$C$5:$C$34,W92),0,0,COUNTIF($W$6:$W$105,W92))),0)","v":14.285714285714286}]
[10,null,null,null,null,null,0,10,55,null,null,0,10,55,55,null,null,0,null,null,0,1.8181818181818181E-2,10,{"$f":"IF(W93<31,AVERAGE(OFFSET(INDEX('Points team et quota finales'!$C$5:$C$34,W93),0,0,COUNTIF($W$6:$W$105,W93))),0)","v":14.285714285714286}]
[10,null,null,null,null,null,0,10,55,null,null,0,10,55,55,null,null,0,null,null,0,1.8181818181818181E-2,10,{"$f":"IF(W94<31,AVERAGE(OFFSET(INDEX('Points team et quota finales'!$C$5:$C$34,W94),0,0,COUNTIF($W$6:$W$105,W94))),0)","v":14.285714285714286}]
[10,null,null,null,null,null,0,10,55,null,null,0,10,55,55,null,null,0,null,null,0,1.8181818181818181E-2,10,{"$f":"IF(W95<31,AVERAGE(OFFSET(INDEX('Points team et quota finales'!$C$5:$C$34,W95),0,0,COUNTIF($W$6:$W$105,W95))),0)","v":14.285714285714286}]
[10,null,null,null,null,null,0,10,55,null,null,0,10,55,55,null,null,0,null,null,0,1.8181818181818181E-2,10,{"$f":"IF(W96<31,AVERAGE(OFFSET(INDEX('Points team et quota finales'!$C$5:$C$34,W96),0,0,COUNTIF($W$6:$W$105,W96))),0)","v":14.285714285714286}]
[10,null,null,null,null,null,0,10,55,null,null,0,10,55,55,null,null,0,null,null,0,1.8181818181818181E-2,10,{"$f":"IF(W97<31,AVERAGE(OFFSET(INDEX('Points team et quota finales'!$C$5:$C$34,W97),0,0,COUNTIF($W$6:$W$105,W97))),0)","v":14.285714285714286}]
[10,null,null,null,null,null,0,10,55,null,null,0,10,55,55,null,null,0,null,null,0,1.8181818181818181E-2,10,{"$f":"IF(W98<31,AVERAGE(OFFSET(INDEX('Points team et quota finales'!$C$5:$C$34,W98),0,0,COUNTIF($W$6:$W$105,W98))),0)","v":14.285714285714286}]
[10,null,null,null,null,null,0,10,55,null,null,0,10,55,55,null,null,0,null,null,0,1.8181818181818181E-2,10,{"$f":"IF(W99<31,AVERAGE(OFFSET(INDEX('Points team et quota finales'!$C$5:$C$34,W99),0,0,COUNTIF($W$6:$W$105,W99))),0)","v":14.285714285714286}]
[10,null,null,null,null,null,0,10,55,null,null,0,10,55,55,null,null,0,null,null,0,1.8181818181818181E-2,10,{"$f":"IF(W100<31,AVERAGE(OFFSET(INDEX('Points team et quota finales'!$C$5:$C$34,W100),0,0,COUNTIF($W$6:$W$105,W100))),0)","v":14.285714285714286}]
[10,null,null,null,null,null,0,10,55,null,null,0,10,55,55,null,null,0,null,null,0,1.8181818181818181E-2,10,{"$f":"IF(W101<31,AVERAGE(OFFSET(INDEX('Points team et quota finales'!$C$5:$C$34,W101),0,0,COUNTIF($W$6:$W$105,W101))),0)","v":14.285714285714286}]
[10,null,null,null,null,null,0,10,55,null,null,0,10,55,55,null,null,0,null,null,0,1.8181818181818181E-2,10,{"$f":"IF(W102<31,AVERAGE(OFFSET(INDEX('Points team et quota finales'!$C$5:$C$34,W102),0,0,COUNTIF($W$6:$W$105,W102))),0)","v":14.285714285714286}]
[10,null,null,null,null,null,0,10,55,null,null,0,10,55,55,null,null,0,null,null,0,1.8181818181818181E-2,10,{"$f":"IF(W103<31,AVERAGE(OFFSET(INDEX('Points team et quota finales'!$C$5:$C$34,W103),0,0,COUNTIF($W$6:$W$105,W103))),0)","v":14.285714285714286}]
[10,null,null,null,null,null,0,10,55,null,null,0,10,55,55,null,null,0,null,null,0,1.8181818181818181E-2,10,{"$f":"IF(W104<31,AVERAGE(OFFSET(INDEX('Points team et quota finales'!$C$5:$C$34,W104),0,0,COUNTIF($W$6:$W$105,W104))),0)","v":14.285714285714286}]
[10,null,null,null,null,null,0,10,55,null,null,0,10,55,55,null,null,0,null,null,0,1.8181818181818181E-2,10,{"$f":"IF(W105<31,AVERAGE(OFFSET(INDEX('Points team et quota finales'!$C$5:$C$34,W105),0,0,COUNTIF($W$6:$W$105,W105))),0)","v":14.285714285714286}]
[]
[]
[null,null,null,null,"Top =",28,null,null,null,"Top = ",35,null,null,null,null,"Top =",41,null,"Top ="]
[null,{"$f":"CONCATENATE(\"Jury President: \",General!$B$6)","v":"Jury President: Lieven Vlassenroot"}]
[]
[null,"Appeal until :"]

{"sheet":"Team","index":12,"n_rows":37,"n_cols":39,"rows_kept":37,"cut":false,"hidden":false,"merged":[[2,15,2,17],[2,18,2,20],[2,21,2,23],[1,9,1,23],[0,0,0,6],[1,0,1,6],[2,9,2,11],[2,12,2,14],[1,24,1,38],[2,24,2,26],[2,27,2,29],[2,30,2,32],[2,33,2,35],[2,36,2,38]]}
["TEAM RANKING"]
[{"$f":"General!$B$5","v":"Youth Lead Championship 09-03-2013"},null,null,null,null,null,null,null,null,"Female",null,null,null,null,null,null,null,null,null,null,null,null,null,null,"Male"]
[null,null,null,null,null,null,null,null,null,"D",null,null,"C",null,null,"B",null,null,"A",null,null,"J",null,null,"D",null,null,"C",null,null,"B",null,null,"A",null,null,"J"]
["RANG","Team name","Country","Team","Male","Female","Result",null,null,1,2,3,1,2,3,1,2,3,1,2,3,1,2,3,1,2,3,1,2,3,1,2,3,1,2,3,1,2,3]
[{"$f":"RANK(G5,$G$5:$G$37)","v":10},"Area","BE","ARE",{"$f":"LARGE($Y5:$AM5,1)+LARGE($Y5:$AM5,2)+LARGE($Y5:$AM5,3)","v":77},{"$f":"LARGE($J5:$X5,1)+LARGE($J5:$X5,2)+LARGE($J5:$X5,3)","v":65},{"$f":"ROUND(SUM($E5:$F5),0)","v":142},null,null,{"$f":"LARGE(IF(DF!$D$6:$D$105=Team!$D5,DF!$X$6:$X$105,0),Team!J$4)","v":0},{"$f":"LARGE(IF(DF!$D$6:$D$105=Team!$D5,DF!$X$6:$X$105,0),Team!K$4)","v":0},{"$f":"LARGE(IF(DF!$D$6:$D$105=Team!$D5,DF!$X$6:$X$105,0),Team!L$4)","v":0},{"$f":"LARGE(IF(CF!$D$6:$D$105=Team!$D5,CF!$X$6:$X$105,0),Team!M$4)","v":0},{"$f":"LARGE(IF(CF!$D$6:$D$105=Team!$D5,CF!$X$6:$X$105,0),Team!N$4)","v":0},{"$f":"LARGE(IF(CF!$D$6:$D$105=Team!$D5,CF!$X$6:$X$105,0),Team!O$4)","v":0},{"$f":"LARGE(IF(BF!$D$6:$D$105=Team!$D5,BF!$X$6:$X$105,0),Team!P$4)","v":65},{"$f":"LARGE(IF(BF!$D$6:$D$105=Team!$D5,BF!$X$6:$X$105,0),Team!Q$4)","v":0},{"$f":"LARGE(IF(BF!$D$6:$D$105=Team!$D5,BF!$X$6:$X$105,0),Team!R$4)","v":0},{"$f":"LARGE(IF(AF!$D$6:$D$105=Team!$D5,AF!$X$6:$X$105,0),Team!S$4)","v":0},{"$f":"LARGE(IF(AF!$D$6:$D$105=Team!$D5,AF!$X$6:$X$105,0),Team!T$4)","v":0},{"$f":"LARGE(IF(AF!$D$6:$D$105=Team!$D5,AF!$X$6:$X$105,0),Team!U$4)","v":0},{"$f":"LARGE(IF(JF!$D$6:$D$105=Team!$D5,JF!$X$6:$X$105,0),Team!V$4)","v":0},{"$f":"LARGE(IF(JF!$D$6:$D$105=Team!$D5,JF!$X$6:$X$105,0),Team!W$4)","v":0},{"$f":"LARGE(IF(JF!$D$6:$D$105=Team!$D5,JF!$X$6:$X$105,0),Team!X$4)","v":0},{"$f":"LARGE(IF(DM!$D$6:$D$104=Team!$D5,DM!$X$6:$X$104,0),Team!Y$4)","v":0},{"$f":"LARGE(IF(DM!$D$6:$D$104=Team!$D5,DM!$X$6:$X$104,0),Team!Z$4)","v":0},{"$f":"LARGE(IF(DM!$D$6:$D$104=Team!$D5,DM!$X$6:$X$104,0),Team!AA$4)","v":0},{"$f":"LARGE(IF(CM!$D$6:$D$102=Team!$D5,CM!$X$6:$X$102,0),Team!AB$4)","v":55},{"$f":"LARGE(IF(CM!$D$6:$D$102=Team!$D5,CM!$X$6:$X$102,0),Team!AC$4)","v":0},{"$f":"LARGE(IF(CM!$D$6:$D$102=Team!$D5,CM!$X$6:$X$102,0),Team!AD$4)","v":0},{"$f":"LARGE(IF(BM!$D$6:$D$103=Team!$D5,BM!$X$6:$X$103,0),Team!AE$4)","v":22},{"$f":"LARGE(IF(BM!$D$6:$D$103=Team!$D5,BM!$X$6:$X$103,0),Team!AF$4)","v":0},{"$f":"LARGE(IF(BM!$D$6:$D$103=Team!$D5,BM!$X$6:$X$103,0),Team!AG$4)","v":0},{"$f":"LARGE(IF(AM!$D$6:$D$105=Team!$D5,AM!$X$6:$X$105,0),Team!AH$4)","v":0},{"$f":"LARGE(IF(AM!$D$6:$D$105=Team!$D5,AM!$X$6:$X$105,0),Team!AI$4)","v":0},{"$f":"LARGE(IF(AM!$D$6:$D$105=Team!$D5,AM!$X$6:$X$105,0),Team!AJ$4)","v":0},{"$f":"LARGE(IF(JM!$D$6:$D$105=Team!$D5,JM!$X$6:$X$105,0),Team!AK$4)","v":0},{"$f":"LARGE(IF(JM!$D$6:$D$105=Team!$D5,JM!$X$6:$X$105,0),Team!AL$4)","v":0},{"$f":"LARGE(IF(JM!$D$6:$D$105=Team!$D5,JM!$X$6:$X$105,0),Team!AM$4)","v":0}]
[11,"Bleau Climbing Team","BE","BCT",51,0,51,null,null,{"$f":"LARGE(IF(DF!$D$6:$D$105=Team!$D6,DF!$X$6:$X$105,0),Team!J$4)","v":0},{"$f":"LARGE(IF(DF!$D$6:$D$105=Team!$D6,DF!$X$6:$X$105,0),Team!K$4)","v":0},{"$f":"LARGE(IF(DF!$D$6:$D$105=Team!$D6,DF!$X$6:$X$105,0),Team!L$4)","v":0},{"$f":"LARGE(IF(CF!$D$6:$D$105=Team!$D6,CF!$X$6:$X$105,0),Team!M$4)","v":0},{"$f":"LARGE(IF(CF!$D$6:$D$105=Team!$D6,CF!$X$6:$X$105,0),Team!N$4)","v":0},{"$f":"LARGE(IF(CF!$D$6:$D$105=Team!$D6,CF!$X$6:$X$105,0),Team!O$4)","v":0},{"$f":"LARGE(IF(BF!$D$6:$D$105=Team!$D6,BF!$X$6:$X$105,0),Team!P$4)","v":0},{"$f":"LARGE(IF(BF!$D$6:$D$105=Team!$D6,BF!$X$6:$X$105,0),Team!Q$4)","v":0},{"$f":"LARGE(IF(BF!$D$6:$D$105=Team!$D6,BF!$X$6:$X$105,0),Team!R$4)","v":0},{"$f":"LARGE(IF(AF!$D$6:$D$105=Team!$D6,AF!$X$6:$X$105,0),Team!S$4)","v":0},{"$f":"LARGE(IF(AF!$D$6:$D$105=Team!$D6,AF!$X$6:$X$105,0),Team!T$4)","v":0},{"$f":"LARGE(IF(AF!$D$6:$D$105=Team!$D6,AF!$X$6:$X$105,0),Team!U$4)","v":0},{"$f":"LARGE(IF(JF!$D$6:$D$105=Team!$D6,JF!$X$6:$X$105,0),Team!V$4)","v":0},{"$f":"LARGE(IF(JF!$D$6:$D$105=Team!$D6,JF!$X$6:$X$105,0),Team!W$4)","v":0},{"$f":"LARGE(IF(JF!$D$6:$D$105=Team!$D6,JF!$X$6:$X$105,0),Team!X$4)","v":0},{"$f":"LARGE(IF(DM!$D$6:$D$104=Team!$D6,DM!$X$6:$X$104,0),Team!Y$4)","v":0},{"$f":"LARGE(IF(DM!$D$6:$D$104=Team!$D6,DM!$X$6:$X$104,0),Team!Z$4)","v":0},{"$f":"LARGE(IF(DM!$D$6:$D$104=Team!$D6,DM!$X$6:$X$104,0),Team!AA$4)","v":0},{"$f":"LARGE(IF(CM!$D$6:$D$102=Team!$D6,CM!$X$6:$X$102,0),Team!AB$4)","v":0},{"$f":"LARGE(IF(CM!$D$6:$D$102=Team!$D6,CM!$X$6:$X$102,0),Team!AC$4)","v":0},{"$f":"LARGE(IF(CM!$D$6:$D$102=Team!$D6,CM!$X$6:$X$102,0),Team!AD$4)","v":0},{"$f":"LARGE(IF(BM!$D$6:$D$103=Team!$D6,BM!$X$6:$X$103,0),Team!AE$4)","v":0},{"$f":"LARGE(IF(BM!$D$6:$D$103=Team!$D6,BM!$X$6:$X$103,0),Team!AF$4)","v":0},{"$f":"LARGE(IF(BM!$D$6:$D$103=Team!$D6,BM!$X$6:$X$103,0),Team!AG$4)","v":0},{"$f":"LARGE(IF(AM!$D$6:$D$105=Team!$D6,AM!$X$6:$X$105,0),Team!AH$4)","v":0},{"$f":"LARGE(IF(AM!$D$6:$D$105=Team!$D6,AM!$X$6:$X$105,0),Team!AI$4)","v":0},{"$f":"LARGE(IF(AM!$D$6:$D$105=Team!$D6,AM!$X$6:$X$105,0),Team!AJ$4)","v":0},{"$f":"LARGE(IF(JM!$D$6:$D$105=Team!$D6,JM!$X$6:$X$105,0),Team!AK$4)","v":51},{"$f":"LARGE(IF(JM!$D$6:$D$105=Team!$D6,JM!$X$6:$X$105,0),Team!AL$4)","v":0},{"$f":"LARGE(IF(JM!$D$6:$D$105=Team!$D6,JM!$X$6:$X$105,0),Team!AM$4)","v":0}]
[12,"Bjoeks","NL","BJO",0,0,0,null,null,{"$f":"LARGE(IF(DF!$D$6:$D$105=Team!$D7,DF!$X$6:$X$105,0),Team!J$4)","v":0},{"$f":"LARGE(IF(DF!$D$6:$D$105=Team!$D7,DF!$X$6:$X$105,0),Team!K$4)","v":0},{"$f":"LARGE(IF(DF!$D$6:$D$105=Team!$D7,DF!$X$6:$X$105,0),Team!L$4)","v":0},{"$f":"LARGE(IF(CF!$D$6:$D$105=Team!$D7,CF!$X$6:$X$105,0),Team!M$4)","v":0},{"$f":"LARGE(IF(CF!$D$6:$D$105=Team!$D7,CF!$X$6:$X$105,0),Team!N$4)","v":0},{"$f":"LARGE(IF(CF!$D$6:$D$105=Team!$D7,CF!$X$6:$X$105,0),Team!O$4)","v":0},{"$f":"LARGE(IF(BF!$D$6:$D$105=Team!$D7,BF!$X$6:$X$105,0),Team!P$4)","v":0},{"$f":"LARGE(IF(BF!$D$6:$D$105=Team!$D7,BF!$X$6:$X$105,0),Team!Q$4)","v":0},{"$f":"LARGE(IF(BF!$D$6:$D$105=Team!$D7,BF!$X$6:$X$105,0),Team!R$4)","v":0},{"$f":"LARGE(IF(AF!$D$6:$D$105=Team!$D7,AF!$X$6:$X$105,0),Team!S$4)","v":0},{"$f":"LARGE(IF(AF!$D$6:$D$105=Team!$D7,AF!$X$6:$X$105,0),Team!T$4)","v":0},{"$f":"LARGE(IF(AF!$D$6:$D$105=Team!$D7,AF!$X$6:$X$105,0),Team!U$4)","v":0},{"$f":"LARGE(IF(JF!$D$6:$D$105=Team!$D7,JF!$X$6:$X$105,0),Team!V$4)","v":0},{"$f":"LARGE(IF(JF!$D$6:$D$105=Team!$D7,JF!$X$6:$X$105,0),Team!W$4)","v":0},{"$f":"LARGE(IF(JF!$D$6:$D$105=Team!$D7,JF!$X$6:$X$105,0),Team!X$4)","v":0},{"$f":"LARGE(IF(DM!$D$6:$D$104=Team!$D7,DM!$X$6:$X$104,0),Team!Y$4)","v":0},{"$f":"LARGE(IF(DM!$D$6:$D$104=Team!$D7,DM!$X$6:$X$104,0),Team!Z$4)","v":0},{"$f":"LARGE(IF(DM!$D$6:$D$104=Team!$D7,DM!$X$6:$X$104,0),Team!AA$4)","v":0},{"$f":"LARGE(IF(CM!$D$6:$D$102=Team!$D7,CM!$X$6:$X$102,0),Team!AB$4)","v":0},{"$f":"LARGE(IF(CM!$D$6:$D$102=Team!$D7,CM!$X$6:$X$102,0),Team!AC$4)","v":0},{"$f":"LARGE(IF(CM!$D$6:$D$102=Team!$D7,CM!$X$6:$X$102,0),Team!AD$4)","v":0},{"$f":"LARGE(IF(BM!$D$6:$D$103=Team!$D7,BM!$X$6:$X$103,0),Team!AE$4)","v":0},{"$f":"LARGE(IF(BM!$D$6:$D$103=Team!$D7,BM!$X$6:$X$103,0),Team!AF$4)","v":0},{"$f":"LARGE(IF(BM!$D$6:$D$103=Team!$D7,BM!$X$6:$X$103,0),Team!AG$4)","v":0},{"$f":"LARGE(IF(AM!$D$6:$D$105=Team!$D7,AM!$X$6:$X$105,0),Team!AH$4)","v":0},{"$f":"LARGE(IF(AM!$D$6:$D$105=Team!$D7,AM!$X$6:$X$105,0),Team!AI$4)","v":0},{"$f":"LARGE(IF(AM!$D$6:$D$105=Team!$D7,AM!$X$6:$X$105,0),Team!AJ$4)","v":0},{"$f":"LARGE(IF(JM!$D$6:$D$105=Team!$D7,JM!$X$6:$X$105,0),Team!AK$4)","v":0},{"$f":"LARGE(IF(JM!$D$6:$D$105=Team!$D7,JM!$X$6:$X$105,0),Team!AL$4)","v":0},{"$f":"LARGE(IF(JM!$D$6:$D$105=Team!$D7,JM!$X$6:$X$105,0),Team!AM$4)","v":0}]
[{"$f":"RANK(G8,$G$5:$G$37)","v":9},"Brussels Monkeys Climbing","BE","BMC",65,91,156,null,null,{"$f":"LARGE(IF(DF!$D$6:$D$105=Team!$D8,DF!$X$6:$X$105,0),Team!J$4)","v":40},{"$f":"LARGE(IF(DF!$D$6:$D$105=Team!$D8,DF!$X$6:$X$105,0),Team!K$4)","v":0},{"$f":"LARGE(IF(DF!$D$6:$D$105=Team!$D8,DF!$X$6:$X$105,0),Team!L$4)","v":0},{"$f":"LARGE(IF(CF!$D$6:$D$105=Team!$D8,CF!$X$6:$X$105,0),Team!M$4)","v":51},{"$f":"LARGE(IF(CF!$D$6:$D$105=Team!$D8,CF!$X$6:$X$105,0),Team!N$4)","v":0},{"$f":"LARGE(IF(CF!$D$6:$D$105=Team!$D8,CF!$X$6:$X$105,0),Team!O$4)","v":0},{"$f":"LARGE(IF(BF!$D$6:$D$105=Team!$D8,BF!$X$6:$X$105,0),Team!P$4)","v":0},{"$f":"LARGE(IF(BF!$D$6:$D$105=Team!$D8,BF!$X$6:$X$105,0),Team!Q$4)","v":0},{"$f":"LARGE(IF(BF!$D$6:$D$105=Team!$D8,BF!$X$6:$X$105,0),Team!R$4)","v":0},{"$f":"LARGE(IF(AF!$D$6:$D$105=Team!$D8,AF!$X$6:$X$105,0),Team!S$4)","v":0},{"$f":"LARGE(IF(AF!$D$6:$D$105=Team!$D8,AF!$X$6:$X$105,0),Team!T$4)","v":0},{"$f":"LARGE(IF(AF!$D$6:$D$105=Team!$D8,AF!$X$6:$X$105,0),Team!U$4)","v":0},{"$f":"LARGE(IF(JF!$D$6:$D$105=Team!$D8,JF!$X$6:$X$105,0),Team!V$4)","v":0},{"$f":"LARGE(IF(JF!$D$6:$D$105=Team!$D8,JF!$X$6:$X$105,0),Team!W$4)","v":0},{"$f":"LARGE(IF(JF!$D$6:$D$105=Team!$D8,JF!$X$6:$X$105,0),Team!X$4)","v":0},{"$f":"LARGE(IF(DM!$D$6:$D$104=Team!$D8,DM!$X$6:$X$104,0),Team!Y$4)","v":0},{"$f":"LARGE(IF(DM!$D$6:$D$104=Team!$D8,DM!$X$6:$X$104,0),Team!Z$4)","v":0},{"$f":"LARGE(IF(DM!$D$6:$D$104=Team!$D8,DM!$X$6:$X$104,0),Team!AA$4)","v":0},{"$f":"LARGE(IF(CM!$D$6:$D$102=Team!$D8,CM!$X$6:$X$102,0),Team!AB$4)","v":65},{"$f":"LARGE(IF(CM!$D$6:$D$102=Team!$D8,CM!$X$6:$X$102,0),Team!AC$4)","v":0},{"$f":"LARGE(IF(CM!$D$6:$D$102=Team!$D8,CM!$X$6:$X$102,0),Team!AD$4)","v":0},{"$f":"LARGE(IF(BM!$D$6:$D$103=Team!$D8,BM!$X$6:$X$103,0),Team!AE$4)","v":0},{"$f":"LARGE(IF(BM!$D$6:$D$103=Team!$D8,BM!$X$6:$X$103,0),Team!AF$4)","v":0},{"$f":"LARGE(IF(BM!$D$6:$D$103=Team!$D8,BM!$X$6:$X$103,0),Team!AG$4)","v":0},{"$f":"LARGE(IF(AM!$D$6:$D$105=Team!$D8,AM!$X$6:$X$105,0),Team!AH$4)","v":0},{"$f":"LARGE(IF(AM!$D$6:$D$105=Team!$D8,AM!$X$6:$X$105,0),Team!AI$4)","v":0},{"$f":"LARGE(IF(AM!$D$6:$D$105=Team!$D8,AM!$X$6:$X$105,0),Team!AJ$4)","v":0},{"$f":"LARGE(IF(JM!$D$6:$D$105=Team!$D8,JM!$X$6:$X$105,0),Team!AK$4)","v":0},{"$f":"LARGE(IF(JM!$D$6:$D$105=Team!$D8,JM!$X$6:$X$105,0),Team!AL$4)","v":0},{"$f":"LARGE(IF(JM!$D$6:$D$105=Team!$D8,JM!$X$6:$X$105,0),Team!AM$4)","v":0}]
[12,"Bergsport Oost-Vlaanderen","BE","BOVL",0,0,0,null,null,{"$f":"LARGE(IF(DF!$D$6:$D$105=Team!$D9,DF!$X$6:$X$105,0),Team!J$4)","v":0},{"$f":"LARGE(IF(DF!$D$6:$D$105=Team!$D9,DF!$X$6:$X$105,0),Team!K$4)","v":0},{"$f":"LARGE(IF(DF!$D$6:$D$105=Team!$D9,DF!$X$6:$X$105,0),Team!L$4)","v":0},{"$f":"LARGE(IF(CF!$D$6:$D$105=Team!$D9,CF!$X$6:$X$105,0),Team!M$4)","v":0},{"$f":"LARGE(IF(CF!$D$6:$D$105=Team!$D9,CF!$X$6:$X$105,0),Team!N$4)","v":0},{"$f":"LARGE(IF(CF!$D$6:$D$105=Team!$D9,CF!$X$6:$X$105,0),Team!O$4)","v":0},{"$f":"LARGE(IF(BF!$D$6:$D$105=Team!$D9,BF!$X$6:$X$105,0),Team!P$4)","v":0},{"$f":"LARGE(IF(BF!$D$6:$D$105=Team!$D9,BF!$X$6:$X$105,0),Team!Q$4)","v":0},{"$f":"LARGE(IF(BF!$D$6:$D$105=Team!$D9,BF!$X$6:$X$105,0),Team!R$4)","v":0},{"$f":"LARGE(IF(AF!$D$6:$D$105=Team!$D9,AF!$X$6:$X$105,0),Team!S$4)","v":0},{"$f":"LARGE(IF(AF!$D$6:$D$105=Team!$D9,AF!$X$6:$X$105,0),Team!T$4)","v":0},{"$f":"LARGE(IF(AF!$D$6:$D$105=Team!$D9,AF!$X$6:$X$105,0),Team!U$4)","v":0},{"$f":"LARGE(IF(JF!$D$6:$D$105=Team!$D9,JF!$X$6:$X$105,0),Team!V$4)","v":0},{"$f":"LARGE(IF(JF!$D$6:$D$105=Team!$D9,JF!$X$6:$X$105,0),Team!W$4)","v":0},{"$f":"LARGE(IF(JF!$D$6:$D$105=Team!$D9,JF!$X$6:$X$105,0),Team!X$4)","v":0},{"$f":"LARGE(IF(DM!$D$6:$D$104=Team!$D9,DM!$X$6:$X$104,0),Team!Y$4)","v":0},{"$f":"LARGE(IF(DM!$D$6:$D$104=Team!$D9,DM!$X$6:$X$104,0),Team!Z$4)","v":0},{"$f":"LARGE(IF(DM!$D$6:$D$104=Team!$D9,DM!$X$6:$X$104,0),Team!AA$4)","v":0},{"$f":"LARGE(IF(CM!$D$6:$D$102=Team!$D9,CM!$X$6:$X$102,0),Team!AB$4)","v":0},{"$f":"LARGE(IF(CM!$D$6:$D$102=Team!$D9,CM!$X$6:$X$102,0),Team!AC$4)","v":0},{"$f":"LARGE(IF(CM!$D$6:$D$102=Team!$D9,CM!$X$6:$X$102,0),Team!AD$4)","v":0},{"$f":"LARGE(IF(BM!$D$6:$D$103=Team!$D9,BM!$X$6:$X$103,0),Team!AE$4)","v":0},{"$f":"LARGE(IF(BM!$D$6:$D$103=Team!$D9,BM!$X$6:$X$103,0),Team!AF$4)","v":0},{"$f":"LARGE(IF(BM!$D$6:$D$103=Team!$D9,BM!$X$6:$X$103,0),Team!AG$4)","v":0},{"$f":"LARGE(IF(AM!$D$6:$D$105=Team!$D9,AM!$X$6:$X$105,0),Team!AH$4)","v":0},{"$f":"LARGE(IF(AM!$D$6:$D$105=Team!$D9,AM!$X$6:$X$105,0),Team!AI$4)","v":0},{"$f":"LARGE(IF(AM!$D$6:$D$105=Team!$D9,AM!$X$6:$X$105,0),Team!AJ$4)","v":0},{"$f":"LARGE(IF(JM!$D$6:$D$105=Team!$D9,JM!$X$6:$X$105,0),Team!AK$4)","v":0},{"$f":"LARGE(IF(JM!$D$6:$D$105=Team!$D9,JM!$X$6:$X$105,0),Team!AL$4)","v":0},{"$f":"LARGE(IF(JM!$D$6:$D$105=Team!$D9,JM!$X$6:$X$105,0),Team!AM$4)","v":0}]
[12,"CAF Nancy","FR","CAFN",0,0,0,null,null,{"$f":"LARGE(IF(DF!$D$6:$D$105=Team!$D10,DF!$X$6:$X$105,0),Team!J$4)","v":0},{"$f":"LARGE(IF(DF!$D$6:$D$105=Team!$D10,DF!$X$6:$X$105,0),Team!K$4)","v":0},{"$f":"LARGE(IF(DF!$D$6:$D$105=Team!$D10,DF!$X$6:$X$105,0),Team!L$4)","v":0},{"$f":"LARGE(IF(CF!$D$6:$D$105=Team!$D10,CF!$X$6:$X$105,0),Team!M$4)","v":0},{"$f":"LARGE(IF(CF!$D$6:$D$105=Team!$D10,CF!$X$6:$X$105,0),Team!N$4)","v":0},{"$f":"LARGE(IF(CF!$D$6:$D$105=Team!$D10,CF!$X$6:$X$105,0),Team!O$4)","v":0},{"$f":"LARGE(IF(BF!$D$6:$D$105=Team!$D10,BF!$X$6:$X$105,0),Team!P$4)","v":0},{"$f":"LARGE(IF(BF!$D$6:$D$105=Team!$D10,BF!$X$6:$X$105,0),Team!Q$4)","v":0},{"$f":"LARGE(IF(BF!$D$6:$D$105=Team!$D10,BF!$X$6:$X$105,0),Team!R$4)","v":0},{"$f":"LARGE(IF(AF!$D$6:$D$105=Team!$D10,AF!$X$6:$X$105,0),Team!S$4)","v":0},{"$f":"LARGE(IF(AF!$D$6:$D$105=Team!$D10,AF!$X$6:$X$105,0),Team!T$4)","v":0},{"$f":"LARGE(IF(AF!$D$6:$D$105=Team!$D10,AF!$X$6:$X$105,0),Team!U$4)","v":0},{"$f":"LARGE(IF(JF!$D$6:$D$105=Team!$D10,JF!$X$6:$X$105,0),Team!V$4)","v":0},{"$f":"LARGE(IF(JF!$D$6:$D$105=Team!$D10,JF!$X$6:$X$105,0),Team!W$4)","v":0},{"$f":"LARGE(IF(JF!$D$6:$D$105=Team!$D10,JF!$X$6:$X$105,0),Team!X$4)","v":0},{"$f":"LARGE(IF(DM!$D$6:$D$104=Team!$D10,DM!$X$6:$X$104,0),Team!Y$4)","v":0},{"$f":"LARGE(IF(DM!$D$6:$D$104=Team!$D10,DM!$X$6:$X$104,0),Team!Z$4)","v":0},{"$f":"LARGE(IF(DM!$D$6:$D$104=Team!$D10,DM!$X$6:$X$104,0),Team!AA$4)","v":0},{"$f":"LARGE(IF(CM!$D$6:$D$102=Team!$D10,CM!$X$6:$X$102,0),Team!AB$4)","v":0},{"$f":"LARGE(IF(CM!$D$6:$D$102=Team!$D10,CM!$X$6:$X$102,0),Team!AC$4)","v":0},{"$f":"LARGE(IF(CM!$D$6:$D$102=Team!$D10,CM!$X$6:$X$102,0),Team!AD$4)","v":0},{"$f":"LARGE(IF(BM!$D$6:$D$103=Team!$D10,BM!$X$6:$X$103,0),Team!AE$4)","v":0},{"$f":"LARGE(IF(BM!$D$6:$D$103=Team!$D10,BM!$X$6:$X$103,0),Team!AF$4)","v":0},{"$f":"LARGE(IF(BM!$D$6:$D$103=Team!$D10,BM!$X$6:$X$103,0),Team!AG$4)","v":0},{"$f":"LARGE(IF(AM!$D$6:$D$105=Team!$D10,AM!$X$6:$X$105,0),Team!AH$4)","v":0},{"$f":"LARGE(IF(AM!$D$6:$D$105=Team!$D10,AM!$X$6:$X$105,0),Team!AI$4)","v":0},{"$f":"LARGE(IF(AM!$D$6:$D$105=Team!$D10,AM!$X$6:$X$105,0),Team!AJ$4)","v":0},{"$f":"LARGE(IF(JM!$D$6:$D$105=Team!$D10,JM!$X$6:$X$105,0),Team!AK$4)","v":0},{"$f":"LARGE(IF(JM!$D$6:$D$105=Team!$D10,JM!$X$6:$X$105,0),Team!AL$4)","v":0},{"$f":"LARGE(IF(JM!$D$6:$D$105=Team!$D10,JM!$X$6:$X$105,0),Team!AM$4)","v":0}]
[1,"Climb Cool","BE","CC",265,265,530,null,null,{"$f":"LARGE(IF(DF!$D$6:$D$105=Team!$D11,DF!$X$6:$X$105,0),Team!J$4)","v":100},{"$f":"LARGE(IF(DF!$D$6:$D$105=Team!$D11,DF!$X$6:$X$105,0),Team!K$4)","v":65},{"$f":"LARGE(IF(DF!$D$6:$D$105=Team!$D11,DF!$X$6:$X$105,0),Team!L$4)","v":0},{"$f":"LARGE(IF(CF!$D$6:$D$105=Team!$D11,CF!$X$6:$X$105,0),Team!M$4)","v":0},{"$f":"LARGE(IF(CF!$D$6:$D$105=Team!$D11,CF!$X$6:$X$105,0),Team!N$4)","v":0},{"$f":"LARGE(IF(CF!$D$6:$D$105=Team!$D11,CF!$X$6:$X$105,0),Team!O$4)","v":0},{"$f":"LARGE(IF(BF!$D$6:$D$105=Team!$D11,BF!$X$6:$X$105,0),Team!P$4)","v":47},{"$f":"LARGE(IF(BF!$D$6:$D$105=Team!$D11,BF!$X$6:$X$105,0),Team!Q$4)","v":0},{"$f":"LARGE(IF(BF!$D$6:$D$105=Team!$D11,BF!$X$6:$X$105,0),Team!R$4)","v":0},{"$f":"LARGE(IF(AF!$D$6:$D$105=Team!$D11,AF!$X$6:$X$105,0),Team!S$4)","v":0},{"$f":"LARGE(IF(AF!$D$6:$D$105=Team!$D11,AF!$X$6:$X$105,0),Team!T$4)","v":0},{"$f":"LARGE(IF(AF!$D$6:$D$105=Team!$D11,AF!$X$6:$X$105,0),Team!U$4)","v":0},{"$f":"LARGE(IF(JF!$D$6:$D$105=Team!$D11,JF!$X$6:$X$105,0),Team!V$4)","v":100},{"$f":"LARGE(IF(JF!$D$6:$D$105=Team!$D11,JF!$X$6:$X$105,0),Team!W$4)","v":0},{"$f":"LARGE(IF(JF!$D$6:$D$105=Team!$D11,JF!$X$6:$X$105,0),Team!X$4)","v":0},{"$f":"LARGE(IF(DM!$D$6:$D$104=Team!$D11,DM!$X$6:$X$104,0),Team!Y$4)","v":37},{"$f":"LARGE(IF(DM!$D$6:$D$104=Team!$D11,DM!$X$6:$X$104,0),Team!Z$4)","v":0},{"$f":"LARGE(IF(DM!$D$6:$D$104=Team!$D11,DM!$X$6:$X$104,0),Team!AA$4)","v":0},{"$f":"LARGE(IF(CM!$D$6:$D$102=Team!$D11,CM!$X$6:$X$102,0),Team!AB$4)","v":100},{"$f":"LARGE(IF(CM!$D$6:$D$102=Team!$D11,CM!$X$6:$X$102,0),Team!AC$4)","v":34},{"$f":"LARGE(IF(CM!$D$6:$D$102=Team!$D11,CM!$X$6:$X$102,0),Team!AD$4)","v":0},{"$f":"LARGE(IF(BM!$D$6:$D$103=Team!$D11,BM!$X$6:$X$103,0),Team!AE$4)","v":31},{"$f":"LARGE(IF(BM!$D$6:$D$103=Team!$D11,BM!$X$6:$X$103,0),Team!AF$4)","v":24},{"$f":"LARGE(IF(BM!$D$6:$D$103=Team!$D11,BM!$X$6:$X$103,0),Team!AG$4)","v":0},{"$f":"LARGE(IF(AM!$D$6:$D$105=Team!$D11,AM!$X$6:$X$105,0),Team!AH$4)","v":100},{"$f":"LARGE(IF(AM!$D$6:$D$105=Team!$D11,AM!$X$6:$X$105,0),Team!AI$4)","v":65},{"$f":"LARGE(IF(AM!$D$6:$D$105=Team!$D11,AM!$X$6:$X$105,0),Team!AJ$4)","v":51},{"$f":"LARGE(IF(JM!$D$6:$D$105=Team!$D11,JM!$X$6:$X$105,0),Team!AK$4)","v":0},{"$f":"LARGE(IF(JM!$D$6:$D$105=Team!$D11,JM!$X$6:$X$105,0),Team!AL$4)","v":0},{"$f":"LARGE(IF(JM!$D$6:$D$105=Team!$D11,JM!$X$6:$X$105,0),Team!AM$4)","v":0}]
[12,"CEET (Thionville)","FR","CEET",0,0,0,null,null,{"$f":"LARGE(IF(DF!$D$6:$D$105=Team!$D12,DF!$X$6:$X$105,0),Team!J$4)","v":0},{"$f":"LARGE(IF(DF!$D$6:$D$105=Team!$D12,DF!$X$6:$X$105,0),Team!K$4)","v":0},{"$f":"LARGE(IF(DF!$D$6:$D$105=Team!$D12,DF!$X$6:$X$105,0),Team!L$4)","v":0},{"$f":"LARGE(IF(CF!$D$6:$D$105=Team!$D12,CF!$X$6:$X$105,0),Team!M$4)","v":0},{"$f":"LARGE(IF(CF!$D$6:$D$105=Team!$D12,CF!$X$6:$X$105,0),Team!N$4)","v":0},{"$f":"LARGE(IF(CF!$D$6:$D$105=Team!$D12,CF!$X$6:$X$105,0),Team!O$4)","v":0},{"$f":"LARGE(IF(BF!$D$6:$D$105=Team!$D12,BF!$X$6:$X$105,0),Team!P$4)","v":0},{"$f":"LARGE(IF(BF!$D$6:$D$105=Team!$D12,BF!$X$6:$X$105,0),Team!Q$4)","v":0},{"$f":"LARGE(IF(BF!$D$6:$D$105=Team!$D12,BF!$X$6:$X$105,0),Team!R$4)","v":0},{"$f":"LARGE(IF(AF!$D$6:$D$105=Team!$D12,AF!$X$6:$X$105,0),Team!S$4)","v":0},{"$f":"LARGE(IF(AF!$D$6:$D$105=Team!$D12,AF!$X$6:$X$105,0),Team!T$4)","v":0},{"$f":"LARGE(IF(AF!$D$6:$D$105=Team!$D12,AF!$X$6:$X$105,0),Team!U$4)","v":0},{"$f":"LARGE(IF(JF!$D$6:$D$105=Team!$D12,JF!$X$6:$X$105,0),Team!V$4)","v":0},{"$f":"LARGE(IF(JF!$D$6:$D$105=Team!$D12,JF!$X$6:$X$105,0),Team!W$4)","v":0},{"$f":"LARGE(IF(JF!$D$6:$D$105=Team!$D12,JF!$X$6:$X$105,0),Team!X$4)","v":0},{"$f":"LARGE(IF(DM!$D$6:$D$104=Team!$D12,DM!$X$6:$X$104,0),Team!Y$4)","v":0},{"$f":"LARGE(IF(DM!$D$6:$D$104=Team!$D12,DM!$X$6:$X$104,0),Team!Z$4)","v":0},{"$f":"LARGE(IF(DM!$D$6:$D$104=Team!$D12,DM!$X$6:$X$104,0),Team!AA$4)","v":0},{"$f":"LARGE(IF(CM!$D$6:$D$102=Team!$D12,CM!$X$6:$X$102,0),Team!AB$4)","v":0},{"$f":"LARGE(IF(CM!$D$6:$D$102=Team!$D12,CM!$X$6:$X$102,0),Team!AC$4)","v":0},{"$f":"LARGE(IF(CM!$D$6:$D$102=Team!$D12,CM!$X$6:$X$102,0),Team!AD$4)","v":0},{"$f":"LARGE(IF(BM!$D$6:$D$103=Team!$D12,BM!$X$6:$X$103,0),Team!AE$4)","v":0},{"$f":"LARGE(IF(BM!$D$6:$D$103=Team!$D12,BM!$X$6:$X$103,0),Team!AF$4)","v":0},{"$f":"LARGE(IF(BM!$D$6:$D$103=Team!$D12,BM!$X$6:$X$103,0),Team!AG$4)","v":0},{"$f":"LARGE(IF(AM!$D$6:$D$105=Team!$D12,AM!$X$6:$X$105,0),Team!AH$4)","v":0},{"$f":"LARGE(IF(AM!$D$6:$D$105=Team!$D12,AM!$X$6:$X$105,0),Team!AI$4)","v":0},{"$f":"LARGE(IF(AM!$D$6:$D$105=Team!$D12,AM!$X$6:$X$105,0),Team!AJ$4)","v":0},{"$f":"LARGE(IF(JM!$D$6:$D$105=Team!$D12,JM!$X$6:$X$105,0),Team!AK$4)","v":0},{"$f":"LARGE(IF(JM!$D$6:$D$105=Team!$D12,JM!$X$6:$X$105,0),Team!AL$4)","v":0},{"$f":"LARGE(IF(JM!$D$6:$D$105=Team!$D12,JM!$X$6:$X$105,0),Team!AM$4)","v":0}]
[12,"Climb Up","NL","CU",0,0,0,null,null,{"$f":"LARGE(IF(DF!$D$6:$D$105=Team!$D13,DF!$X$6:$X$105,0),Team!J$4)","v":0},{"$f":"LARGE(IF(DF!$D$6:$D$105=Team!$D13,DF!$X$6:$X$105,0),Team!K$4)","v":0},{"$f":"LARGE(IF(DF!$D$6:$D$105=Team!$D13,DF!$X$6:$X$105,0),Team!L$4)","v":0},{"$f":"LARGE(IF(CF!$D$6:$D$105=Team!$D13,CF!$X$6:$X$105,0),Team!M$4)","v":0},{"$f":"LARGE(IF(CF!$D$6:$D$105=Team!$D13,CF!$X$6:$X$105,0),Team!N$4)","v":0},{"$f":"LARGE(IF(CF!$D$6:$D$105=Team!$D13,CF!$X$6:$X$105,0),Team!O$4)","v":0},{"$f":"LARGE(IF(BF!$D$6:$D$105=Team!$D13,BF!$X$6:$X$105,0),Team!P$4)","v":0},{"$f":"LARGE(IF(BF!$D$6:$D$105=Team!$D13,BF!$X$6:$X$105,0),Team!Q$4)","v":0},{"$f":"LARGE(IF(BF!$D$6:$D$105=Team!$D13,BF!$X$6:$X$105,0),Team!R$4)","v":0},{"$f":"LARGE(IF(AF!$D$6:$D$105=Team!$D13,AF!$X$6:$X$105,0),Team!S$4)","v":0},{"$f":"LARGE(IF(AF!$D$6:$D$105=Team!$D13,AF!$X$6:$X$105,0),Team!T$4)","v":0},{"$f":"LARGE(IF(AF!$D$6:$D$105=Team!$D13,AF!$X$6:$X$105,0),Team!U$4)","v":0},{"$f":"LARGE(IF(JF!$D$6:$D$105=Team!$D13,JF!$X$6:$X$105,0),Team!V$4)","v":0},{"$f":"LARGE(IF(JF!$D$6:$D$105=Team!$D13,JF!$X$6:$X$105,0),Team!W$4)","v":0},{"$f":"LARGE(IF(JF!$D$6:$D$105=Team!$D13,JF!$X$6:$X$105,0),Team!X$4)","v":0},{"$f":"LARGE(IF(DM!$D$6:$D$104=Team!$D13,DM!$X$6:$X$104,0),Team!Y$4)","v":0},{"$f":"LARGE(IF(DM!$D$6:$D$104=Team!$D13,DM!$X$6:$X$104,0),Team!Z$4)","v":0},{"$f":"LARGE(IF(DM!$D$6:$D$104=Team!$D13,DM!$X$6:$X$104,0),Team!AA$4)","v":0},{"$f":"LARGE(IF(CM!$D$6:$D$102=Team!$D13,CM!$X$6:$X$102,0),Team!AB$4)","v":0},{"$f":"LARGE(IF(CM!$D$6:$D$102=Team!$D13,CM!$X$6:$X$102,0),Team!AC$4)","v":0},{"$f":"LARGE(IF(CM!$D$6:$D$102=Team!$D13,CM!$X$6:$X$102,0),Team!AD$4)","v":0},{"$f":"LARGE(IF(BM!$D$6:$D$103=Team!$D13,BM!$X$6:$X$103,0),Team!AE$4)","v":0},{"$f":"LARGE(IF(BM!$D$6:$D$103=Team!$D13,BM!$X$6:$X$103,0),Team!AF$4)","v":0},{"$f":"LARGE(IF(BM!$D$6:$D$103=Team!$D13,BM!$X$6:$X$103,0),Team!AG$4)","v":0},{"$f":"LARGE(IF(AM!$D$6:$D$105=Team!$D13,AM!$X$6:$X$105,0),Team!AH$4)","v":0},{"$f":"LARGE(IF(AM!$D$6:$D$105=Team!$D13,AM!$X$6:$X$105,0),Team!AI$4)","v":0},{"$f":"LARGE(IF(AM!$D$6:$D$105=Team!$D13,AM!$X$6:$X$105,0),Team!AJ$4)","v":0},{"$f":"LARGE(IF(JM!$D$6:$D$105=Team!$D13,JM!$X$6:$X$105,0),Team!AK$4)","v":0},{"$f":"LARGE(IF(JM!$D$6:$D$105=Team!$D13,JM!$X$6:$X$105,0),Team!AL$4)","v":0},{"$f":"LARGE(IF(JM!$D$6:$D$105=Team!$D13,JM!$X$6:$X$105,0),Team!AM$4)","v":0}]
[12,"Delirium","BE","DEL",0,0,0,null,null,{"$f":"LARGE(IF(DF!$D$6:$D$105=Team!$D14,DF!$X$6:$X$105,0),Team!J$4)","v":0},{"$f":"LARGE(IF(DF!$D$6:$D$105=Team!$D14,DF!$X$6:$X$105,0),Team!K$4)","v":0},{"$f":"LARGE(IF(DF!$D$6:$D$105=Team!$D14,DF!$X$6:$X$105,0),Team!L$4)","v":0},{"$f":"LARGE(IF(CF!$D$6:$D$105=Team!$D14,CF!$X$6:$X$105,0),Team!M$4)","v":0},{"$f":"LARGE(IF(CF!$D$6:$D$105=Team!$D14,CF!$X$6:$X$105,0),Team!N$4)","v":0},{"$f":"LARGE(IF(CF!$D$6:$D$105=Team!$D14,CF!$X$6:$X$105,0),Team!O$4)","v":0},{"$f":"LARGE(IF(BF!$D$6:$D$105=Team!$D14,BF!$X$6:$X$105,0),Team!P$4)","v":0},{"$f":"LARGE(IF(BF!$D$6:$D$105=Team!$D14,BF!$X$6:$X$105,0),Team!Q$4)","v":0},{"$f":"LARGE(IF(BF!$D$6:$D$105=Team!$D14,BF!$X$6:$X$105,0),Team!R$4)","v":0},{"$f":"LARGE(IF(AF!$D$6:$D$105=Team!$D14,AF!$X$6:$X$105,0),Team!S$4)","v":0},{"$f":"LARGE(IF(AF!$D$6:$D$105=Team!$D14,AF!$X$6:$X$105,0),Team!T$4)","v":0},{"$f":"LARGE(IF(AF!$D$6:$D$105=Team!$D14,AF!$X$6:$X$105,0),Team!U$4)","v":0},{"$f":"LARGE(IF(JF!$D$6:$D$105=Team!$D14,JF!$X$6:$X$105,0),Team!V$4)","v":0},{"$f":"LARGE(IF(JF!$D$6:$D$105=Team!$D14,JF!$X$6:$X$105,0),Team!W$4)","v":0},{"$f":"LARGE(IF(JF!$D$6:$D$105=Team!$D14,JF!$X$6:$X$105,0),Team!X$4)","v":0},{"$f":"LARGE(IF(DM!$D$6:$D$104=Team!$D14,DM!$X$6:$X$104,0),Team!Y$4)","v":0},{"$f":"LARGE(IF(DM!$D$6:$D$104=Team!$D14,DM!$X$6:$X$104,0),Team!Z$4)","v":0},{"$f":"LARGE(IF(DM!$D$6:$D$104=Team!$D14,DM!$X$6:$X$104,0),Team!AA$4)","v":0},{"$f":"LARGE(IF(CM!$D$6:$D$102=Team!$D14,CM!$X$6:$X$102,0),Team!AB$4)","v":0},{"$f":"LARGE(IF(CM!$D$6:$D$102=Team!$D14,CM!$X$6:$X$102,0),Team!AC$4)","v":0},{"$f":"LARGE(IF(CM!$D$6:$D$102=Team!$D14,CM!$X$6:$X$102,0),Team!AD$4)","v":0},{"$f":"LARGE(IF(BM!$D$6:$D$103=Team!$D14,BM!$X$6:$X$103,0),Team!AE$4)","v":0},{"$f":"LARGE(IF(BM!$D$6:$D$103=Team!$D14,BM!$X$6:$X$103,0),Team!AF$4)","v":0},{"$f":"LARGE(IF(BM!$D$6:$D$103=Team!$D14,BM!$X$6:$X$103,0),Team!AG$4)","v":0},{"$f":"LARGE(IF(AM!$D$6:$D$105=Team!$D14,AM!$X$6:$X$105,0),Team!AH$4)","v":0},{"$f":"LARGE(IF(AM!$D$6:$D$105=Team!$D14,AM!$X$6:$X$105,0),Team!AI$4)","v":0},{"$f":"LARGE(IF(AM!$D$6:$D$105=Team!$D14,AM!$X$6:$X$105,0),Team!AJ$4)","v":0},{"$f":"LARGE(IF(JM!$D$6:$D$105=Team!$D14,JM!$X$6:$X$105,0),Team!AK$4)","v":0},{"$f":"LARGE(IF(JM!$D$6:$D$105=Team!$D14,JM!$X$6:$X$105,0),Team!AL$4)","v":0},{"$f":"LARGE(IF(JM!$D$6:$D$105=Team!$D14,JM!$X$6:$X$105,0),Team!AM$4)","v":0}]
[12,"Den Greep","BE","DG",0,0,0,null,null,{"$f":"LARGE(IF(DF!$D$6:$D$105=Team!$D15,DF!$X$6:$X$105,0),Team!J$4)","v":0},{"$f":"LARGE(IF(DF!$D$6:$D$105=Team!$D15,DF!$X$6:$X$105,0),Team!K$4)","v":0},{"$f":"LARGE(IF(DF!$D$6:$D$105=Team!$D15,DF!$X$6:$X$105,0),Team!L$4)","v":0},{"$f":"LARGE(IF(CF!$D$6:$D$105=Team!$D15,CF!$X$6:$X$105,0),Team!M$4)","v":0},{"$f":"LARGE(IF(CF!$D$6:$D$105=Team!$D15,CF!$X$6:$X$105,0),Team!N$4)","v":0},{"$f":"LARGE(IF(CF!$D$6:$D$105=Team!$D15,CF!$X$6:$X$105,0),Team!O$4)","v":0},{"$f":"LARGE(IF(BF!$D$6:$D$105=Team!$D15,BF!$X$6:$X$105,0),Team!P$4)","v":0},{"$f":"LARGE(IF(BF!$D$6:$D$105=Team!$D15,BF!$X$6:$X$105,0),Team!Q$4)","v":0},{"$f":"LARGE(IF(BF!$D$6:$D$105=Team!$D15,BF!$X$6:$X$105,0),Team!R$4)","v":0},{"$f":"LARGE(IF(AF!$D$6:$D$105=Team!$D15,AF!$X$6:$X$105,0),Team!S$4)","v":0},{"$f":"LARGE(IF(AF!$D$6:$D$105=Team!$D15,AF!$X$6:$X$105,0),Team!T$4)","v":0},{"$f":"LARGE(IF(AF!$D$6:$D$105=Team!$D15,AF!$X$6:$X$105,0),Team!U$4)","v":0},{"$f":"LARGE(IF(JF!$D$6:$D$105=Team!$D15,JF!$X$6:$X$105,0),Team!V$4)","v":0},{"$f":"LARGE(IF(JF!$D$6:$D$105=Team!$D15,JF!$X$6:$X$105,0),Team!W$4)","v":0},{"$f":"LARGE(IF(JF!$D$6:$D$105=Team!$D15,JF!$X$6:$X$105,0),Team!X$4)","v":0},{"$f":"LARGE(IF(DM!$D$6:$D$104=Team!$D15,DM!$X$6:$X$104,0),Team!Y$4)","v":0},{"$f":"LARGE(IF(DM!$D$6:$D$104=Team!$D15,DM!$X$6:$X$104,0),Team!Z$4)","v":0},{"$f":"LARGE(IF(DM!$D$6:$D$104=Team!$D15,DM!$X$6:$X$104,0),Team!AA$4)","v":0},{"$f":"LARGE(IF(CM!$D$6:$D$102=Team!$D15,CM!$X$6:$X$102,0),Team!AB$4)","v":0},{"$f":"LARGE(IF(CM!$D$6:$D$102=Team!$D15,CM!$X$6:$X$102,0),Team!AC$4)","v":0},{"$f":"LARGE(IF(CM!$D$6:$D$102=Team!$D15,CM!$X$6:$X$102,0),Team!AD$4)","v":0},{"$f":"LARGE(IF(BM!$D$6:$D$103=Team!$D15,BM!$X$6:$X$103,0),Team!AE$4)","v":0},{"$f":"LARGE(IF(BM!$D$6:$D$103=Team!$D15,BM!$X$6:$X$103,0),Team!AF$4)","v":0},{"$f":"LARGE(IF(BM!$D$6:$D$103=Team!$D15,BM!$X$6:$X$103,0),Team!AG$4)","v":0},{"$f":"LARGE(IF(AM!$D$6:$D$105=Team!$D15,AM!$X$6:$X$105,0),Team!AH$4)","v":0},{"$f":"LARGE(IF(AM!$D$6:$D$105=Team!$D15,AM!$X$6:$X$105,0),Team!AI$4)","v":0},{"$f":"LARGE(IF(AM!$D$6:$D$105=Team!$D15,AM!$X$6:$X$105,0),Team!AJ$4)","v":0},{"$f":"LARGE(IF(JM!$D$6:$D$105=Team!$D15,JM!$X$6:$X$105,0),Team!AK$4)","v":0},{"$f":"LARGE(IF(JM!$D$6:$D$105=Team!$D15,JM!$X$6:$X$105,0),Team!AL$4)","v":0},{"$f":"LARGE(IF(JM!$D$6:$D$105=Team!$D15,JM!$X$6:$X$105,0),Team!AM$4)","v":0}]
[6,"ECT","BE","ECT",163,80,243,null,null,{"$f":"LARGE(IF(DF!$D$6:$D$105=Team!$D16,DF!$X$6:$X$105,0),Team!J$4)","v":43},{"$f":"LARGE(IF(DF!$D$6:$D$105=Team!$D16,DF!$X$6:$X$105,0),Team!K$4)","v":37},{"$f":"LARGE(IF(DF!$D$6:$D$105=Team!$D16,DF!$X$6:$X$105,0),Team!L$4)","v":0},{"$f":"LARGE(IF(CF!$D$6:$D$105=Team!$D16,CF!$X$6:$X$105,0),Team!M$4)","v":0},{"$f":"LARGE(IF(CF!$D$6:$D$105=Team!$D16,CF!$X$6:$X$105,0),Team!N$4)","v":0},{"$f":"LARGE(IF(CF!$D$6:$D$105=Team!$D16,CF!$X$6:$X$105,0),Team!O$4)","v":0},{"$f":"LARGE(IF(BF!$D$6:$D$105=Team!$D16,BF!$X$6:$X$105,0),Team!P$4)","v":0},{"$f":"LARGE(IF(BF!$D$6:$D$105=Team!$D16,BF!$X$6:$X$105,0),Team!Q$4)","v":0},{"$f":"LARGE(IF(BF!$D$6:$D$105=Team!$D16,BF!$X$6:$X$105,0),Team!R$4)","v":0},{"$f":"LARGE(IF(AF!$D$6:$D$105=Team!$D16,AF!$X$6:$X$105,0),Team!S$4)","v":0},{"$f":"LARGE(IF(AF!$D$6:$D$105=Team!$D16,AF!$X$6:$X$105,0),Team!T$4)","v":0},{"$f":"LARGE(IF(AF!$D$6:$D$105=Team!$D16,AF!$X$6:$X$105,0),Team!U$4)","v":0},{"$f":"LARGE(IF(JF!$D$6:$D$105=Team!$D16,JF!$X$6:$X$105,0),Team!V$4)","v":0},{"$f":"LARGE(IF(JF!$D$6:$D$105=Team!$D16,JF!$X$6:$X$105,0),Team!W$4)","v":0},{"$f":"LARGE(IF(JF!$D$6:$D$105=Team!$D16,JF!$X$6:$X$105,0),Team!X$4)","v":0},{"$f":"LARGE(IF(DM!$D$6:$D$104=Team!$D16,DM!$X$6:$X$104,0),Team!Y$4)","v":51},{"$f":"LARGE(IF(DM!$D$6:$D$104=Team!$D16,DM!$X$6:$X$104,0),Team!Z$4)","v":43},{"$f":"LARGE(IF(DM!$D$6:$D$104=Team!$D16,DM!$X$6:$X$104,0),Team!AA$4)","v":40},{"$f":"LARGE(IF(CM!$D$6:$D$102=Team!$D16,CM!$X$6:$X$102,0),Team!AB$4)","v":26},{"$f":"LARGE(IF(CM!$D$6:$D$102=Team!$D16,CM!$X$6:$X$102,0),Team!AC$4)","v":0},{"$f":"LARGE(IF(CM!$D$6:$D$102=Team!$D16,CM!$X$6:$X$102,0),Team!AD$4)","v":0},{"$f":"LARGE(IF(BM!$D$6:$D$103=Team!$D16,BM!$X$6:$X$103,0),Team!AE$4)","v":0},{"$f":"LARGE(IF(BM!$D$6:$D$103=Team!$D16,BM!$X$6:$X$103,0),Team!AF$4)","v":0},{"$f":"LARGE(IF(BM!$D$6:$D$103=Team!$D16,BM!$X$6:$X$103,0),Team!AG$4)","v":0},{"$f":"LARGE(IF(AM!$D$6:$D$105=Team!$D16,AM!$X$6:$X$105,0),Team!AH$4)","v":0},{"$f":"LARGE(IF(AM!$D$6:$D$105=Team!$D16,AM!$X$6:$X$105,0),Team!AI$4)","v":0},{"$f":"LARGE(IF(AM!$D$6:$D$105=Team!$D16,AM!$X$6:$X$105,0),Team!AJ$4)","v":0},{"$f":"LARGE(IF(JM!$D$6:$D$105=Team!$D16,JM!$X$6:$X$105,0),Team!AK$4)","v":65},{"$f":"LARGE(IF(JM!$D$6:$D$105=Team!$D16,JM!$X$6:$X$105,0),Team!AL$4)","v":47},{"$f":"LARGE(IF(JM!$D$6:$D$105=Team!$D16,JM!$X$6:$X$105,0),Team!AM$4)","v":37}]
[{"$f":"RANK(G17,$G$5:$G$37)","v":12},"ED+ Nijmegen","NL","ED",0,0,0,null,null,{"$f":"LARGE(IF(DF!$D$6:$D$105=Team!$D17,DF!$X$6:$X$105,0),Team!J$4)","v":0},{"$f":"LARGE(IF(DF!$D$6:$D$105=Team!$D17,DF!$X$6:$X$105,0),Team!K$4)","v":0},{"$f":"LARGE(IF(DF!$D$6:$D$105=Team!$D17,DF!$X$6:$X$105,0),Team!L$4)","v":0},{"$f":"LARGE(IF(CF!$D$6:$D$105=Team!$D17,CF!$X$6:$X$105,0),Team!M$4)","v":0},{"$f":"LARGE(IF(CF!$D$6:$D$105=Team!$D17,CF!$X$6:$X$105,0),Team!N$4)","v":0},{"$f":"LARGE(IF(CF!$D$6:$D$105=Team!$D17,CF!$X$6:$X$105,0),Team!O$4)","v":0},{"$f":"LARGE(IF(BF!$D$6:$D$105=Team!$D17,BF!$X$6:$X$105,0),Team!P$4)","v":0},{"$f":"LARGE(IF(BF!$D$6:$D$105=Team!$D17,BF!$X$6:$X$105,0),Team!Q$4)","v":0},{"$f":"LARGE(IF(BF!$D$6:$D$105=Team!$D17,BF!$X$6:$X$105,0),Team!R$4)","v":0},{"$f":"LARGE(IF(AF!$D$6:$D$105=Team!$D17,AF!$X$6:$X$105,0),Team!S$4)","v":0},{"$f":"LARGE(IF(AF!$D$6:$D$105=Team!$D17,AF!$X$6:$X$105,0),Team!T$4)","v":0},{"$f":"LARGE(IF(AF!$D$6:$D$105=Team!$D17,AF!$X$6:$X$105,0),Team!U$4)","v":0},{"$f":"LARGE(IF(JF!$D$6:$D$105=Team!$D17,JF!$X$6:$X$105,0),Team!V$4)","v":0},{"$f":"LARGE(IF(JF!$D$6:$D$105=Team!$D17,JF!$X$6:$X$105,0),Team!W$4)","v":0},{"$f":"LARGE(IF(JF!$D$6:$D$105=Team!$D17,JF!$X$6:$X$105,0),Team!X$4)","v":0},{"$f":"LARGE(IF(DM!$D$6:$D$104=Team!$D17,DM!$X$6:$X$104,0),Team!Y$4)","v":0},{"$f":"LARGE(IF(DM!$D$6:$D$104=Team!$D17,DM!$X$6:$X$104,0),Team!Z$4)","v":0},{"$f":"LARGE(IF(DM!$D$6:$D$104=Team!$D17,DM!$X$6:$X$104,0),Team!AA$4)","v":0},{"$f":"LARGE(IF(CM!$D$6:$D$102=Team!$D17,CM!$X$6:$X$102,0),Team!AB$4)","v":0},{"$f":"LARGE(IF(CM!$D$6:$D$102=Team!$D17,CM!$X$6:$X$102,0),Team!AC$4)","v":0},{"$f":"LARGE(IF(CM!$D$6:$D$102=Team!$D17,CM!$X$6:$X$102,0),Team!AD$4)","v":0},{"$f":"LARGE(IF(BM!$D$6:$D$103=Team!$D17,BM!$X$6:$X$103,0),Team!AE$4)","v":0},{"$f":"LARGE(IF(BM!$D$6:$D$103=Team!$D17,BM!$X$6:$X$103,0),Team!AF$4)","v":0},{"$f":"LARGE(IF(BM!$D$6:$D$103=Team!$D17,BM!$X$6:$X$103,0),Team!AG$4)","v":0},{"$f":"LARGE(IF(AM!$D$6:$D$105=Team!$D17,AM!$X$6:$X$105,0),Team!AH$4)","v":0},{"$f":"LARGE(IF(AM!$D$6:$D$105=Team!$D17,AM!$X$6:$X$105,0),Team!AI$4)","v":0},{"$f":"LARGE(IF(AM!$D$6:$D$105=Team!$D17,AM!$X$6:$X$105,0),Team!AJ$4)","v":0},{"$f":"LARGE(IF(JM!$D$6:$D$105=Team!$D17,JM!$X$6:$X$105,0),Team!AK$4)","v":0},{"$f":"LARGE(IF(JM!$D$6:$D$105=Team!$D17,JM!$X$6:$X$105,0),Team!AL$4)","v":0},{"$f":"LARGE(IF(JM!$D$6:$D$105=Team!$D17,JM!$X$6:$X$105,0),Team!AM$4)","v":0}]
[12,"ES Onsight","NL","ES",0,0,0,null,null,{"$f":"LARGE(IF(DF!$D$6:$D$105=Team!$D18,DF!$X$6:$X$105,0),Team!J$4)","v":0},{"$f":"LARGE(IF(DF!$D$6:$D$105=Team!$D18,DF!$X$6:$X$105,0),Team!K$4)","v":0},{"$f":"LARGE(IF(DF!$D$6:$D$105=Team!$D18,DF!$X$6:$X$105,0),Team!L$4)","v":0},{"$f":"LARGE(IF(CF!$D$6:$D$105=Team!$D18,CF!$X$6:$X$105,0),Team!M$4)","v":0},{"$f":"LARGE(IF(CF!$D$6:$D$105=Team!$D18,CF!$X$6:$X$105,0),Team!N$4)","v":0},{"$f":"LARGE(IF(CF!$D$6:$D$105=Team!$D18,CF!$X$6:$X$105,0),Team!O$4)","v":0},{"$f":"LARGE(IF(BF!$D$6:$D$105=Team!$D18,BF!$X$6:$X$105,0),Team!P$4)","v":0},{"$f":"LARGE(IF(BF!$D$6:$D$105=Team!$D18,BF!$X$6:$X$105,0),Team!Q$4)","v":0},{"$f":"LARGE(IF(BF!$D$6:$D$105=Team!$D18,BF!$X$6:$X$105,0),Team!R$4)","v":0},{"$f":"LARGE(IF(AF!$D$6:$D$105=Team!$D18,AF!$X$6:$X$105,0),Team!S$4)","v":0},{"$f":"LARGE(IF(AF!$D$6:$D$105=Team!$D18,AF!$X$6:$X$105,0),Team!T$4)","v":0},{"$f":"LARGE(IF(AF!$D$6:$D$105=Team!$D18,AF!$X$6:$X$105,0),Team!U$4)","v":0},{"$f":"LARGE(IF(JF!$D$6:$D$105=Team!$D18,JF!$X$6:$X$105,0),Team!V$4)","v":0},{"$f":"LARGE(IF(JF!$D$6:$D$105=Team!$D18,JF!$X$6:$X$105,0),Team!W$4)","v":0},{"$f":"LARGE(IF(JF!$D$6:$D$105=Team!$D18,JF!$X$6:$X$105,0),Team!X$4)","v":0},{"$f":"LARGE(IF(DM!$D$6:$D$104=Team!$D18,DM!$X$6:$X$104,0),Team!Y$4)","v":0},{"$f":"LARGE(IF(DM!$D$6:$D$104=Team!$D18,DM!$X$6:$X$104,0),Team!Z$4)","v":0},{"$f":"LARGE(IF(DM!$D$6:$D$104=Team!$D18,DM!$X$6:$X$104,0),Team!AA$4)","v":0},{"$f":"LARGE(IF(CM!$D$6:$D$102=Team!$D18,CM!$X$6:$X$102,0),Team!AB$4)","v":0},{"$f":"LARGE(IF(CM!$D$6:$D$102=Team!$D18,CM!$X$6:$X$102,0),Team!AC$4)","v":0},{"$f":"LARGE(IF(CM!$D$6:$D$102=Team!$D18,CM!$X$6:$X$102,0),Team!AD$4)","v":0},{"$f":"LARGE(IF(BM!$D$6:$D$103=Team!$D18,BM!$X$6:$X$103,0),Team!AE$4)","v":0},{"$f":"LARGE(IF(BM!$D$6:$D$103=Team!$D18,BM!$X$6:$X$103,0),Team!AF$4)","v":0},{"$f":"LARGE(IF(BM!$D$6:$D$103=Team!$D18,BM!$X$6:$X$103,0),Team!AG$4)","v":0},{"$f":"LARGE(IF(AM!$D$6:$D$105=Team!$D18,AM!$X$6:$X$105,0),Team!AH$4)","v":0},{"$f":"LARGE(IF(AM!$D$6:$D$105=Team!$D18,AM!$X$6:$X$105,0),Team!AI$4)","v":0},{"$f":"LARGE(IF(AM!$D$6:$D$105=Team!$D18,AM!$X$6:$X$105,0),Team!AJ$4)","v":0},{"$f":"LARGE(IF(JM!$D$6:$D$105=Team!$D18,JM!$X$6:$X$105,0),Team!AK$4)","v":0},{"$f":"LARGE(IF(JM!$D$6:$D$105=Team!$D18,JM!$X$6:$X$105,0),Team!AL$4)","v":0},{"$f":"LARGE(IF(JM!$D$6:$D$105=Team!$D18,JM!$X$6:$X$105,0),Team!AM$4)","v":0}]
[4,"Escale","BE","ESC",225,215,440,null,null,{"$f":"LARGE(IF(DF!$D$6:$D$105=Team!$D19,DF!$X$6:$X$105,0),Team!J$4)","v":28},{"$f":"LARGE(IF(DF!$D$6:$D$105=Team!$D19,DF!$X$6:$X$105,0),Team!K$4)","v":0},{"$f":"LARGE(IF(DF!$D$6:$D$105=Team!$D19,DF!$X$6:$X$105,0),Team!L$4)","v":0},{"$f":"LARGE(IF(CF!$D$6:$D$105=Team!$D19,CF!$X$6:$X$105,0),Team!M$4)","v":80},{"$f":"LARGE(IF(CF!$D$6:$D$105=Team!$D19,CF!$X$6:$X$105,0),Team!N$4)","v":55},{"$f":"LARGE(IF(CF!$D$6:$D$105=Team!$D19,CF!$X$6:$X$105,0),Team!O$4)","v":47},{"$f":"LARGE(IF(BF!$D$6:$D$105=Team!$D19,BF!$X$6:$X$105,0),Team!P$4)","v":51},{"$f":"LARGE(IF(BF!$D$6:$D$105=Team!$D19,BF!$X$6:$X$105,0),Team!Q$4)","v":0},{"$f":"LARGE(IF(BF!$D$6:$D$105=Team!$D19,BF!$X$6:$X$105,0),Team!R$4)","v":0},{"$f":"LARGE(IF(AF!$D$6:$D$105=Team!$D19,AF!$X$6:$X$105,0),Team!S$4)","v":0},{"$f":"LARGE(IF(AF!$D$6:$D$105=Team!$D19,AF!$X$6:$X$105,0),Team!T$4)","v":0},{"$f":"LARGE(IF(AF!$D$6:$D$105=Team!$D19,AF!$X$6:$X$105,0),Team!U$4)","v":0},{"$f":"LARGE(IF(JF!$D$6:$D$105=Team!$D19,JF!$X$6:$X$105,0),Team!V$4)","v":80},{"$f":"LARGE(IF(JF!$D$6:$D$105=Team!$D19,JF!$X$6:$X$105,0),Team!W$4)","v":0},{"$f":"LARGE(IF(JF!$D$6:$D$105=Team!$D19,JF!$X$6:$X$105,0),Team!X$4)","v":0},{"$f":"LARGE(IF(DM!$D$6:$D$104=Team!$D19,DM!$X$6:$X$104,0),Team!Y$4)","v":47},{"$f":"LARGE(IF(DM!$D$6:$D$104=Team!$D19,DM!$X$6:$X$104,0),Team!Z$4)","v":0},{"$f":"LARGE(IF(DM!$D$6:$D$104=Team!$D19,DM!$X$6:$X$104,0),Team!AA$4)","v":0},{"$f":"LARGE(IF(CM!$D$6:$D$102=Team!$D19,CM!$X$6:$X$102,0),Team!AB$4)","v":0},{"$f":"LARGE(IF(CM!$D$6:$D$102=Team!$D19,CM!$X$6:$X$102,0),Team!AC$4)","v":0},{"$f":"LARGE(IF(CM!$D$6:$D$102=Team!$D19,CM!$X$6:$X$102,0),Team!AD$4)","v":0},{"$f":"LARGE(IF(BM!$D$6:$D$103=Team!$D19,BM!$X$6:$X$103,0),Team!AE$4)","v":80},{"$f":"LARGE(IF(BM!$D$6:$D$103=Team!$D19,BM!$X$6:$X$103,0),Team!AF$4)","v":65},{"$f":"LARGE(IF(BM!$D$6:$D$103=Team!$D19,BM!$X$6:$X$103,0),Team!AG$4)","v":51},{"$f":"LARGE(IF(AM!$D$6:$D$105=Team!$D19,AM!$X$6:$X$105,0),Team!AH$4)","v":80},{"$f":"LARGE(IF(AM!$D$6:$D$105=Team!$D19,AM!$X$6:$X$105,0),Team!AI$4)","v":47},{"$f":"LARGE(IF(AM!$D$6:$D$105=Team!$D19,AM!$X$6:$X$105,0),Team!AJ$4)","v":35.5},{"$f":"LARGE(IF(JM!$D$6:$D$105=Team!$D19,JM!$X$6:$X$105,0),Team!AK$4)","v":41.5},{"$f":"LARGE(IF(JM!$D$6:$D$105=Team!$D19,JM!$X$6:$X$105,0),Team!AL$4)","v":0},{"$f":"LARGE(IF(JM!$D$6:$D$105=Team!$D19,JM!$X$6:$X$105,0),Team!AM$4)","v":0}]
[7,"Gecko Tank","BE","GT",109.5,119,229,null,null,{"$f":"LARGE(IF(DF!$D$6:$D$105=Team!$D20,DF!$X$6:$X$105,0),Team!J$4)","v":0},{"$f":"LARGE(IF(DF!$D$6:$D$105=Team!$D20,DF!$X$6:$X$105,0),Team!K$4)","v":0},{"$f":"LARGE(IF(DF!$D$6:$D$105=Team!$D20,DF!$X$6:$X$105,0),Team!L$4)","v":0},{"$f":"LARGE(IF(CF!$D$6:$D$105=Team!$D20,CF!$X$6:$X$105,0),Team!M$4)","v":37},{"$f":"LARGE(IF(CF!$D$6:$D$105=Team!$D20,CF!$X$6:$X$105,0),Team!N$4)","v":31},{"$f":"LARGE(IF(CF!$D$6:$D$105=Team!$D20,CF!$X$6:$X$105,0),Team!O$4)","v":0},{"$f":"LARGE(IF(BF!$D$6:$D$105=Team!$D20,BF!$X$6:$X$105,0),Team!P$4)","v":0},{"$f":"LARGE(IF(BF!$D$6:$D$105=Team!$D20,BF!$X$6:$X$105,0),Team!Q$4)","v":0},{"$f":"LARGE(IF(BF!$D$6:$D$105=Team!$D20,BF!$X$6:$X$105,0),Team!R$4)","v":0},{"$f":"LARGE(IF(AF!$D$6:$D$105=Team!$D20,AF!$X$6:$X$105,0),Team!S$4)","v":51},{"$f":"LARGE(IF(AF!$D$6:$D$105=Team!$D20,AF!$X$6:$X$105,0),Team!T$4)","v":0},{"$f":"LARGE(IF(AF!$D$6:$D$105=Team!$D20,AF!$X$6:$X$105,0),Team!U$4)","v":0},{"$f":"LARGE(IF(JF!$D$6:$D$105=Team!$D20,JF!$X$6:$X$105,0),Team!V$4)","v":0},{"$f":"LARGE(IF(JF!$D$6:$D$105=Team!$D20,JF!$X$6:$X$105,0),Team!W$4)","v":0},{"$f":"LARGE(IF(JF!$D$6:$D$105=Team!$D20,JF!$X$6:$X$105,0),Team!X$4)","v":0},{"$f":"LARGE(IF(DM!$D$6:$D$104=Team!$D20,DM!$X$6:$X$104,0),Team!Y$4)","v":0},{"$f":"LARGE(IF(DM!$D$6:$D$104=Team!$D20,DM!$X$6:$X$104,0),Team!Z$4)","v":0},{"$f":"LARGE(IF(DM!$D$6:$D$104=Team!$D20,DM!$X$6:$X$104,0),Team!AA$4)","v":0},{"$f":"LARGE(IF(CM!$D$6:$D$102=Team!$D20,CM!$X$6:$X$102,0),Team!AB$4)","v":0},{"$f":"LARGE(IF(CM!$D$6:$D$102=Team!$D20,CM!$X$6:$X$102,0),Team!AC$4)","v":0},{"$f":"LARGE(IF(CM!$D$6:$D$102=Team!$D20,CM!$X$6:$X$102,0),Team!AD$4)","v":0},{"$f":"LARGE(IF(BM!$D$6:$D$103=Team!$D20,BM!$X$6:$X$103,0),Team!AE$4)","v":40},{"$f":"LARGE(IF(BM!$D$6:$D$103=Team!$D20,BM!$X$6:$X$103,0),Team!AF$4)","v":28},{"$f":"LARGE(IF(BM!$D$6:$D$103=Team!$D20,BM!$X$6:$X$103,0),Team!AG$4)","v":0},{"$f":"LARGE(IF(AM!$D$6:$D$105=Team!$D20,AM!$X$6:$X$105,0),Team!AH$4)","v":0},{"$f":"LARGE(IF(AM!$D$6:$D$105=Team!$D20,AM!$X$6:$X$105,0),Team!AI$4)","v":0},{"$f":"LARGE(IF(AM!$D$6:$D$105=Team!$D20,AM!$X$6:$X$105,0),Team!AJ$4)","v":0},{"$f":"LARGE(IF(JM!$D$6:$D$105=Team!$D20,JM!$X$6:$X$105,0),Team!AK$4)","v":41.5},{"$f":"LARGE(IF(JM!$D$6:$D$105=Team!$D20,JM!$X$6:$X$105,0),Team!AL$4)","v":0},{"$f":"LARGE(IF(JM!$D$6:$D$105=Team!$D20,JM!$X$6:$X$105,0),Team!AM$4)","v":0}]
[5,"KC Hungaria","BE","HUN",142,137,279,null,null,{"$f":"LARGE(IF(DF!$D$6:$D$105=Team!$D21,DF!$X$6:$X$105,0),Team!J$4)","v":51},{"$f":"LARGE(IF(DF!$D$6:$D$105=Team!$D21,DF!$X$6:$X$105,0),Team!K$4)","v":31},{"$f":"LARGE(IF(DF!$D$6:$D$105=Team!$D21,DF!$X$6:$X$105,0),Team!L$4)","v":0},{"$f":"LARGE(IF(CF!$D$6:$D$105=Team!$D21,CF!$X$6:$X$105,0),Team!M$4)","v":28},{"$f":"LARGE(IF(CF!$D$6:$D$105=Team!$D21,CF!$X$6:$X$105,0),Team!N$4)","v":0},{"$f":"LARGE(IF(CF!$D$6:$D$105=Team!$D21,CF!$X$6:$X$105,0),Team!O$4)","v":0},{"$f":"LARGE(IF(BF!$D$6:$D$105=Team!$D21,BF!$X$6:$X$105,0),Team!P$4)","v":0},{"$f":"LARGE(IF(BF!$D$6:$D$105=Team!$D21,BF!$X$6:$X$105,0),Team!Q$4)","v":0},{"$f":"LARGE(IF(BF!$D$6:$D$105=Team!$D21,BF!$X$6:$X$105,0),Team!R$4)","v":0},{"$f":"LARGE(IF(AF!$D$6:$D$105=Team!$D21,AF!$X$6:$X$105,0),Team!S$4)","v":55},{"$f":"LARGE(IF(AF!$D$6:$D$105=Team!$D21,AF!$X$6:$X$105,0),Team!T$4)","v":0},{"$f":"LARGE(IF(AF!$D$6:$D$105=Team!$D21,AF!$X$6:$X$105,0),Team!U$4)","v":0},{"$f":"LARGE(IF(JF!$D$6:$D$105=Team!$D21,JF!$X$6:$X$105,0),Team!V$4)","v":0},{"$f":"LARGE(IF(JF!$D$6:$D$105=Team!$D21,JF!$X$6:$X$105,0),Team!W$4)","v":0},{"$f":"LARGE(IF(JF!$D$6:$D$105=Team!$D21,JF!$X$6:$X$105,0),Team!X$4)","v":0},{"$f":"LARGE(IF(DM!$D$6:$D$104=Team!$D21,DM!$X$6:$X$104,0),Team!Y$4)","v":0},{"$f":"LARGE(IF(DM!$D$6:$D$104=Team!$D21,DM!$X$6:$X$104,0),Team!Z$4)","v":0},{"$f":"LARGE(IF(DM!$D$6:$D$104=Team!$D21,DM!$X$6:$X$104,0),Team!AA$4)","v":0},{"$f":"LARGE(IF(CM!$D$6:$D$102=Team!$D21,CM!$X$6:$X$102,0),Team!AB$4)","v":31},{"$f":"LARGE(IF(CM!$D$6:$D$102=Team!$D21,CM!$X$6:$X$102,0),Team!AC$4)","v":28},{"$f":"LARGE(IF(CM!$D$6:$D$102=Team!$D21,CM!$X$6:$X$102,0),Team!AD$4)","v":0},{"$f":"LARGE(IF(BM!$D$6:$D$103=Team!$D21,BM!$X$6:$X$103,0),Team!AE$4)","v":26},{"$f":"LARGE(IF(BM!$D$6:$D$103=Team!$D21,BM!$X$6:$X$103,0),Team!AF$4)","v":0},{"$f":"LARGE(IF(BM!$D$6:$D$103=Team!$D21,BM!$X$6:$X$103,0),Team!AG$4)","v":0},{"$f":"LARGE(IF(AM!$D$6:$D$105=Team!$D21,AM!$X$6:$X$105,0),Team!AH$4)","v":31},{"$f":"LARGE(IF(AM!$D$6:$D$105=Team!$D21,AM!$X$6:$X$105,0),Team!AI$4)","v":0},{"$f":"LARGE(IF(AM!$D$6:$D$105=Team!$D21,AM!$X$6:$X$105,0),Team!AJ$4)","v":0},{"$f":"LARGE(IF(JM!$D$6:$D$105=Team!$D21,JM!$X$6:$X$105,0),Team!AK$4)","v":80},{"$f":"LARGE(IF(JM!$D$6:$D$105=Team!$D21,JM!$X$6:$X$105,0),Team!AL$4)","v":0},{"$f":"LARGE(IF(JM!$D$6:$D$105=Team!$D21,JM!$X$6:$X$105,0),Team!AM$4)","v":0}]
[{"$f":"RANK(G22,$G$5:$G$37)","v":12},"Klimmuur Den Haag","NL","KDH",0,0,0,null,null,{"$f":"LARGE(IF(DF!$D$6:$D$105=Team!$D22,DF!$X$6:$X$105,0),Team!J$4)","v":0},{"$f":"LARGE(IF(DF!$D$6:$D$105=Team!$D22,DF!$X$6:$X$105,0),Team!K$4)","v":0},{"$f":"LARGE(IF(DF!$D$6:$D$105=Team!$D22,DF!$X$6:$X$105,0),Team!L$4)","v":0},{"$f":"LARGE(IF(CF!$D$6:$D$105=Team!$D22,CF!$X$6:$X$105,0),Team!M$4)","v":0},{"$f":"LARGE(IF(CF!$D$6:$D$105=Team!$D22,CF!$X$6:$X$105,0),Team!N$4)","v":0},{"$f":"LARGE(IF(CF!$D$6:$D$105=Team!$D22,CF!$X$6:$X$105,0),Team!O$4)","v":0},{"$f":"LARGE(IF(BF!$D$6:$D$105=Team!$D22,BF!$X$6:$X$105,0),Team!P$4)","v":0},{"$f":"LARGE(IF(BF!$D$6:$D$105=Team!$D22,BF!$X$6:$X$105,0),Team!Q$4)","v":0},{"$f":"LARGE(IF(BF!$D$6:$D$105=Team!$D22,BF!$X$6:$X$105,0),Team!R$4)","v":0},{"$f":"LARGE(IF(AF!$D$6:$D$105=Team!$D22,AF!$X$6:$X$105,0),Team!S$4)","v":0},{"$f":"LARGE(IF(AF!$D$6:$D$105=Team!$D22,AF!$X$6:$X$105,0),Team!T$4)","v":0},{"$f":"LARGE(IF(AF!$D$6:$D$105=Team!$D22,AF!$X$6:$X$105,0),Team!U$4)","v":0},{"$f":"LARGE(IF(JF!$D$6:$D$105=Team!$D22,JF!$X$6:$X$105,0),Team!V$4)","v":0},{"$f":"LARGE(IF(JF!$D$6:$D$105=Team!$D22,JF!$X$6:$X$105,0),Team!W$4)","v":0},{"$f":"LARGE(IF(JF!$D$6:$D$105=Team!$D22,JF!$X$6:$X$105,0),Team!X$4)","v":0},{"$f":"LARGE(IF(DM!$D$6:$D$104=Team!$D22,DM!$X$6:$X$104,0),Team!Y$4)","v":0},{"$f":"LARGE(IF(DM!$D$6:$D$104=Team!$D22,DM!$X$6:$X$104,0),Team!Z$4)","v":0},{"$f":"LARGE(IF(DM!$D$6:$D$104=Team!$D22,DM!$X$6:$X$104,0),Team!AA$4)","v":0},{"$f":"LARGE(IF(CM!$D$6:$D$102=Team!$D22,CM!$X$6:$X$102,0),Team!AB$4)","v":0},{"$f":"LARGE(IF(CM!$D$6:$D$102=Team!$D22,CM!$X$6:$X$102,0),Team!AC$4)","v":0},{"$f":"LARGE(IF(CM!$D$6:$D$102=Team!$D22,CM!$X$6:$X$102,0),Team!AD$4)","v":0},{"$f":"LARGE(IF(BM!$D$6:$D$103=Team!$D22,BM!$X$6:$X$103,0),Team!AE$4)","v":0},{"$f":"LARGE(IF(BM!$D$6:$D$103=Team!$D22,BM!$X$6:$X$103,0),Team!AF$4)","v":0},{"$f":"LARGE(IF(BM!$D$6:$D$103=Team!$D22,BM!$X$6:$X$103,0),Team!AG$4)","v":0},{"$f":"LARGE(IF(AM!$D$6:$D$105=Team!$D22,AM!$X$6:$X$105,0),Team!AH$4)","v":0},{"$f":"LARGE(IF(AM!$D$6:$D$105=Team!$D22,AM!$X$6:$X$105,0),Team!AI$4)","v":0},{"$f":"LARGE(IF(AM!$D$6:$D$105=Team!$D22,AM!$X$6:$X$105,0),Team!AJ$4)","v":0},{"$f":"LARGE(IF(JM!$D$6:$D$105=Team!$D22,JM!$X$6:$X$105,0),Team!AK$4)","v":0},{"$f":"LARGE(IF(JM!$D$6:$D$105=Team!$D22,JM!$X$6:$X$105,0),Team!AL$4)","v":0},{"$f":"LARGE(IF(JM!$D$6:$D$105=Team!$D22,JM!$X$6:$X$105,0),Team!AM$4)","v":0}]
[12,"KKH","LUX","KKH",0,0,0,null,null,{"$f":"LARGE(IF(DF!$D$6:$D$105=Team!$D23,DF!$X$6:$X$105,0),Team!J$4)","v":0},{"$f":"LARGE(IF(DF!$D$6:$D$105=Team!$D23,DF!$X$6:$X$105,0),Team!K$4)","v":0},{"$f":"LARGE(IF(DF!$D$6:$D$105=Team!$D23,DF!$X$6:$X$105,0),Team!L$4)","v":0},{"$f":"LARGE(IF(CF!$D$6:$D$105=Team!$D23,CF!$X$6:$X$105,0),Team!M$4)","v":0},{"$f":"LARGE(IF(CF!$D$6:$D$105=Team!$D23,CF!$X$6:$X$105,0),Team!N$4)","v":0},{"$f":"LARGE(IF(CF!$D$6:$D$105=Team!$D23,CF!$X$6:$X$105,0),Team!O$4)","v":0},{"$f":"LARGE(IF(BF!$D$6:$D$105=Team!$D23,BF!$X$6:$X$105,0),Team!P$4)","v":0},{"$f":"LARGE(IF(BF!$D$6:$D$105=Team!$D23,BF!$X$6:$X$105,0),Team!Q$4)","v":0},{"$f":"LARGE(IF(BF!$D$6:$D$105=Team!$D23,BF!$X$6:$X$105,0),Team!R$4)","v":0},{"$f":"LARGE(IF(AF!$D$6:$D$105=Team!$D23,AF!$X$6:$X$105,0),Team!S$4)","v":0},{"$f":"LARGE(IF(AF!$D$6:$D$105=Team!$D23,AF!$X$6:$X$105,0),Team!T$4)","v":0},{"$f":"LARGE(IF(AF!$D$6:$D$105=Team!$D23,AF!$X$6:$X$105,0),Team!U$4)","v":0},{"$f":"LARGE(IF(JF!$D$6:$D$105=Team!$D23,JF!$X$6:$X$105,0),Team!V$4)","v":0},{"$f":"LARGE(IF(JF!$D$6:$D$105=Team!$D23,JF!$X$6:$X$105,0),Team!W$4)","v":0},{"$f":"LARGE(IF(JF!$D$6:$D$105=Team!$D23,JF!$X$6:$X$105,0),Team!X$4)","v":0},{"$f":"LARGE(IF(DM!$D$6:$D$104=Team!$D23,DM!$X$6:$X$104,0),Team!Y$4)","v":0},{"$f":"LARGE(IF(DM!$D$6:$D$104=Team!$D23,DM!$X$6:$X$104,0),Team!Z$4)","v":0},{"$f":"LARGE(IF(DM!$D$6:$D$104=Team!$D23,DM!$X$6:$X$104,0),Team!AA$4)","v":0},{"$f":"LARGE(IF(CM!$D$6:$D$102=Team!$D23,CM!$X$6:$X$102,0),Team!AB$4)","v":0},{"$f":"LARGE(IF(CM!$D$6:$D$102=Team!$D23,CM!$X$6:$X$102,0),Team!AC$4)","v":0},{"$f":"LARGE(IF(CM!$D$6:$D$102=Team!$D23,CM!$X$6:$X$102,0),Team!AD$4)","v":0},{"$f":"LARGE(IF(BM!$D$6:$D$103=Team!$D23,BM!$X$6:$X$103,0),Team!AE$4)","v":0},{"$f":"LARGE(IF(BM!$D$6:$D$103=Team!$D23,BM!$X$6:$X$103,0),Team!AF$4)","v":0},{"$f":"LARGE(IF(BM!$D$6:$D$103=Team!$D23,BM!$X$6:$X$103,0),Team!AG$4)","v":0},{"$f":"LARGE(IF(AM!$D$6:$D$105=Team!$D23,AM!$X$6:$X$105,0),Team!AH$4)","v":0},{"$f":"LARGE(IF(AM!$D$6:$D$105=Team!$D23,AM!$X$6:$X$105,0),Team!AI$4)","v":0},{"$f":"LARGE(IF(AM!$D$6:$D$105=Team!$D23,AM!$X$6:$X$105,0),Team!AJ$4)","v":0},{"$f":"LARGE(IF(JM!$D$6:$D$105=Team!$D23,JM!$X$6:$X$105,0),Team!AK$4)","v":0},{"$f":"LARGE(IF(JM!$D$6:$D$105=Team!$D23,JM!$X$6:$X$105,0),Team!AL$4)","v":0},{"$f":"LARGE(IF(JM!$D$6:$D$105=Team!$D23,JM!$X$6:$X$105,0),Team!AM$4)","v":0}]
[2,"Klimax","BE","KLI",220,300,520,null,null,{"$f":"LARGE(IF(DF!$D$6:$D$105=Team!$D24,DF!$X$6:$X$105,0),Team!J$4)","v":80},{"$f":"LARGE(IF(DF!$D$6:$D$105=Team!$D24,DF!$X$6:$X$105,0),Team!K$4)","v":34},{"$f":"LARGE(IF(DF!$D$6:$D$105=Team!$D24,DF!$X$6:$X$105,0),Team!L$4)","v":0},{"$f":"LARGE(IF(CF!$D$6:$D$105=Team!$D24,CF!$X$6:$X$105,0),Team!M$4)","v":100},{"$f":"LARGE(IF(CF!$D$6:$D$105=Team!$D24,CF!$X$6:$X$105,0),Team!N$4)","v":65},{"$f":"LARGE(IF(CF!$D$6:$D$105=Team!$D24,CF!$X$6:$X$105,0),Team!O$4)","v":43},{"$f":"LARGE(IF(BF!$D$6:$D$105=Team!$D24,BF!$X$6:$X$105,0),Team!P$4)","v":100},{"$f":"LARGE(IF(BF!$D$6:$D$105=Team!$D24,BF!$X$6:$X$105,0),Team!Q$4)","v":55},{"$f":"LARGE(IF(BF!$D$6:$D$105=Team!$D24,BF!$X$6:$X$105,0),Team!R$4)","v":0},{"$f":"LARGE(IF(AF!$D$6:$D$105=Team!$D24,AF!$X$6:$X$105,0),Team!S$4)","v":100},{"$f":"LARGE(IF(AF!$D$6:$D$105=Team!$D24,AF!$X$6:$X$105,0),Team!T$4)","v":0},{"$f":"LARGE(IF(AF!$D$6:$D$105=Team!$D24,AF!$X$6:$X$105,0),Team!U$4)","v":0},{"$f":"LARGE(IF(JF!$D$6:$D$105=Team!$D24,JF!$X$6:$X$105,0),Team!V$4)","v":0},{"$f":"LARGE(IF(JF!$D$6:$D$105=Team!$D24,JF!$X$6:$X$105,0),Team!W$4)","v":0},{"$f":"LARGE(IF(JF!$D$6:$D$105=Team!$D24,JF!$X$6:$X$105,0),Team!X$4)","v":0},{"$f":"LARGE(IF(DM!$D$6:$D$104=Team!$D24,DM!$X$6:$X$104,0),Team!Y$4)","v":100},{"$f":"LARGE(IF(DM!$D$6:$D$104=Team!$D24,DM!$X$6:$X$104,0),Team!Z$4)","v":65},{"$f":"LARGE(IF(DM!$D$6:$D$104=Team!$D24,DM!$X$6:$X$104,0),Team!AA$4)","v":0},{"$f":"LARGE(IF(CM!$D$6:$D$102=Team!$D24,CM!$X$6:$X$102,0),Team!AB$4)","v":51},{"$f":"LARGE(IF(CM!$D$6:$D$102=Team!$D24,CM!$X$6:$X$102,0),Team!AC$4)","v":40},{"$f":"LARGE(IF(CM!$D$6:$D$102=Team!$D24,CM!$X$6:$X$102,0),Team!AD$4)","v":37},{"$f":"LARGE(IF(BM!$D$6:$D$103=Team!$D24,BM!$X$6:$X$103,0),Team!AE$4)","v":43},{"$f":"LARGE(IF(BM!$D$6:$D$103=Team!$D24,BM!$X$6:$X$103,0),Team!AF$4)","v":37},{"$f":"LARGE(IF(BM!$D$6:$D$103=Team!$D24,BM!$X$6:$X$103,0),Team!AG$4)","v":34},{"$f":"LARGE(IF(AM!$D$6:$D$105=Team!$D24,AM!$X$6:$X$105,0),Team!AH$4)","v":55},{"$f":"LARGE(IF(AM!$D$6:$D$105=Team!$D24,AM!$X$6:$X$105,0),Team!AI$4)","v":0},{"$f":"LARGE(IF(AM!$D$6:$D$105=Team!$D24,AM!$X$6:$X$105,0),Team!AJ$4)","v":0},{"$f":"LARGE(IF(JM!$D$6:$D$105=Team!$D24,JM!$X$6:$X$105,0),Team!AK$4)","v":55},{"$f":"LARGE(IF(JM!$D$6:$D$105=Team!$D24,JM!$X$6:$X$105,0),Team!AL$4)","v":0},{"$f":"LARGE(IF(JM!$D$6:$D$105=Team!$D24,JM!$X$6:$X$105,0),Team!AM$4)","v":0}]
[{"$f":"RANK(G25,$G$5:$G$37)","v":12},"KSE Luxembourg","LUX","KSE",0,0,0,null,null,{"$f":"LARGE(IF(DF!$D$6:$D$105=Team!$D25,DF!$X$6:$X$105,0),Team!J$4)","v":0},{"$f":"LARGE(IF(DF!$D$6:$D$105=Team!$D25,DF!$X$6:$X$105,0),Team!K$4)","v":0},{"$f":"LARGE(IF(DF!$D$6:$D$105=Team!$D25,DF!$X$6:$X$105,0),Team!L$4)","v":0},{"$f":"LARGE(IF(CF!$D$6:$D$105=Team!$D25,CF!$X$6:$X$105,0),Team!M$4)","v":0},{"$f":"LARGE(IF(CF!$D$6:$D$105=Team!$D25,CF!$X$6:$X$105,0),Team!N$4)","v":0},{"$f":"LARGE(IF(CF!$D$6:$D$105=Team!$D25,CF!$X$6:$X$105,0),Team!O$4)","v":0},{"$f":"LARGE(IF(BF!$D$6:$D$105=Team!$D25,BF!$X$6:$X$105,0),Team!P$4)","v":0},{"$f":"LARGE(IF(BF!$D$6:$D$105=Team!$D25,BF!$X$6:$X$105,0),Team!Q$4)","v":0},{"$f":"LARGE(IF(BF!$D$6:$D$105=Team!$D25,BF!$X$6:$X$105,0),Team!R$4)","v":0},{"$f":"LARGE(IF(AF!$D$6:$D$105=Team!$D25,AF!$X$6:$X$105,0),Team!S$4)","v":0},{"$f":"LARGE(IF(AF!$D$6:$D$105=Team!$D25,AF!$X$6:$X$105,0),Team!T$4)","v":0},{"$f":"LARGE(IF(AF!$D$6:$D$105=Team!$D25,AF!$X$6:$X$105,0),Team!U$4)","v":0},{"$f":"LARGE(IF(JF!$D$6:$D$105=Team!$D25,JF!$X$6:$X$105,0),Team!V$4)","v":0},{"$f":"LARGE(IF(JF!$D$6:$D$105=Team!$D25,JF!$X$6:$X$105,0),Team!W$4)","v":0},{"$f":"LARGE(IF(JF!$D$6:$D$105=Team!$D25,JF!$X$6:$X$105,0),Team!X$4)","v":0},{"$f":"LARGE(IF(DM!$D$6:$D$104=Team!$D25,DM!$X$6:$X$104,0),Team!Y$4)","v":0},{"$f":"LARGE(IF(DM!$D$6:$D$104=Team!$D25,DM!$X$6:$X$104,0),Team!Z$4)","v":0},{"$f":"LARGE(IF(DM!$D$6:$D$104=Team!$D25,DM!$X$6:$X$104,0),Team!AA$4)","v":0},{"$f":"LARGE(IF(CM!$D$6:$D$102=Team!$D25,CM!$X$6:$X$102,0),Team!AB$4)","v":0},{"$f":"LARGE(IF(CM!$D$6:$D$102=Team!$D25,CM!$X$6:$X$102,0),Team!AC$4)","v":0},{"$f":"LARGE(IF(CM!$D$6:$D$102=Team!$D25,CM!$X$6:$X$102,0),Team!AD$4)","v":0},{"$f":"LARGE(IF(BM!$D$6:$D$103=Team!$D25,BM!$X$6:$X$103,0),Team!AE$4)","v":0},{"$f":"LARGE(IF(BM!$D$6:$D$103=Team!$D25,BM!$X$6:$X$103,0),Team!AF$4)","v":0},{"$f":"LARGE(IF(BM!$D$6:$D$103=Team!$D25,BM!$X$6:$X$103,0),Team!AG$4)","v":0},{"$f":"LARGE(IF(AM!$D$6:$D$105=Team!$D25,AM!$X$6:$X$105,0),Team!AH$4)","v":0},{"$f":"LARGE(IF(AM!$D$6:$D$105=Team!$D25,AM!$X$6:$X$105,0),Team!AI$4)","v":0},{"$f":"LARGE(IF(AM!$D$6:$D$105=Team!$D25,AM!$X$6:$X$105,0),Team!AJ$4)","v":0},{"$f":"LARGE(IF(JM!$D$6:$D$105=Team!$D25,JM!$X$6:$X$105,0),Team!AK$4)","v":0},{"$f":"LARGE(IF(JM!$D$6:$D$105=Team!$D25,JM!$X$6:$X$105,0),Team!AL$4)","v":0},{"$f":"LARGE(IF(JM!$D$6:$D$105=Team!$D25,JM!$X$6:$X$105,0),Team!AM$4)","v":0}]
[12,"Le Huit","BE","LH",0,0,0,null,null,{"$f":"LARGE(IF(DF!$D$6:$D$105=Team!$D26,DF!$X$6:$X$105,0),Team!J$4)","v":0},{"$f":"LARGE(IF(DF!$D$6:$D$105=Team!$D26,DF!$X$6:$X$105,0),Team!K$4)","v":0},{"$f":"LARGE(IF(DF!$D$6:$D$105=Team!$D26,DF!$X$6:$X$105,0),Team!L$4)","v":0},{"$f":"LARGE(IF(CF!$D$6:$D$105=Team!$D26,CF!$X$6:$X$105,0),Team!M$4)","v":0},{"$f":"LARGE(IF(CF!$D$6:$D$105=Team!$D26,CF!$X$6:$X$105,0),Team!N$4)","v":0},{"$f":"LARGE(IF(CF!$D$6:$D$105=Team!$D26,CF!$X$6:$X$105,0),Team!O$4)","v":0},{"$f":"LARGE(IF(BF!$D$6:$D$105=Team!$D26,BF!$X$6:$X$105,0),Team!P$4)","v":0},{"$f":"LARGE(IF(BF!$D$6:$D$105=Team!$D26,BF!$X$6:$X$105,0),Team!Q$4)","v":0},{"$f":"LARGE(IF(BF!$D$6:$D$105=Team!$D26,BF!$X$6:$X$105,0),Team!R$4)","v":0},{"$f":"LARGE(IF(AF!$D$6:$D$105=Team!$D26,AF!$X$6:$X$105,0),Team!S$4)","v":0},{"$f":"LARGE(IF(AF!$D$6:$D$105=Team!$D26,AF!$X$6:$X$105,0),Team!T$4)","v":0},{"$f":"LARGE(IF(AF!$D$6:$D$105=Team!$D26,AF!$X$6:$X$105,0),Team!U$4)","v":0},{"$f":"LARGE(IF(JF!$D$6:$D$105=Team!$D26,JF!$X$6:$X$105,0),Team!V$4)","v":0},{"$f":"LARGE(IF(JF!$D$6:$D$105=Team!$D26,JF!$X$6:$X$105,0),Team!W$4)","v":0},{"$f":"LARGE(IF(JF!$D$6:$D$105=Team!$D26,JF!$X$6:$X$105,0),Team!X$4)","v":0},{"$f":"LARGE(IF(DM!$D$6:$D$104=Team!$D26,DM!$X$6:$X$104,0),Team!Y$4)","v":0},{"$f":"LARGE(IF(DM!$D$6:$D$104=Team!$D26,DM!$X$6:$X$104,0),Team!Z$4)","v":0},{"$f":"LARGE(IF(DM!$D$6:$D$104=Team!$D26,DM!$X$6:$X$104,0),Team!AA$4)","v":0},{"$f":"LARGE(IF(CM!$D$6:$D$102=Team!$D26,CM!$X$6:$X$102,0),Team!AB$4)","v":0},{"$f":"LARGE(IF(CM!$D$6:$D$102=Team!$D26,CM!$X$6:$X$102,0),Team!AC$4)","v":0},{"$f":"LARGE(IF(CM!$D$6:$D$102=Team!$D26,CM!$X$6:$X$102,0),Team!AD$4)","v":0},{"$f":"LARGE(IF(BM!$D$6:$D$103=Team!$D26,BM!$X$6:$X$103,0),Team!AE$4)","v":0},{"$f":"LARGE(IF(BM!$D$6:$D$103=Team!$D26,BM!$X$6:$X$103,0),Team!AF$4)","v":0},{"$f":"LARGE(IF(BM!$D$6:$D$103=Team!$D26,BM!$X$6:$X$103,0),Team!AG$4)","v":0},{"$f":"LARGE(IF(AM!$D$6:$D$105=Team!$D26,AM!$X$6:$X$105,0),Team!AH$4)","v":0},{"$f":"LARGE(IF(AM!$D$6:$D$105=Team!$D26,AM!$X$6:$X$105,0),Team!AI$4)","v":0},{"$f":"LARGE(IF(AM!$D$6:$D$105=Team!$D26,AM!$X$6:$X$105,0),Team!AJ$4)","v":0},{"$f":"LARGE(IF(JM!$D$6:$D$105=Team!$D26,JM!$X$6:$X$105,0),Team!AK$4)","v":0},{"$f":"LARGE(IF(JM!$D$6:$D$105=Team!$D26,JM!$X$6:$X$105,0),Team!AL$4)","v":0},{"$f":"LARGE(IF(JM!$D$6:$D$105=Team!$D26,JM!$X$6:$X$105,0),Team!AM$4)","v":0}]
[{"$f":"RANK(G27,$G$5:$G$37)","v":12},"Competition Team Luxembourg","LUX","LUX",0,0,0,null,null,{"$f":"LARGE(IF(DF!$D$6:$D$105=Team!$D27,DF!$X$6:$X$105,0),Team!J$4)","v":0},{"$f":"LARGE(IF(DF!$D$6:$D$105=Team!$D27,DF!$X$6:$X$105,0),Team!K$4)","v":0},{"$f":"LARGE(IF(DF!$D$6:$D$105=Team!$D27,DF!$X$6:$X$105,0),Team!L$4)","v":0},{"$f":"LARGE(IF(CF!$D$6:$D$105=Team!$D27,CF!$X$6:$X$105,0),Team!M$4)","v":0},{"$f":"LARGE(IF(CF!$D$6:$D$105=Team!$D27,CF!$X$6:$X$105,0),Team!N$4)","v":0},{"$f":"LARGE(IF(CF!$D$6:$D$105=Team!$D27,CF!$X$6:$X$105,0),Team!O$4)","v":0},{"$f":"LARGE(IF(BF!$D$6:$D$105=Team!$D27,BF!$X$6:$X$105,0),Team!P$4)","v":0},{"$f":"LARGE(IF(BF!$D$6:$D$105=Team!$D27,BF!$X$6:$X$105,0),Team!Q$4)","v":0},{"$f":"LARGE(IF(BF!$D$6:$D$105=Team!$D27,BF!$X$6:$X$105,0),Team!R$4)","v":0},{"$f":"LARGE(IF(AF!$D$6:$D$105=Team!$D27,AF!$X$6:$X$105,0),Team!S$4)","v":0},{"$f":"LARGE(IF(AF!$D$6:$D$105=Team!$D27,AF!$X$6:$X$105,0),Team!T$4)","v":0},{"$f":"LARGE(IF(AF!$D$6:$D$105=Team!$D27,AF!$X$6:$X$105,0),Team!U$4)","v":0},{"$f":"LARGE(IF(JF!$D$6:$D$105=Team!$D27,JF!$X$6:$X$105,0),Team!V$4)","v":0},{"$f":"LARGE(IF(JF!$D$6:$D$105=Team!$D27,JF!$X$6:$X$105,0),Team!W$4)","v":0},{"$f":"LARGE(IF(JF!$D$6:$D$105=Team!$D27,JF!$X$6:$X$105,0),Team!X$4)","v":0},{"$f":"LARGE(IF(DM!$D$6:$D$104=Team!$D27,DM!$X$6:$X$104,0),Team!Y$4)","v":0},{"$f":"LARGE(IF(DM!$D$6:$D$104=Team!$D27,DM!$X$6:$X$104,0),Team!Z$4)","v":0},{"$f":"LARGE(IF(DM!$D$6:$D$104=Team!$D27,DM!$X$6:$X$104,0),Team!AA$4)","v":0},{"$f":"LARGE(IF(CM!$D$6:$D$102=Team!$D27,CM!$X$6:$X$102,0),Team!AB$4)","v":0},{"$f":"LARGE(IF(CM!$D$6:$D$102=Team!$D27,CM!$X$6:$X$102,0),Team!AC$4)","v":0},{"$f":"LARGE(IF(CM!$D$6:$D$102=Team!$D27,CM!$X$6:$X$102,0),Team!AD$4)","v":0},{"$f":"LARGE(IF(BM!$D$6:$D$103=Team!$D27,BM!$X$6:$X$103,0),Team!AE$4)","v":0},{"$f":"LARGE(IF(BM!$D$6:$D$103=Team!$D27,BM!$X$6:$X$103,0),Team!AF$4)","v":0},{"$f":"LARGE(IF(BM!$D$6:$D$103=Team!$D27,BM!$X$6:$X$103,0),Team!AG$4)","v":0},{"$f":"LARGE(IF(AM!$D$6:$D$105=Team!$D27,AM!$X$6:$X$105,0),Team!AH$4)","v":0},{"$f":"LARGE(IF(AM!$D$6:$D$105=Team!$D27,AM!$X$6:$X$105,0),Team!AI$4)","v":0},{"$f":"LARGE(IF(AM!$D$6:$D$105=Team!$D27,AM!$X$6:$X$105,0),Team!AJ$4)","v":0},{"$f":"LARGE(IF(JM!$D$6:$D$105=Team!$D27,JM!$X$6:$X$105,0),Team!AK$4)","v":0},{"$f":"LARGE(IF(JM!$D$6:$D$105=Team!$D27,JM!$X$6:$X$105,0),Team!AL$4)","v":0},{"$f":"LARGE(IF(JM!$D$6:$D$105=Team!$D27,JM!$X$6:$X$105,0),Team!AM$4)","v":0}]
[12,"Neoliet","NL","NEO",0,0,0,null,null,{"$f":"LARGE(IF(DF!$D$6:$D$105=Team!$D28,DF!$X$6:$X$105,0),Team!J$4)","v":0},{"$f":"LARGE(IF(DF!$D$6:$D$105=Team!$D28,DF!$X$6:$X$105,0),Team!K$4)","v":0},{"$f":"LARGE(IF(DF!$D$6:$D$105=Team!$D28,DF!$X$6:$X$105,0),Team!L$4)","v":0},{"$f":"LARGE(IF(CF!$D$6:$D$105=Team!$D28,CF!$X$6:$X$105,0),Team!M$4)","v":0},{"$f":"LARGE(IF(CF!$D$6:$D$105=Team!$D28,CF!$X$6:$X$105,0),Team!N$4)","v":0},{"$f":"LARGE(IF(CF!$D$6:$D$105=Team!$D28,CF!$X$6:$X$105,0),Team!O$4)","v":0},{"$f":"LARGE(IF(BF!$D$6:$D$105=Team!$D28,BF!$X$6:$X$105,0),Team!P$4)","v":0},{"$f":"LARGE(IF(BF!$D$6:$D$105=Team!$D28,BF!$X$6:$X$105,0),Team!Q$4)","v":0},{"$f":"LARGE(IF(BF!$D$6:$D$105=Team!$D28,BF!$X$6:$X$105,0),Team!R$4)","v":0},{"$f":"LARGE(IF(AF!$D$6:$D$105=Team!$D28,AF!$X$6:$X$105,0),Team!S$4)","v":0},{"$f":"LARGE(IF(AF!$D$6:$D$105=Team!$D28,AF!$X$6:$X$105,0),Team!T$4)","v":0},{"$f":"LARGE(IF(AF!$D$6:$D$105=Team!$D28,AF!$X$6:$X$105,0),Team!U$4)","v":0},{"$f":"LARGE(IF(JF!$D$6:$D$105=Team!$D28,JF!$X$6:$X$105,0),Team!V$4)","v":0},{"$f":"LARGE(IF(JF!$D$6:$D$105=Team!$D28,JF!$X$6:$X$105,0),Team!W$4)","v":0},{"$f":"LARGE(IF(JF!$D$6:$D$105=Team!$D28,JF!$X$6:$X$105,0),Team!X$4)","v":0},{"$f":"LARGE(IF(DM!$D$6:$D$104=Team!$D28,DM!$X$6:$X$104,0),Team!Y$4)","v":0},{"$f":"LARGE(IF(DM!$D$6:$D$104=Team!$D28,DM!$X$6:$X$104,0),Team!Z$4)","v":0},{"$f":"LARGE(IF(DM!$D$6:$D$104=Team!$D28,DM!$X$6:$X$104,0),Team!AA$4)","v":0},{"$f":"LARGE(IF(CM!$D$6:$D$102=Team!$D28,CM!$X$6:$X$102,0),Team!AB$4)","v":0},{"$f":"LARGE(IF(CM!$D$6:$D$102=Team!$D28,CM!$X$6:$X$102,0),Team!AC$4)","v":0},{"$f":"LARGE(IF(CM!$D$6:$D$102=Team!$D28,CM!$X$6:$X$102,0),Team!AD$4)","v":0},{"$f":"LARGE(IF(BM!$D$6:$D$103=Team!$D28,BM!$X$6:$X$103,0),Team!AE$4)","v":0},{"$f":"LARGE(IF(BM!$D$6:$D$103=Team!$D28,BM!$X$6:$X$103,0),Team!AF$4)","v":0},{"$f":"LARGE(IF(BM!$D$6:$D$103=Team!$D28,BM!$X$6:$X$103,0),Team!AG$4)","v":0},{"$f":"LARGE(IF(AM!$D$6:$D$105=Team!$D28,AM!$X$6:$X$105,0),Team!AH$4)","v":0},{"$f":"LARGE(IF(AM!$D$6:$D$105=Team!$D28,AM!$X$6:$X$105,0),Team!AI$4)","v":0},{"$f":"LARGE(IF(AM!$D$6:$D$105=Team!$D28,AM!$X$6:$X$105,0),Team!AJ$4)","v":0},{"$f":"LARGE(IF(JM!$D$6:$D$105=Team!$D28,JM!$X$6:$X$105,0),Team!AK$4)","v":0},{"$f":"LARGE(IF(JM!$D$6:$D$105=Team!$D28,JM!$X$6:$X$105,0),Team!AL$4)","v":0},{"$f":"LARGE(IF(JM!$D$6:$D$105=Team!$D28,JM!$X$6:$X$105,0),Team!AM$4)","v":0}]
[8,"Roc Evasion Jambes","BE","REJ",55,102,157,null,null,{"$f":"LARGE(IF(DF!$D$6:$D$105=Team!$D29,DF!$X$6:$X$105,0),Team!J$4)","v":55},{"$f":"LARGE(IF(DF!$D$6:$D$105=Team!$D29,DF!$X$6:$X$105,0),Team!K$4)","v":47},{"$f":"LARGE(IF(DF!$D$6:$D$105=Team!$D29,DF!$X$6:$X$105,0),Team!L$4)","v":0},{"$f":"LARGE(IF(CF!$D$6:$D$105=Team!$D29,CF!$X$6:$X$105,0),Team!M$4)","v":0},{"$f":"LARGE(IF(CF!$D$6:$D$105=Team!$D29,CF!$X$6:$X$105,0),Team!N$4)","v":0},{"$f":"LARGE(IF(CF!$D$6:$D$105=Team!$D29,CF!$X$6:$X$105,0),Team!O$4)","v":0},{"$f":"LARGE(IF(BF!$D$6:$D$105=Team!$D29,BF!$X$6:$X$105,0),Team!P$4)","v":0},{"$f":"LARGE(IF(BF!$D$6:$D$105=Team!$D29,BF!$X$6:$X$105,0),Team!Q$4)","v":0},{"$f":"LARGE(IF(BF!$D$6:$D$105=Team!$D29,BF!$X$6:$X$105,0),Team!R$4)","v":0},{"$f":"LARGE(IF(AF!$D$6:$D$105=Team!$D29,AF!$X$6:$X$105,0),Team!S$4)","v":0},{"$f":"LARGE(IF(AF!$D$6:$D$105=Team!$D29,AF!$X$6:$X$105,0),Team!T$4)","v":0},{"$f":"LARGE(IF(AF!$D$6:$D$105=Team!$D29,AF!$X$6:$X$105,0),Team!U$4)","v":0},{"$f":"LARGE(IF(JF!$D$6:$D$105=Team!$D29,JF!$X$6:$X$105,0),Team!V$4)","v":0},{"$f":"LARGE(IF(JF!$D$6:$D$105=Team!$D29,JF!$X$6:$X$105,0),Team!W$4)","v":0},{"$f":"LARGE(IF(JF!$D$6:$D$105=Team!$D29,JF!$X$6:$X$105,0),Team!X$4)","v":0},{"$f":"LARGE(IF(DM!$D$6:$D$104=Team!$D29,DM!$X$6:$X$104,0),Team!Y$4)","v":0},{"$f":"LARGE(IF(DM!$D$6:$D$104=Team!$D29,DM!$X$6:$X$104,0),Team!Z$4)","v":0},{"$f":"LARGE(IF(DM!$D$6:$D$104=Team!$D29,DM!$X$6:$X$104,0),Team!AA$4)","v":0},{"$f":"LARGE(IF(CM!$D$6:$D$102=Team!$D29,CM!$X$6:$X$102,0),Team!AB$4)","v":0},{"$f":"LARGE(IF(CM!$D$6:$D$102=Team!$D29,CM!$X$6:$X$102,0),Team!AC$4)","v":0},{"$f":"LARGE(IF(CM!$D$6:$D$102=Team!$D29,CM!$X$6:$X$102,0),Team!AD$4)","v":0},{"$f":"LARGE(IF(BM!$D$6:$D$103=Team!$D29,BM!$X$6:$X$103,0),Team!AE$4)","v":55},{"$f":"LARGE(IF(BM!$D$6:$D$103=Team!$D29,BM!$X$6:$X$103,0),Team!AF$4)","v":0},{"$f":"LARGE(IF(BM!$D$6:$D$103=Team!$D29,BM!$X$6:$X$103,0),Team!AG$4)","v":0},{"$f":"LARGE(IF(AM!$D$6:$D$105=Team!$D29,AM!$X$6:$X$105,0),Team!AH$4)","v":0},{"$f":"LARGE(IF(AM!$D$6:$D$105=Team!$D29,AM!$X$6:$X$105,0),Team!AI$4)","v":0},{"$f":"LARGE(IF(AM!$D$6:$D$105=Team!$D29,AM!$X$6:$X$105,0),Team!AJ$4)","v":0},{"$f":"LARGE(IF(JM!$D$6:$D$105=Team!$D29,JM!$X$6:$X$105,0),Team!AK$4)","v":0},{"$f":"LARGE(IF(JM!$D$6:$D$105=Team!$D29,JM!$X$6:$X$105,0),Team!AL$4)","v":0},{"$f":"LARGE(IF(JM!$D$6:$D$105=Team!$D29,JM!$X$6:$X$105,0),Team!AM$4)","v":0}]
[3,"Stone Climbing Factory","BE","STC",280,225,505,null,null,{"$f":"LARGE(IF(DF!$D$6:$D$105=Team!$D30,DF!$X$6:$X$105,0),Team!J$4)","v":0},{"$f":"LARGE(IF(DF!$D$6:$D$105=Team!$D30,DF!$X$6:$X$105,0),Team!K$4)","v":0},{"$f":"LARGE(IF(DF!$D$6:$D$105=Team!$D30,DF!$X$6:$X$105,0),Team!L$4)","v":0},{"$f":"LARGE(IF(CF!$D$6:$D$105=Team!$D30,CF!$X$6:$X$105,0),Team!M$4)","v":0},{"$f":"LARGE(IF(CF!$D$6:$D$105=Team!$D30,CF!$X$6:$X$105,0),Team!N$4)","v":0},{"$f":"LARGE(IF(CF!$D$6:$D$105=Team!$D30,CF!$X$6:$X$105,0),Team!O$4)","v":0},{"$f":"LARGE(IF(BF!$D$6:$D$105=Team!$D30,BF!$X$6:$X$105,0),Team!P$4)","v":80},{"$f":"LARGE(IF(BF!$D$6:$D$105=Team!$D30,BF!$X$6:$X$105,0),Team!Q$4)","v":0},{"$f":"LARGE(IF(BF!$D$6:$D$105=Team!$D30,BF!$X$6:$X$105,0),Team!R$4)","v":0},{"$f":"LARGE(IF(AF!$D$6:$D$105=Team!$D30,AF!$X$6:$X$105,0),Team!S$4)","v":80},{"$f":"LARGE(IF(AF!$D$6:$D$105=Team!$D30,AF!$X$6:$X$105,0),Team!T$4)","v":65},{"$f":"LARGE(IF(AF!$D$6:$D$105=Team!$D30,AF!$X$6:$X$105,0),Team!U$4)","v":47},{"$f":"LARGE(IF(JF!$D$6:$D$105=Team!$D30,JF!$X$6:$X$105,0),Team!V$4)","v":65},{"$f":"LARGE(IF(JF!$D$6:$D$105=Team!$D30,JF!$X$6:$X$105,0),Team!W$4)","v":0},{"$f":"LARGE(IF(JF!$D$6:$D$105=Team!$D30,JF!$X$6:$X$105,0),Team!X$4)","v":0},{"$f":"LARGE(IF(DM!$D$6:$D$104=Team!$D30,DM!$X$6:$X$104,0),Team!Y$4)","v":80},{"$f":"LARGE(IF(DM!$D$6:$D$104=Team!$D30,DM!$X$6:$X$104,0),Team!Z$4)","v":0},{"$f":"LARGE(IF(DM!$D$6:$D$104=Team!$D30,DM!$X$6:$X$104,0),Team!AA$4)","v":0},{"$f":"LARGE(IF(CM!$D$6:$D$102=Team!$D30,CM!$X$6:$X$102,0),Team!AB$4)","v":80},{"$f":"LARGE(IF(CM!$D$6:$D$102=Team!$D30,CM!$X$6:$X$102,0),Team!AC$4)","v":43},{"$f":"LARGE(IF(CM!$D$6:$D$102=Team!$D30,CM!$X$6:$X$102,0),Team!AD$4)","v":0},{"$f":"LARGE(IF(BM!$D$6:$D$103=Team!$D30,BM!$X$6:$X$103,0),Team!AE$4)","v":100},{"$f":"LARGE(IF(BM!$D$6:$D$103=Team!$D30,BM!$X$6:$X$103,0),Team!AF$4)","v":20},{"$f":"LARGE(IF(BM!$D$6:$D$103=Team!$D30,BM!$X$6:$X$103,0),Team!AG$4)","v":0},{"$f":"LARGE(IF(AM!$D$6:$D$105=Team!$D30,AM!$X$6:$X$105,0),Team!AH$4)","v":43},{"$f":"LARGE(IF(AM!$D$6:$D$105=Team!$D30,AM!$X$6:$X$105,0),Team!AI$4)","v":35.5},{"$f":"LARGE(IF(AM!$D$6:$D$105=Team!$D30,AM!$X$6:$X$105,0),Team!AJ$4)","v":28},{"$f":"LARGE(IF(JM!$D$6:$D$105=Team!$D30,JM!$X$6:$X$105,0),Team!AK$4)","v":100},{"$f":"LARGE(IF(JM!$D$6:$D$105=Team!$D30,JM!$X$6:$X$105,0),Team!AL$4)","v":0},{"$f":"LARGE(IF(JM!$D$6:$D$105=Team!$D30,JM!$X$6:$X$105,0),Team!AM$4)","v":0}]
[{"$f":"RANK(G31,$G$5:$G$37)","v":12},"Serac","??","SER",0,0,0,null,null,{"$f":"LARGE(IF(DF!$D$6:$D$105=Team!$D31,DF!$X$6:$X$105,0),Team!J$4)","v":0},{"$f":"LARGE(IF(DF!$D$6:$D$105=Team!$D31,DF!$X$6:$X$105,0),Team!K$4)","v":0},{"$f":"LARGE(IF(DF!$D$6:$D$105=Team!$D31,DF!$X$6:$X$105,0),Team!L$4)","v":0},{"$f":"LARGE(IF(CF!$D$6:$D$105=Team!$D31,CF!$X$6:$X$105,0),Team!M$4)","v":0},{"$f":"LARGE(IF(CF!$D$6:$D$105=Team!$D31,CF!$X$6:$X$105,0),Team!N$4)","v":0},{"$f":"LARGE(IF(CF!$D$6:$D$105=Team!$D31,CF!$X$6:$X$105,0),Team!O$4)","v":0},{"$f":"LARGE(IF(BF!$D$6:$D$105=Team!$D31,BF!$X$6:$X$105,0),Team!P$4)","v":0},{"$f":"LARGE(IF(BF!$D$6:$D$105=Team!$D31,BF!$X$6:$X$105,0),Team!Q$4)","v":0},{"$f":"LARGE(IF(BF!$D$6:$D$105=Team!$D31,BF!$X$6:$X$105,0),Team!R$4)","v":0},{"$f":"LARGE(IF(AF!$D$6:$D$105=Team!$D31,AF!$X$6:$X$105,0),Team!S$4)","v":0},{"$f":"LARGE(IF(AF!$D$6:$D$105=Team!$D31,AF!$X$6:$X$105,0),Team!T$4)","v":0},{"$f":"LARGE(IF(AF!$D$6:$D$105=Team!$D31,AF!$X$6:$X$105,0),Team!U$4)","v":0},{"$f":"LARGE(IF(JF!$D$6:$D$105=Team!$D31,JF!$X$6:$X$105,0),Team!V$4)","v":0},{"$f":"LARGE(IF(JF!$D$6:$D$105=Team!$D31,JF!$X$6:$X$105,0),Team!W$4)","v":0},{"$f":"LARGE(IF(JF!$D$6:$D$105=Team!$D31,JF!$X$6:$X$105,0),Team!X$4)","v":0},{"$f":"LARGE(IF(DM!$D$6:$D$104=Team!$D31,DM!$X$6:$X$104,0),Team!Y$4)","v":0},{"$f":"LARGE(IF(DM!$D$6:$D$104=Team!$D31,DM!$X$6:$X$104,0),Team!Z$4)","v":0},{"$f":"LARGE(IF(DM!$D$6:$D$104=Team!$D31,DM!$X$6:$X$104,0),Team!AA$4)","v":0},{"$f":"LARGE(IF(CM!$D$6:$D$102=Team!$D31,CM!$X$6:$X$102,0),Team!AB$4)","v":0},{"$f":"LARGE(IF(CM!$D$6:$D$102=Team!$D31,CM!$X$6:$X$102,0),Team!AC$4)","v":0},{"$f":"LARGE(IF(CM!$D$6:$D$102=Team!$D31,CM!$X$6:$X$102,0),Team!AD$4)","v":0},{"$f":"LARGE(IF(BM!$D$6:$D$103=Team!$D31,BM!$X$6:$X$103,0),Team!AE$4)","v":0},{"$f":"LARGE(IF(BM!$D$6:$D$103=Team!$D31,BM!$X$6:$X$103,0),Team!AF$4)","v":0},{"$f":"LARGE(IF(BM!$D$6:$D$103=Team!$D31,BM!$X$6:$X$103,0),Team!AG$4)","v":0},{"$f":"LARGE(IF(AM!$D$6:$D$105=Team!$D31,AM!$X$6:$X$105,0),Team!AH$4)","v":0},{"$f":"LARGE(IF(AM!$D$6:$D$105=Team!$D31,AM!$X$6:$X$105,0),Team!AI$4)","v":0},{"$f":"LARGE(IF(AM!$D$6:$D$105=Team!$D31,AM!$X$6:$X$105,0),Team!AJ$4)","v":0},{"$f":"LARGE(IF(JM!$D$6:$D$105=Team!$D31,JM!$X$6:$X$105,0),Team!AK$4)","v":0},{"$f":"LARGE(IF(JM!$D$6:$D$105=Team!$D31,JM!$X$6:$X$105,0),Team!AL$4)","v":0},{"$f":"LARGE(IF(JM!$D$6:$D$105=Team!$D31,JM!$X$6:$X$105,0),Team!AM$4)","v":0}]
[12,"Spiderkids","BE","SK",0,0,0,null,null,{"$f":"LARGE(IF(DF!$D$6:$D$105=Team!$D32,DF!$X$6:$X$105,0),Team!J$4)","v":0},{"$f":"LARGE(IF(DF!$D$6:$D$105=Team!$D32,DF!$X$6:$X$105,0),Team!K$4)","v":0},{"$f":"LARGE(IF(DF!$D$6:$D$105=Team!$D32,DF!$X$6:$X$105,0),Team!L$4)","v":0},{"$f":"LARGE(IF(CF!$D$6:$D$105=Team!$D32,CF!$X$6:$X$105,0),Team!M$4)","v":0},{"$f":"LARGE(IF(CF!$D$6:$D$105=Team!$D32,CF!$X$6:$X$105,0),Team!N$4)","v":0},{"$f":"LARGE(IF(CF!$D$6:$D$105=Team!$D32,CF!$X$6:$X$105,0),Team!O$4)","v":0},{"$f":"LARGE(IF(BF!$D$6:$D$105=Team!$D32,BF!$X$6:$X$105,0),Team!P$4)","v":0},{"$f":"LARGE(IF(BF!$D$6:$D$105=Team!$D32,BF!$X$6:$X$105,0),Team!Q$4)","v":0},{"$f":"LARGE(IF(BF!$D$6:$D$105=Team!$D32,BF!$X$6:$X$105,0),Team!R$4)","v":0},{"$f":"LARGE(IF(AF!$D$6:$D$105=Team!$D32,AF!$X$6:$X$105,0),Team!S$4)","v":0},{"$f":"LARGE(IF(AF!$D$6:$D$105=Team!$D32,AF!$X$6:$X$105,0),Team!T$4)","v":0},{"$f":"LARGE(IF(AF!$D$6:$D$105=Team!$D32,AF!$X$6:$X$105,0),Team!U$4)","v":0},{"$f":"LARGE(IF(JF!$D$6:$D$105=Team!$D32,JF!$X$6:$X$105,0),Team!V$4)","v":0},{"$f":"LARGE(IF(JF!$D$6:$D$105=Team!$D32,JF!$X$6:$X$105,0),Team!W$4)","v":0},{"$f":"LARGE(IF(JF!$D$6:$D$105=Team!$D32,JF!$X$6:$X$105,0),Team!X$4)","v":0},{"$f":"LARGE(IF(DM!$D$6:$D$104=Team!$D32,DM!$X$6:$X$104,0),Team!Y$4)","v":0},{"$f":"LARGE(IF(DM!$D$6:$D$104=Team!$D32,DM!$X$6:$X$104,0),Team!Z$4)","v":0},{"$f":"LARGE(IF(DM!$D$6:$D$104=Team!$D32,DM!$X$6:$X$104,0),Team!AA$4)","v":0},{"$f":"LARGE(IF(CM!$D$6:$D$102=Team!$D32,CM!$X$6:$X$102,0),Team!AB$4)","v":0},{"$f":"LARGE(IF(CM!$D$6:$D$102=Team!$D32,CM!$X$6:$X$102,0),Team!AC$4)","v":0},{"$f":"LARGE(IF(CM!$D$6:$D$102=Team!$D32,CM!$X$6:$X$102,0),Team!AD$4)","v":0},{"$f":"LARGE(IF(BM!$D$6:$D$103=Team!$D32,BM!$X$6:$X$103,0),Team!AE$4)","v":0},{"$f":"LARGE(IF(BM!$D$6:$D$103=Team!$D32,BM!$X$6:$X$103,0),Team!AF$4)","v":0},{"$f":"LARGE(IF(BM!$D$6:$D$103=Team!$D32,BM!$X$6:$X$103,0),Team!AG$4)","v":0},{"$f":"LARGE(IF(AM!$D$6:$D$105=Team!$D32,AM!$X$6:$X$105,0),Team!AH$4)","v":0},{"$f":"LARGE(IF(AM!$D$6:$D$105=Team!$D32,AM!$X$6:$X$105,0),Team!AI$4)","v":0},{"$f":"LARGE(IF(AM!$D$6:$D$105=Team!$D32,AM!$X$6:$X$105,0),Team!AJ$4)","v":0},{"$f":"LARGE(IF(JM!$D$6:$D$105=Team!$D32,JM!$X$6:$X$105,0),Team!AK$4)","v":0},{"$f":"LARGE(IF(JM!$D$6:$D$105=Team!$D32,JM!$X$6:$X$105,0),Team!AL$4)","v":0},{"$f":"LARGE(IF(JM!$D$6:$D$105=Team!$D32,JM!$X$6:$X$105,0),Team!AM$4)","v":0}]
[12,"Shangri-la","BE","SL",0,0,0,null,null,{"$f":"LARGE(IF(DF!$D$6:$D$105=Team!$D33,DF!$X$6:$X$105,0),Team!J$4)","v":0},{"$f":"LARGE(IF(DF!$D$6:$D$105=Team!$D33,DF!$X$6:$X$105,0),Team!K$4)","v":0},{"$f":"LARGE(IF(DF!$D$6:$D$105=Team!$D33,DF!$X$6:$X$105,0),Team!L$4)","v":0},{"$f":"LARGE(IF(CF!$D$6:$D$105=Team!$D33,CF!$X$6:$X$105,0),Team!M$4)","v":0},{"$f":"LARGE(IF(CF!$D$6:$D$105=Team!$D33,CF!$X$6:$X$105,0),Team!N$4)","v":0},{"$f":"LARGE(IF(CF!$D$6:$D$105=Team!$D33,CF!$X$6:$X$105,0),Team!O$4)","v":0},{"$f":"LARGE(IF(BF!$D$6:$D$105=Team!$D33,BF!$X$6:$X$105,0),Team!P$4)","v":0},{"$f":"LARGE(IF(BF!$D$6:$D$105=Team!$D33,BF!$X$6:$X$105,0),Team!Q$4)","v":0},{"$f":"LARGE(IF(BF!$D$6:$D$105=Team!$D33,BF!$X$6:$X$105,0),Team!R$4)","v":0},{"$f":"LARGE(IF(AF!$D$6:$D$105=Team!$D33,AF!$X$6:$X$105,0),Team!S$4)","v":0},{"$f":"LARGE(IF(AF!$D$6:$D$105=Team!$D33,AF!$X$6:$X$105,0),Team!T$4)","v":0},{"$f":"LARGE(IF(AF!$D$6:$D$105=Team!$D33,AF!$X$6:$X$105,0),Team!U$4)","v":0},{"$f":"LARGE(IF(JF!$D$6:$D$105=Team!$D33,JF!$X$6:$X$105,0),Team!V$4)","v":0},{"$f":"LARGE(IF(JF!$D$6:$D$105=Team!$D33,JF!$X$6:$X$105,0),Team!W$4)","v":0},{"$f":"LARGE(IF(JF!$D$6:$D$105=Team!$D33,JF!$X$6:$X$105,0),Team!X$4)","v":0},{"$f":"LARGE(IF(DM!$D$6:$D$104=Team!$D33,DM!$X$6:$X$104,0),Team!Y$4)","v":0},{"$f":"LARGE(IF(DM!$D$6:$D$104=Team!$D33,DM!$X$6:$X$104,0),Team!Z$4)","v":0},{"$f":"LARGE(IF(DM!$D$6:$D$104=Team!$D33,DM!$X$6:$X$104,0),Team!AA$4)","v":0},{"$f":"LARGE(IF(CM!$D$6:$D$102=Team!$D33,CM!$X$6:$X$102,0),Team!AB$4)","v":0},{"$f":"LARGE(IF(CM!$D$6:$D$102=Team!$D33,CM!$X$6:$X$102,0),Team!AC$4)","v":0},{"$f":"LARGE(IF(CM!$D$6:$D$102=Team!$D33,CM!$X$6:$X$102,0),Team!AD$4)","v":0},{"$f":"LARGE(IF(BM!$D$6:$D$103=Team!$D33,BM!$X$6:$X$103,0),Team!AE$4)","v":0},{"$f":"LARGE(IF(BM!$D$6:$D$103=Team!$D33,BM!$X$6:$X$103,0),Team!AF$4)","v":0},{"$f":"LARGE(IF(BM!$D$6:$D$103=Team!$D33,BM!$X$6:$X$103,0),Team!AG$4)","v":0},{"$f":"LARGE(IF(AM!$D$6:$D$105=Team!$D33,AM!$X$6:$X$105,0),Team!AH$4)","v":0},{"$f":"LARGE(IF(AM!$D$6:$D$105=Team!$D33,AM!$X$6:$X$105,0),Team!AI$4)","v":0},{"$f":"LARGE(IF(AM!$D$6:$D$105=Team!$D33,AM!$X$6:$X$105,0),Team!AJ$4)","v":0},{"$f":"LARGE(IF(JM!$D$6:$D$105=Team!$D33,JM!$X$6:$X$105,0),Team!AK$4)","v":0},{"$f":"LARGE(IF(JM!$D$6:$D$105=Team!$D33,JM!$X$6:$X$105,0),Team!AL$4)","v":0},{"$f":"LARGE(IF(JM!$D$6:$D$105=Team!$D33,JM!$X$6:$X$105,0),Team!AM$4)","v":0}]
[12,"Top Climbing Holland","NL","TCH",0,0,0,null,null,{"$f":"LARGE(IF(DF!$D$6:$D$105=Team!$D34,DF!$X$6:$X$105,0),Team!J$4)","v":0},{"$f":"LARGE(IF(DF!$D$6:$D$105=Team!$D34,DF!$X$6:$X$105,0),Team!K$4)","v":0},{"$f":"LARGE(IF(DF!$D$6:$D$105=Team!$D34,DF!$X$6:$X$105,0),Team!L$4)","v":0},{"$f":"LARGE(IF(CF!$D$6:$D$105=Team!$D34,CF!$X$6:$X$105,0),Team!M$4)","v":0},{"$f":"LARGE(IF(CF!$D$6:$D$105=Team!$D34,CF!$X$6:$X$105,0),Team!N$4)","v":0},{"$f":"LARGE(IF(CF!$D$6:$D$105=Team!$D34,CF!$X$6:$X$105,0),Team!O$4)","v":0},{"$f":"LARGE(IF(BF!$D$6:$D$105=Team!$D34,BF!$X$6:$X$105,0),Team!P$4)","v":0},{"$f":"LARGE(IF(BF!$D$6:$D$105=Team!$D34,BF!$X$6:$X$105,0),Team!Q$4)","v":0},{"$f":"LARGE(IF(BF!$D$6:$D$105=Team!$D34,BF!$X$6:$X$105,0),Team!R$4)","v":0},{"$f":"LARGE(IF(AF!$D$6:$D$105=Team!$D34,AF!$X$6:$X$105,0),Team!S$4)","v":0},{"$f":"LARGE(IF(AF!$D$6:$D$105=Team!$D34,AF!$X$6:$X$105,0),Team!T$4)","v":0},{"$f":"LARGE(IF(AF!$D$6:$D$105=Team!$D34,AF!$X$6:$X$105,0),Team!U$4)","v":0},{"$f":"LARGE(IF(JF!$D$6:$D$105=Team!$D34,JF!$X$6:$X$105,0),Team!V$4)","v":0},{"$f":"LARGE(IF(JF!$D$6:$D$105=Team!$D34,JF!$X$6:$X$105,0),Team!W$4)","v":0},{"$f":"LARGE(IF(JF!$D$6:$D$105=Team!$D34,JF!$X$6:$X$105,0),Team!X$4)","v":0},{"$f":"LARGE(IF(DM!$D$6:$D$104=Team!$D34,DM!$X$6:$X$104,0),Team!Y$4)","v":0},{"$f":"LARGE(IF(DM!$D$6:$D$104=Team!$D34,DM!$X$6:$X$104,0),Team!Z$4)","v":0},{"$f":"LARGE(IF(DM!$D$6:$D$104=Team!$D34,DM!$X$6:$X$104,0),Team!AA$4)","v":0},{"$f":"LARGE(IF(CM!$D$6:$D$102=Team!$D34,CM!$X$6:$X$102,0),Team!AB$4)","v":0},{"$f":"LARGE(IF(CM!$D$6:$D$102=Team!$D34,CM!$X$6:$X$102,0),Team!AC$4)","v":0},{"$f":"LARGE(IF(CM!$D$6:$D$102=Team!$D34,CM!$X$6:$X$102,0),Team!AD$4)","v":0},{"$f":"LARGE(IF(BM!$D$6:$D$103=Team!$D34,BM!$X$6:$X$103,0),Team!AE$4)","v":0},{"$f":"LARGE(IF(BM!$D$6:$D$103=Team!$D34,BM!$X$6:$X$103,0),Team!AF$4)","v":0},{"$f":"LARGE(IF(BM!$D$6:$D$103=Team!$D34,BM!$X$6:$X$103,0),Team!AG$4)","v":0},{"$f":"LARGE(IF(AM!$D$6:$D$105=Team!$D34,AM!$X$6:$X$105,0),Team!AH$4)","v":0},{"$f":"LARGE(IF(AM!$D$6:$D$105=Team!$D34,AM!$X$6:$X$105,0),Team!AI$4)","v":0},{"$f":"LARGE(IF(AM!$D$6:$D$105=Team!$D34,AM!$X$6:$X$105,0),Team!AJ$4)","v":0},{"$f":"LARGE(IF(JM!$D$6:$D$105=Team!$D34,JM!$X$6:$X$105,0),Team!AK$4)","v":0},{"$f":"LARGE(IF(JM!$D$6:$D$105=Team!$D34,JM!$X$6:$X$105,0),Team!AL$4)","v":0},{"$f":"LARGE(IF(JM!$D$6:$D$105=Team!$D34,JM!$X$6:$X$105,0),Team!AM$4)","v":0}]
[{"$f":"RANK(G35,$G$5:$G$37)","v":12},"Top Rock","BE","TR",0,0,0,null,null,{"$f":"LARGE(IF(DF!$D$6:$D$105=Team!$D35,DF!$X$6:$X$105,0),Team!J$4)","v":0},{"$f":"LARGE(IF(DF!$D$6:$D$105=Team!$D35,DF!$X$6:$X$105,0),Team!K$4)","v":0},{"$f":"LARGE(IF(DF!$D$6:$D$105=Team!$D35,DF!$X$6:$X$105,0),Team!L$4)","v":0},{"$f":"LARGE(IF(CF!$D$6:$D$105=Team!$D35,CF!$X$6:$X$105,0),Team!M$4)","v":0},{"$f":"LARGE(IF(CF!$D$6:$D$105=Team!$D35,CF!$X$6:$X$105,0),Team!N$4)","v":0},{"$f":"LARGE(IF(CF!$D$6:$D$105=Team!$D35,CF!$X$6:$X$105,0),Team!O$4)","v":0},{"$f":"LARGE(IF(BF!$D$6:$D$105=Team!$D35,BF!$X$6:$X$105,0),Team!P$4)","v":0},{"$f":"LARGE(IF(BF!$D$6:$D$105=Team!$D35,BF!$X$6:$X$105,0),Team!Q$4)","v":0},{"$f":"LARGE(IF(BF!$D$6:$D$105=Team!$D35,BF!$X$6:$X$105,0),Team!R$4)","v":0},{"$f":"LARGE(IF(AF!$D$6:$D$105=Team!$D35,AF!$X$6:$X$105,0),Team!S$4)","v":0},{"$f":"LARGE(IF(AF!$D$6:$D$105=Team!$D35,AF!$X$6:$X$105,0),Team!T$4)","v":0},{"$f":"LARGE(IF(AF!$D$6:$D$105=Team!$D35,AF!$X$6:$X$105,0),Team!U$4)","v":0},{"$f":"LARGE(IF(JF!$D$6:$D$105=Team!$D35,JF!$X$6:$X$105,0),Team!V$4)","v":0},{"$f":"LARGE(IF(JF!$D$6:$D$105=Team!$D35,JF!$X$6:$X$105,0),Team!W$4)","v":0},{"$f":"LARGE(IF(JF!$D$6:$D$105=Team!$D35,JF!$X$6:$X$105,0),Team!X$4)","v":0},{"$f":"LARGE(IF(DM!$D$6:$D$104=Team!$D35,DM!$X$6:$X$104,0),Team!Y$4)","v":0},{"$f":"LARGE(IF(DM!$D$6:$D$104=Team!$D35,DM!$X$6:$X$104,0),Team!Z$4)","v":0},{"$f":"LARGE(IF(DM!$D$6:$D$104=Team!$D35,DM!$X$6:$X$104,0),Team!AA$4)","v":0},{"$f":"LARGE(IF(CM!$D$6:$D$102=Team!$D35,CM!$X$6:$X$102,0),Team!AB$4)","v":0},{"$f":"LARGE(IF(CM!$D$6:$D$102=Team!$D35,CM!$X$6:$X$102,0),Team!AC$4)","v":0},{"$f":"LARGE(IF(CM!$D$6:$D$102=Team!$D35,CM!$X$6:$X$102,0),Team!AD$4)","v":0},{"$f":"LARGE(IF(BM!$D$6:$D$103=Team!$D35,BM!$X$6:$X$103,0),Team!AE$4)","v":0},{"$f":"LARGE(IF(BM!$D$6:$D$103=Team!$D35,BM!$X$6:$X$103,0),Team!AF$4)","v":0},{"$f":"LARGE(IF(BM!$D$6:$D$103=Team!$D35,BM!$X$6:$X$103,0),Team!AG$4)","v":0},{"$f":"LARGE(IF(AM!$D$6:$D$105=Team!$D35,AM!$X$6:$X$105,0),Team!AH$4)","v":0},{"$f":"LARGE(IF(AM!$D$6:$D$105=Team!$D35,AM!$X$6:$X$105,0),Team!AI$4)","v":0},{"$f":"LARGE(IF(AM!$D$6:$D$105=Team!$D35,AM!$X$6:$X$105,0),Team!AJ$4)","v":0},{"$f":"LARGE(IF(JM!$D$6:$D$105=Team!$D35,JM!$X$6:$X$105,0),Team!AK$4)","v":0},{"$f":"LARGE(IF(JM!$D$6:$D$105=Team!$D35,JM!$X$6:$X$105,0),Team!AL$4)","v":0},{"$f":"LARGE(IF(JM!$D$6:$D$105=Team!$D35,JM!$X$6:$X$105,0),Team!AM$4)","v":0}]
[{"$f":"RANK(G36,$G$5:$G$37)","v":12},"Vertical Dancing","BE","VD",0,0,0,null,null,{"$f":"LARGE(IF(DF!$D$6:$D$105=Team!$D36,DF!$X$6:$X$105,0),Team!J$4)","v":0},{"$f":"LARGE(IF(DF!$D$6:$D$105=Team!$D36,DF!$X$6:$X$105,0),Team!K$4)","v":0},{"$f":"LARGE(IF(DF!$D$6:$D$105=Team!$D36,DF!$X$6:$X$105,0),Team!L$4)","v":0},{"$f":"LARGE(IF(CF!$D$6:$D$105=Team!$D36,CF!$X$6:$X$105,0),Team!M$4)","v":0},{"$f":"LARGE(IF(CF!$D$6:$D$105=Team!$D36,CF!$X$6:$X$105,0),Team!N$4)","v":0},{"$f":"LARGE(IF(CF!$D$6:$D$105=Team!$D36,CF!$X$6:$X$105,0),Team!O$4)","v":0},{"$f":"LARGE(IF(BF!$D$6:$D$105=Team!$D36,BF!$X$6:$X$105,0),Team!P$4)","v":0},{"$f":"LARGE(IF(BF!$D$6:$D$105=Team!$D36,BF!$X$6:$X$105,0),Team!Q$4)","v":0},{"$f":"LARGE(IF(BF!$D$6:$D$105=Team!$D36,BF!$X$6:$X$105,0),Team!R$4)","v":0},{"$f":"LARGE(IF(AF!$D$6:$D$105=Team!$D36,AF!$X$6:$X$105,0),Team!S$4)","v":0},{"$f":"LARGE(IF(AF!$D$6:$D$105=Team!$D36,AF!$X$6:$X$105,0),Team!T$4)","v":0},{"$f":"LARGE(IF(AF!$D$6:$D$105=Team!$D36,AF!$X$6:$X$105,0),Team!U$4)","v":0},{"$f":"LARGE(IF(JF!$D$6:$D$105=Team!$D36,JF!$X$6:$X$105,0),Team!V$4)","v":0},{"$f":"LARGE(IF(JF!$D$6:$D$105=Team!$D36,JF!$X$6:$X$105,0),Team!W$4)","v":0},{"$f":"LARGE(IF(JF!$D$6:$D$105=Team!$D36,JF!$X$6:$X$105,0),Team!X$4)","v":0},{"$f":"LARGE(IF(DM!$D$6:$D$104=Team!$D36,DM!$X$6:$X$104,0),Team!Y$4)","v":0},{"$f":"LARGE(IF(DM!$D$6:$D$104=Team!$D36,DM!$X$6:$X$104,0),Team!Z$4)","v":0},{"$f":"LARGE(IF(DM!$D$6:$D$104=Team!$D36,DM!$X$6:$X$104,0),Team!AA$4)","v":0},{"$f":"LARGE(IF(CM!$D$6:$D$102=Team!$D36,CM!$X$6:$X$102,0),Team!AB$4)","v":0},{"$f":"LARGE(IF(CM!$D$6:$D$102=Team!$D36,CM!$X$6:$X$102,0),Team!AC$4)","v":0},{"$f":"LARGE(IF(CM!$D$6:$D$102=Team!$D36,CM!$X$6:$X$102,0),Team!AD$4)","v":0},{"$f":"LARGE(IF(BM!$D$6:$D$103=Team!$D36,BM!$X$6:$X$103,0),Team!AE$4)","v":0},{"$f":"LARGE(IF(BM!$D$6:$D$103=Team!$D36,BM!$X$6:$X$103,0),Team!AF$4)","v":0},{"$f":"LARGE(IF(BM!$D$6:$D$103=Team!$D36,BM!$X$6:$X$103,0),Team!AG$4)","v":0},{"$f":"LARGE(IF(AM!$D$6:$D$105=Team!$D36,AM!$X$6:$X$105,0),Team!AH$4)","v":0},{"$f":"LARGE(IF(AM!$D$6:$D$105=Team!$D36,AM!$X$6:$X$105,0),Team!AI$4)","v":0},{"$f":"LARGE(IF(AM!$D$6:$D$105=Team!$D36,AM!$X$6:$X$105,0),Team!AJ$4)","v":0},{"$f":"LARGE(IF(JM!$D$6:$D$105=Team!$D36,JM!$X$6:$X$105,0),Team!AK$4)","v":0},{"$f":"LARGE(IF(JM!$D$6:$D$105=Team!$D36,JM!$X$6:$X$105,0),Team!AL$4)","v":0},{"$f":"LARGE(IF(JM!$D$6:$D$105=Team!$D36,JM!$X$6:$X$105,0),Team!AM$4)","v":0}]
[12,"YMOG Gulpen","NL","YG",0,0,0,null,null,{"$f":"LARGE(IF(DF!$D$6:$D$105=Team!$D37,DF!$X$6:$X$105,0),Team!J$4)","v":0},{"$f":"LARGE(IF(DF!$D$6:$D$105=Team!$D37,DF!$X$6:$X$105,0),Team!K$4)","v":0},{"$f":"LARGE(IF(DF!$D$6:$D$105=Team!$D37,DF!$X$6:$X$105,0),Team!L$4)","v":0},{"$f":"LARGE(IF(CF!$D$6:$D$105=Team!$D37,CF!$X$6:$X$105,0),Team!M$4)","v":0},{"$f":"LARGE(IF(CF!$D$6:$D$105=Team!$D37,CF!$X$6:$X$105,0),Team!N$4)","v":0},{"$f":"LARGE(IF(CF!$D$6:$D$105=Team!$D37,CF!$X$6:$X$105,0),Team!O$4)","v":0},{"$f":"LARGE(IF(BF!$D$6:$D$105=Team!$D37,BF!$X$6:$X$105,0),Team!P$4)","v":0},{"$f":"LARGE(IF(BF!$D$6:$D$105=Team!$D37,BF!$X$6:$X$105,0),Team!Q$4)","v":0},{"$f":"LARGE(IF(BF!$D$6:$D$105=Team!$D37,BF!$X$6:$X$105,0),Team!R$4)","v":0},{"$f":"LARGE(IF(AF!$D$6:$D$105=Team!$D37,AF!$X$6:$X$105,0),Team!S$4)","v":0},{"$f":"LARGE(IF(AF!$D$6:$D$105=Team!$D37,AF!$X$6:$X$105,0),Team!T$4)","v":0},{"$f":"LARGE(IF(AF!$D$6:$D$105=Team!$D37,AF!$X$6:$X$105,0),Team!U$4)","v":0},{"$f":"LARGE(IF(JF!$D$6:$D$105=Team!$D37,JF!$X$6:$X$105,0),Team!V$4)","v":0},{"$f":"LARGE(IF(JF!$D$6:$D$105=Team!$D37,JF!$X$6:$X$105,0),Team!W$4)","v":0},{"$f":"LARGE(IF(JF!$D$6:$D$105=Team!$D37,JF!$X$6:$X$105,0),Team!X$4)","v":0},{"$f":"LARGE(IF(DM!$D$6:$D$104=Team!$D37,DM!$X$6:$X$104,0),Team!Y$4)","v":0},{"$f":"LARGE(IF(DM!$D$6:$D$104=Team!$D37,DM!$X$6:$X$104,0),Team!Z$4)","v":0},{"$f":"LARGE(IF(DM!$D$6:$D$104=Team!$D37,DM!$X$6:$X$104,0),Team!AA$4)","v":0},{"$f":"LARGE(IF(CM!$D$6:$D$102=Team!$D37,CM!$X$6:$X$102,0),Team!AB$4)","v":0},{"$f":"LARGE(IF(CM!$D$6:$D$102=Team!$D37,CM!$X$6:$X$102,0),Team!AC$4)","v":0},{"$f":"LARGE(IF(CM!$D$6:$D$102=Team!$D37,CM!$X$6:$X$102,0),Team!AD$4)","v":0},{"$f":"LARGE(IF(BM!$D$6:$D$103=Team!$D37,BM!$X$6:$X$103,0),Team!AE$4)","v":0},{"$f":"LARGE(IF(BM!$D$6:$D$103=Team!$D37,BM!$X$6:$X$103,0),Team!AF$4)","v":0},{"$f":"LARGE(IF(BM!$D$6:$D$103=Team!$D37,BM!$X$6:$X$103,0),Team!AG$4)","v":0},{"$f":"LARGE(IF(AM!$D$6:$D$105=Team!$D37,AM!$X$6:$X$105,0),Team!AH$4)","v":0},{"$f":"LARGE(IF(AM!$D$6:$D$105=Team!$D37,AM!$X$6:$X$105,0),Team!AI$4)","v":0},{"$f":"LARGE(IF(AM!$D$6:$D$105=Team!$D37,AM!$X$6:$X$105,0),Team!AJ$4)","v":0},{"$f":"LARGE(IF(JM!$D$6:$D$105=Team!$D37,JM!$X$6:$X$105,0),Team!AK$4)","v":0},{"$f":"LARGE(IF(JM!$D$6:$D$105=Team!$D37,JM!$X$6:$X$105,0),Team!AL$4)","v":0},{"$f":"LARGE(IF(JM!$D$6:$D$105=Team!$D37,JM!$X$6:$X$105,0),Team!AM$4)","v":0}]

{"sheet":"Points team et quota finales","index":13,"n_rows":34,"n_cols":7,"rows_kept":34,"cut":false,"hidden":false,"merged":[[2,1,2,2],[1,1,1,2],[1,4,1,6]]}
[]
[null,"Points team",null,null,"QUOTA finales"]
[null,"Référence des points",null,null,"nombre inscrits",null,"nombre finalistes"]
[null,"RANG","POINTS",null,1,0.6,1]
[null,1,100,null,2,1.2,2]
[null,2,80,null,3,1.8,3]
[null,3,65,null,4,2.4,3]
[null,4,55,null,5,3,3]
[null,5,51,null,6,3.6,4]
[null,6,47,null,7,4.2,4]
[null,7,43,null,8,4.8,5]
[null,8,40,null,9,5.4,5]
[null,9,37,null,10,6,6]
[null,10,34,null,11,6.6,7]
[null,11,31,null,12,7.2,7]
[null,12,28,null,13,7.8,8]
[null,13,26,null,14,8.4,8]
[null,14,24]
[null,15,22]
[null,16,20]
[null,17,18]
[null,18,16]
[null,19,14]
[null,20,12]
[null,21,10]
[null,22,9]
[null,23,8]
[null,24,7]
[null,25,6]
[null,26,5]
[null,27,4]
[null,28,3]
[null,29,2]
[null,30,1]

{"sheet":"Overview","index":14,"n_rows":36,"n_cols":7,"rows_kept":36,"cut":false,"hidden":false,"merged":[]}
[{"$f":"General!$B$5","v":"Youth Lead Championship 09-03-2013"}]
[]
["DF",null,null,null,"DM"]
[1,"DELCOIGNE Lucie","CC",null,1,"VAN MALDEREN Jasper","KLI"]
[2,"TILBORGHS Charlène","KLI",null,2,"FERRARI Luca","STC"]
[3,"VANDERSTRAETEN Justine","CC",null,3,"VANCRAEYNEST Ties","KLI"]
[]
["CF",null,null,null,"CM"]
[1,"TILBORGHS Cathinka","KLI",null,1,"PEETERS Harold","CC"]
[2,"DEGUEE Manon","ESC",null,2,"DEBRULLE Louis","STC"]
[3,"STEVENS Laure-Anne","KLI",null,3,"BAUDOUIN Lionel","BMC"]
[]
["BF PARA",null,null,null,"BM"]
[1,"VANDENHOVEN Pavitra","KLI",null,1,"COLLIN Nicolas","STC"]
[null,null,null,null,2,"ANSION Arnaud","ESC"]
["BF",null,null,null,3,"MATHEYS Merlin","ESC"]
[1,"CUYPERS Celine","KLI"]
[2,"GILLART Maëlys","STC",null,"AM"]
[3,"DOUMONT Héloïse","ARE",null,1,"VANCAYZEELE Nicolas","CC"]
[null,null,null,null,2,"KLASSEN Jacques","ESC"]
["AF",null,null,null,3,"LORENZI Simon","CC"]
[1,"VERHOEVEN Anak","KLI"]
[2,"CAULIER Chloé","STC",null,"JM"]
[3,"VERHAEREN Margot","STC",null,1,"TIMMERMANS Loïc","STC"]
[null,null,null,null,2,"GEUKENS Lukas","HUN"]
["JF",null,null,null,3,"SALAKENOS Thomas","ECT"]
[1,"GUERIT Emilie","CC"]
[2,"MATHEYS Manon","ESC"]
[3,"DUTRIEUX Ninon","STC"]
[]
["TEAM"]
[1,"Climb Cool",530]
[2,"Klimax",520]
[3,"Stone Climbing Factory",505]
[4,"Escale",440]
[5,"KC Hungaria",279]

{"sheet":"Teams flat","index":15,"n_rows":11,"n_cols":3,"rows_kept":11,"cut":false,"hidden":false,"merged":[]}
[1,"Climb Cool",530]
[2,"Klimax",520]
[3,"Stone Climbing Factory",505]
[4,"Escale",440]
[5,"KC Hungaria",279]
[6,"ECT",243]
[7,"Gecko Tank",229]
[8,"Roc Evasion Jambes",157]
[9,"Brussels Monkeys Climbing",156]
[10,"Area",142]
[11,"Bleau Climbing Team",51]